BEGIN:VCALENDAR
VERSION:2.0
PRODID:-//Presque Isle Wisconsin - ECPv6.15.20//NONSGML v1.0//EN
CALSCALE:GREGORIAN
METHOD:PUBLISH
X-WR-CALNAME:Presque Isle Wisconsin
X-ORIGINAL-URL:https://presqueisle.com
X-WR-CALDESC:Events for Presque Isle Wisconsin
REFRESH-INTERVAL;VALUE=DURATION:PT1H
X-Robots-Tag:noindex
X-PUBLISHED-TTL:PT1H
BEGIN:VTIMEZONE
TZID:America/Chicago
BEGIN:DAYLIGHT
TZOFFSETFROM:-0600
TZOFFSETTO:-0500
TZNAME:CDT
DTSTART:20240310T080000
END:DAYLIGHT
BEGIN:STANDARD
TZOFFSETFROM:-0500
TZOFFSETTO:-0600
TZNAME:CST
DTSTART:20241103T070000
END:STANDARD
BEGIN:DAYLIGHT
TZOFFSETFROM:-0600
TZOFFSETTO:-0500
TZNAME:CDT
DTSTART:20250309T080000
END:DAYLIGHT
BEGIN:STANDARD
TZOFFSETFROM:-0500
TZOFFSETTO:-0600
TZNAME:CST
DTSTART:20251102T070000
END:STANDARD
BEGIN:DAYLIGHT
TZOFFSETFROM:-0600
TZOFFSETTO:-0500
TZNAME:CDT
DTSTART:20260308T080000
END:DAYLIGHT
BEGIN:STANDARD
TZOFFSETFROM:-0500
TZOFFSETTO:-0600
TZNAME:CST
DTSTART:20261101T070000
END:STANDARD
END:VTIMEZONE
BEGIN:VEVENT
DTSTART;TZID=America/Chicago:20250125T080000
DTEND;TZID=America/Chicago:20250125T170000
DTSTAMP:20260419T234053
CREATED:20240928T164425Z
LAST-MODIFIED:20240928T164455Z
UID:10000757-1737792000-1737824400@presqueisle.com
SUMMARY:King of the Lake / Lynx Lake Resort
DESCRIPTION:This exciting event promises high-octane action as snowmobile enthusiasts from near and far come together to compete in thrilling drag races across a specially prepared 500ft snow track. The event will feature multiple classes of races\, allowing competitors of all skill levels to showcase their machines and their driving prowess.  Spectators can expect a fun-filled day with plenty of food\, drinks and entertainment\, all set against the stunning winter backdrop of Presque Isle’s Lynx Lake!!!  Lodging at Lynx Lake Resort available on site
URL:https://presqueisle.com/event/king-of-the-lake-lynx-lake-resort/
LOCATION:Lynx Lake Resort & Bar\, 10683 County Hwy B\, Presque Isle\, WI\, 54557\, United States
END:VEVENT
END:VCALENDAR