BEGIN:VCALENDAR
VERSION:2.0
PRODID:-//Presque Isle Wisconsin - ECPv6.15.20//NONSGML v1.0//EN
CALSCALE:GREGORIAN
METHOD:PUBLISH
X-WR-CALNAME:Presque Isle Wisconsin
X-ORIGINAL-URL:https://presqueisle.com
X-WR-CALDESC:Events for Presque Isle Wisconsin
REFRESH-INTERVAL;VALUE=DURATION:PT1H
X-Robots-Tag:noindex
X-PUBLISHED-TTL:PT1H
BEGIN:VTIMEZONE
TZID:America/Chicago
BEGIN:DAYLIGHT
TZOFFSETFROM:-0600
TZOFFSETTO:-0500
TZNAME:CDT
DTSTART:20270314T080000
END:DAYLIGHT
BEGIN:STANDARD
TZOFFSETFROM:-0500
TZOFFSETTO:-0600
TZNAME:CST
DTSTART:20271107T070000
END:STANDARD
BEGIN:DAYLIGHT
TZOFFSETFROM:-0600
TZOFFSETTO:-0500
TZNAME:CDT
DTSTART:20280312T080000
END:DAYLIGHT
BEGIN:STANDARD
TZOFFSETFROM:-0500
TZOFFSETTO:-0600
TZNAME:CST
DTSTART:20281105T070000
END:STANDARD
BEGIN:DAYLIGHT
TZOFFSETFROM:-0600
TZOFFSETTO:-0500
TZNAME:CDT
DTSTART:20290311T080000
END:DAYLIGHT
BEGIN:STANDARD
TZOFFSETFROM:-0500
TZOFFSETTO:-0600
TZNAME:CST
DTSTART:20291104T070000
END:STANDARD
END:VTIMEZONE
BEGIN:VEVENT
DTSTART;TZID=America/Chicago:20280630T130000
DTEND;TZID=America/Chicago:20280630T150000
DTSTAMP:20260422T174925
CREATED:20251125T164206Z
LAST-MODIFIED:20251125T164206Z
UID:10002970-1845982800-1845990000@presqueisle.com
SUMMARY:American Mah-jongg
DESCRIPTION:Join us Friday afternoons from 1-3pm for some friendly games of American mahjong! Free to join\, all experience levels welcome.
URL:https://presqueisle.com/event/american-mah-jongg/2028-06-30/
LOCATION:Presque Isle Library\, 8306 School Loop Rd\, Presque Isle\, WI\, 54557\, United States
END:VEVENT
BEGIN:VEVENT
DTSTART;TZID=America/Chicago:20280703T083000
DTEND;TZID=America/Chicago:20280703T110000
DTSTAMP:20260422T174925
CREATED:20250429T164621Z
LAST-MODIFIED:20250429T164854Z
UID:10002637-1846225800-1846234800@presqueisle.com
SUMMARY:Northwoods Table Tennis Club
DESCRIPTION:The Northwoods Table Tennis Club has 3 tables and open play (primary doubles) on Monday & Thursday mornings from 8:30am until 11:00am at the Presque Isle Community Center on 8306 School Loop Rd. In 2025 we will begin playing on Saturday mornings.  Please consult the Town & Chamber event calendars.  Paddles and balls are provided and all skill set levels are invited.
URL:https://presqueisle.com/event/northwoods-table-tennis-club-2/2028-07-03/
LOCATION:Presque Isle Community Center\, 8306 School Loop Rd\, Presque Isle\, WI\, 54557\, United States
END:VEVENT
BEGIN:VEVENT
DTSTART;TZID=America/Chicago:20280704T120000
DTEND;TZID=America/Chicago:20280704T150000
DTSTAMP:20260422T174925
CREATED:20251125T170547Z
LAST-MODIFIED:20251125T170547Z
UID:10003185-1846324800-1846335600@presqueisle.com
SUMMARY:Fiber Arts Group
DESCRIPTION:Whether you enjoy knitting\, stitching\, quilting\, felting\, sewing\, crocheting\, or any other fiber art\, this group is open to anyone interested in working on their own projects and sharing ideas. Show and Tell encouraged!! \nThis group meets 1st and 3rd Tuesdays from 12-3pm\, in the library after hours.
URL:https://presqueisle.com/event/fiber-arts-group/2028-07-04/
LOCATION:Presque Isle Community Center\, 8306 School Loop Rd\, Presque Isle\, WI\, 54557\, United States
END:VEVENT
BEGIN:VEVENT
DTSTART;TZID=America/Chicago:20280706T083000
DTEND;TZID=America/Chicago:20280706T110000
DTSTAMP:20260422T174925
CREATED:20250429T164459Z
LAST-MODIFIED:20250429T164459Z
UID:10002377-1846485000-1846494000@presqueisle.com
SUMMARY:Northwoods Table Tennis Club
DESCRIPTION:The Northwoods Table Tennis Club has 3 tables and open play (primary doubles) on Monday & Thursday mornings from 8:30am until 11:00am at the Presque Isle Community Center on 8306 School Loop Rd. In 2025 we will begin playing on Saturday mornings.  Please consult the Town & Chamber event calendars.  Paddles and balls are provided and all skill set levels are invited.
URL:https://presqueisle.com/event/northwoods-table-tennis-club/2028-07-06/
LOCATION:Presque Isle Community Center\, 8306 School Loop Rd\, Presque Isle\, WI\, 54557\, United States
END:VEVENT
BEGIN:VEVENT
DTSTART;TZID=America/Chicago:20280707T130000
DTEND;TZID=America/Chicago:20280707T150000
DTSTAMP:20260422T174925
CREATED:20251125T164206Z
LAST-MODIFIED:20251125T164206Z
UID:10002971-1846587600-1846594800@presqueisle.com
SUMMARY:American Mah-jongg
DESCRIPTION:Join us Friday afternoons from 1-3pm for some friendly games of American mahjong! Free to join\, all experience levels welcome.
URL:https://presqueisle.com/event/american-mah-jongg/2028-07-07/
LOCATION:Presque Isle Library\, 8306 School Loop Rd\, Presque Isle\, WI\, 54557\, United States
END:VEVENT
BEGIN:VEVENT
DTSTART;TZID=America/Chicago:20280710T083000
DTEND;TZID=America/Chicago:20280710T110000
DTSTAMP:20260422T174925
CREATED:20250429T164621Z
LAST-MODIFIED:20250429T164854Z
UID:10002638-1846830600-1846839600@presqueisle.com
SUMMARY:Northwoods Table Tennis Club
DESCRIPTION:The Northwoods Table Tennis Club has 3 tables and open play (primary doubles) on Monday & Thursday mornings from 8:30am until 11:00am at the Presque Isle Community Center on 8306 School Loop Rd. In 2025 we will begin playing on Saturday mornings.  Please consult the Town & Chamber event calendars.  Paddles and balls are provided and all skill set levels are invited.
URL:https://presqueisle.com/event/northwoods-table-tennis-club-2/2028-07-10/
LOCATION:Presque Isle Community Center\, 8306 School Loop Rd\, Presque Isle\, WI\, 54557\, United States
END:VEVENT
BEGIN:VEVENT
DTSTART;TZID=America/Chicago:20280713T083000
DTEND;TZID=America/Chicago:20280713T110000
DTSTAMP:20260422T174925
CREATED:20250429T164459Z
LAST-MODIFIED:20250429T164459Z
UID:10002378-1847089800-1847098800@presqueisle.com
SUMMARY:Northwoods Table Tennis Club
DESCRIPTION:The Northwoods Table Tennis Club has 3 tables and open play (primary doubles) on Monday & Thursday mornings from 8:30am until 11:00am at the Presque Isle Community Center on 8306 School Loop Rd. In 2025 we will begin playing on Saturday mornings.  Please consult the Town & Chamber event calendars.  Paddles and balls are provided and all skill set levels are invited.
URL:https://presqueisle.com/event/northwoods-table-tennis-club/2028-07-13/
LOCATION:Presque Isle Community Center\, 8306 School Loop Rd\, Presque Isle\, WI\, 54557\, United States
END:VEVENT
BEGIN:VEVENT
DTSTART;TZID=America/Chicago:20280714T130000
DTEND;TZID=America/Chicago:20280714T150000
DTSTAMP:20260422T174925
CREATED:20251125T164206Z
LAST-MODIFIED:20251125T164206Z
UID:10002972-1847192400-1847199600@presqueisle.com
SUMMARY:American Mah-jongg
DESCRIPTION:Join us Friday afternoons from 1-3pm for some friendly games of American mahjong! Free to join\, all experience levels welcome.
URL:https://presqueisle.com/event/american-mah-jongg/2028-07-14/
LOCATION:Presque Isle Library\, 8306 School Loop Rd\, Presque Isle\, WI\, 54557\, United States
END:VEVENT
BEGIN:VEVENT
DTSTART;TZID=America/Chicago:20280717T083000
DTEND;TZID=America/Chicago:20280717T110000
DTSTAMP:20260422T174925
CREATED:20250429T164621Z
LAST-MODIFIED:20250429T164854Z
UID:10002639-1847435400-1847444400@presqueisle.com
SUMMARY:Northwoods Table Tennis Club
DESCRIPTION:The Northwoods Table Tennis Club has 3 tables and open play (primary doubles) on Monday & Thursday mornings from 8:30am until 11:00am at the Presque Isle Community Center on 8306 School Loop Rd. In 2025 we will begin playing on Saturday mornings.  Please consult the Town & Chamber event calendars.  Paddles and balls are provided and all skill set levels are invited.
URL:https://presqueisle.com/event/northwoods-table-tennis-club-2/2028-07-17/
LOCATION:Presque Isle Community Center\, 8306 School Loop Rd\, Presque Isle\, WI\, 54557\, United States
END:VEVENT
BEGIN:VEVENT
DTSTART;TZID=America/Chicago:20280718T120000
DTEND;TZID=America/Chicago:20280718T150000
DTSTAMP:20260422T174925
CREATED:20251125T170734Z
LAST-MODIFIED:20251125T170734Z
UID:10003245-1847534400-1847545200@presqueisle.com
SUMMARY:Fiber Arts Group
DESCRIPTION:Whether you enjoy knitting\, stitching\, quilting\, felting\, sewing\, crocheting\, or any other fiber art\, this group is open to anyone interested in working on their own projects and sharing ideas. Show and Tell encouraged!! \nThis group meets 1st and 3rd Tuesdays from 12-3pm\, in the library after hours.
URL:https://presqueisle.com/event/fiber-arts-group-2/2028-07-18/
LOCATION:Presque Isle Community Center\, 8306 School Loop Rd\, Presque Isle\, WI\, 54557\, United States
END:VEVENT
BEGIN:VEVENT
DTSTART;TZID=America/Chicago:20280720T083000
DTEND;TZID=America/Chicago:20280720T110000
DTSTAMP:20260422T174925
CREATED:20250429T164459Z
LAST-MODIFIED:20250429T164459Z
UID:10002379-1847694600-1847703600@presqueisle.com
SUMMARY:Northwoods Table Tennis Club
DESCRIPTION:The Northwoods Table Tennis Club has 3 tables and open play (primary doubles) on Monday & Thursday mornings from 8:30am until 11:00am at the Presque Isle Community Center on 8306 School Loop Rd. In 2025 we will begin playing on Saturday mornings.  Please consult the Town & Chamber event calendars.  Paddles and balls are provided and all skill set levels are invited.
URL:https://presqueisle.com/event/northwoods-table-tennis-club/2028-07-20/
LOCATION:Presque Isle Community Center\, 8306 School Loop Rd\, Presque Isle\, WI\, 54557\, United States
END:VEVENT
BEGIN:VEVENT
DTSTART;TZID=America/Chicago:20280721T130000
DTEND;TZID=America/Chicago:20280721T150000
DTSTAMP:20260422T174925
CREATED:20251125T164206Z
LAST-MODIFIED:20251125T164206Z
UID:10002973-1847797200-1847804400@presqueisle.com
SUMMARY:American Mah-jongg
DESCRIPTION:Join us Friday afternoons from 1-3pm for some friendly games of American mahjong! Free to join\, all experience levels welcome.
URL:https://presqueisle.com/event/american-mah-jongg/2028-07-21/
LOCATION:Presque Isle Library\, 8306 School Loop Rd\, Presque Isle\, WI\, 54557\, United States
END:VEVENT
BEGIN:VEVENT
DTSTART;TZID=America/Chicago:20280724T083000
DTEND;TZID=America/Chicago:20280724T110000
DTSTAMP:20260422T174925
CREATED:20250429T164621Z
LAST-MODIFIED:20250429T164854Z
UID:10002640-1848040200-1848049200@presqueisle.com
SUMMARY:Northwoods Table Tennis Club
DESCRIPTION:The Northwoods Table Tennis Club has 3 tables and open play (primary doubles) on Monday & Thursday mornings from 8:30am until 11:00am at the Presque Isle Community Center on 8306 School Loop Rd. In 2025 we will begin playing on Saturday mornings.  Please consult the Town & Chamber event calendars.  Paddles and balls are provided and all skill set levels are invited.
URL:https://presqueisle.com/event/northwoods-table-tennis-club-2/2028-07-24/
LOCATION:Presque Isle Community Center\, 8306 School Loop Rd\, Presque Isle\, WI\, 54557\, United States
END:VEVENT
BEGIN:VEVENT
DTSTART;TZID=America/Chicago:20280727T083000
DTEND;TZID=America/Chicago:20280727T110000
DTSTAMP:20260422T174925
CREATED:20250429T164459Z
LAST-MODIFIED:20250429T164459Z
UID:10002380-1848299400-1848308400@presqueisle.com
SUMMARY:Northwoods Table Tennis Club
DESCRIPTION:The Northwoods Table Tennis Club has 3 tables and open play (primary doubles) on Monday & Thursday mornings from 8:30am until 11:00am at the Presque Isle Community Center on 8306 School Loop Rd. In 2025 we will begin playing on Saturday mornings.  Please consult the Town & Chamber event calendars.  Paddles and balls are provided and all skill set levels are invited.
URL:https://presqueisle.com/event/northwoods-table-tennis-club/2028-07-27/
LOCATION:Presque Isle Community Center\, 8306 School Loop Rd\, Presque Isle\, WI\, 54557\, United States
END:VEVENT
BEGIN:VEVENT
DTSTART;TZID=America/Chicago:20280728T130000
DTEND;TZID=America/Chicago:20280728T150000
DTSTAMP:20260422T174925
CREATED:20251125T164206Z
LAST-MODIFIED:20251125T164206Z
UID:10002974-1848402000-1848409200@presqueisle.com
SUMMARY:American Mah-jongg
DESCRIPTION:Join us Friday afternoons from 1-3pm for some friendly games of American mahjong! Free to join\, all experience levels welcome.
URL:https://presqueisle.com/event/american-mah-jongg/2028-07-28/
LOCATION:Presque Isle Library\, 8306 School Loop Rd\, Presque Isle\, WI\, 54557\, United States
END:VEVENT
BEGIN:VEVENT
DTSTART;TZID=America/Chicago:20280731T083000
DTEND;TZID=America/Chicago:20280731T110000
DTSTAMP:20260422T174925
CREATED:20250429T164621Z
LAST-MODIFIED:20250429T164854Z
UID:10002641-1848645000-1848654000@presqueisle.com
SUMMARY:Northwoods Table Tennis Club
DESCRIPTION:The Northwoods Table Tennis Club has 3 tables and open play (primary doubles) on Monday & Thursday mornings from 8:30am until 11:00am at the Presque Isle Community Center on 8306 School Loop Rd. In 2025 we will begin playing on Saturday mornings.  Please consult the Town & Chamber event calendars.  Paddles and balls are provided and all skill set levels are invited.
URL:https://presqueisle.com/event/northwoods-table-tennis-club-2/2028-07-31/
LOCATION:Presque Isle Community Center\, 8306 School Loop Rd\, Presque Isle\, WI\, 54557\, United States
END:VEVENT
BEGIN:VEVENT
DTSTART;TZID=America/Chicago:20280801T120000
DTEND;TZID=America/Chicago:20280801T150000
DTSTAMP:20260422T174925
CREATED:20251125T170547Z
LAST-MODIFIED:20251125T170547Z
UID:10003186-1848744000-1848754800@presqueisle.com
SUMMARY:Fiber Arts Group
DESCRIPTION:Whether you enjoy knitting\, stitching\, quilting\, felting\, sewing\, crocheting\, or any other fiber art\, this group is open to anyone interested in working on their own projects and sharing ideas. Show and Tell encouraged!! \nThis group meets 1st and 3rd Tuesdays from 12-3pm\, in the library after hours.
URL:https://presqueisle.com/event/fiber-arts-group/2028-08-01/
LOCATION:Presque Isle Community Center\, 8306 School Loop Rd\, Presque Isle\, WI\, 54557\, United States
END:VEVENT
BEGIN:VEVENT
DTSTART;TZID=America/Chicago:20280803T083000
DTEND;TZID=America/Chicago:20280803T110000
DTSTAMP:20260422T174925
CREATED:20250429T164459Z
LAST-MODIFIED:20250429T164459Z
UID:10002381-1848904200-1848913200@presqueisle.com
SUMMARY:Northwoods Table Tennis Club
DESCRIPTION:The Northwoods Table Tennis Club has 3 tables and open play (primary doubles) on Monday & Thursday mornings from 8:30am until 11:00am at the Presque Isle Community Center on 8306 School Loop Rd. In 2025 we will begin playing on Saturday mornings.  Please consult the Town & Chamber event calendars.  Paddles and balls are provided and all skill set levels are invited.
URL:https://presqueisle.com/event/northwoods-table-tennis-club/2028-08-03/
LOCATION:Presque Isle Community Center\, 8306 School Loop Rd\, Presque Isle\, WI\, 54557\, United States
END:VEVENT
BEGIN:VEVENT
DTSTART;TZID=America/Chicago:20280804T130000
DTEND;TZID=America/Chicago:20280804T150000
DTSTAMP:20260422T174925
CREATED:20251125T164206Z
LAST-MODIFIED:20251125T164206Z
UID:10002975-1849006800-1849014000@presqueisle.com
SUMMARY:American Mah-jongg
DESCRIPTION:Join us Friday afternoons from 1-3pm for some friendly games of American mahjong! Free to join\, all experience levels welcome.
URL:https://presqueisle.com/event/american-mah-jongg/2028-08-04/
LOCATION:Presque Isle Library\, 8306 School Loop Rd\, Presque Isle\, WI\, 54557\, United States
END:VEVENT
BEGIN:VEVENT
DTSTART;TZID=America/Chicago:20280807T083000
DTEND;TZID=America/Chicago:20280807T110000
DTSTAMP:20260422T174925
CREATED:20250429T164621Z
LAST-MODIFIED:20250429T164854Z
UID:10002642-1849249800-1849258800@presqueisle.com
SUMMARY:Northwoods Table Tennis Club
DESCRIPTION:The Northwoods Table Tennis Club has 3 tables and open play (primary doubles) on Monday & Thursday mornings from 8:30am until 11:00am at the Presque Isle Community Center on 8306 School Loop Rd. In 2025 we will begin playing on Saturday mornings.  Please consult the Town & Chamber event calendars.  Paddles and balls are provided and all skill set levels are invited.
URL:https://presqueisle.com/event/northwoods-table-tennis-club-2/2028-08-07/
LOCATION:Presque Isle Community Center\, 8306 School Loop Rd\, Presque Isle\, WI\, 54557\, United States
END:VEVENT
BEGIN:VEVENT
DTSTART;TZID=America/Chicago:20280810T083000
DTEND;TZID=America/Chicago:20280810T110000
DTSTAMP:20260422T174925
CREATED:20250429T164459Z
LAST-MODIFIED:20250429T164459Z
UID:10002382-1849509000-1849518000@presqueisle.com
SUMMARY:Northwoods Table Tennis Club
DESCRIPTION:The Northwoods Table Tennis Club has 3 tables and open play (primary doubles) on Monday & Thursday mornings from 8:30am until 11:00am at the Presque Isle Community Center on 8306 School Loop Rd. In 2025 we will begin playing on Saturday mornings.  Please consult the Town & Chamber event calendars.  Paddles and balls are provided and all skill set levels are invited.
URL:https://presqueisle.com/event/northwoods-table-tennis-club/2028-08-10/
LOCATION:Presque Isle Community Center\, 8306 School Loop Rd\, Presque Isle\, WI\, 54557\, United States
END:VEVENT
BEGIN:VEVENT
DTSTART;TZID=America/Chicago:20280811T130000
DTEND;TZID=America/Chicago:20280811T150000
DTSTAMP:20260422T174925
CREATED:20251125T164206Z
LAST-MODIFIED:20251125T164206Z
UID:10002976-1849611600-1849618800@presqueisle.com
SUMMARY:American Mah-jongg
DESCRIPTION:Join us Friday afternoons from 1-3pm for some friendly games of American mahjong! Free to join\, all experience levels welcome.
URL:https://presqueisle.com/event/american-mah-jongg/2028-08-11/
LOCATION:Presque Isle Library\, 8306 School Loop Rd\, Presque Isle\, WI\, 54557\, United States
END:VEVENT
BEGIN:VEVENT
DTSTART;TZID=America/Chicago:20280814T083000
DTEND;TZID=America/Chicago:20280814T110000
DTSTAMP:20260422T174925
CREATED:20250429T164621Z
LAST-MODIFIED:20250429T164854Z
UID:10002643-1849854600-1849863600@presqueisle.com
SUMMARY:Northwoods Table Tennis Club
DESCRIPTION:The Northwoods Table Tennis Club has 3 tables and open play (primary doubles) on Monday & Thursday mornings from 8:30am until 11:00am at the Presque Isle Community Center on 8306 School Loop Rd. In 2025 we will begin playing on Saturday mornings.  Please consult the Town & Chamber event calendars.  Paddles and balls are provided and all skill set levels are invited.
URL:https://presqueisle.com/event/northwoods-table-tennis-club-2/2028-08-14/
LOCATION:Presque Isle Community Center\, 8306 School Loop Rd\, Presque Isle\, WI\, 54557\, United States
END:VEVENT
BEGIN:VEVENT
DTSTART;TZID=America/Chicago:20280815T120000
DTEND;TZID=America/Chicago:20280815T150000
DTSTAMP:20260422T174925
CREATED:20251125T170734Z
LAST-MODIFIED:20251125T170734Z
UID:10003246-1849953600-1849964400@presqueisle.com
SUMMARY:Fiber Arts Group
DESCRIPTION:Whether you enjoy knitting\, stitching\, quilting\, felting\, sewing\, crocheting\, or any other fiber art\, this group is open to anyone interested in working on their own projects and sharing ideas. Show and Tell encouraged!! \nThis group meets 1st and 3rd Tuesdays from 12-3pm\, in the library after hours.
URL:https://presqueisle.com/event/fiber-arts-group-2/2028-08-15/
LOCATION:Presque Isle Community Center\, 8306 School Loop Rd\, Presque Isle\, WI\, 54557\, United States
END:VEVENT
BEGIN:VEVENT
DTSTART;TZID=America/Chicago:20280817T083000
DTEND;TZID=America/Chicago:20280817T110000
DTSTAMP:20260422T174925
CREATED:20250429T164459Z
LAST-MODIFIED:20250429T164459Z
UID:10002383-1850113800-1850122800@presqueisle.com
SUMMARY:Northwoods Table Tennis Club
DESCRIPTION:The Northwoods Table Tennis Club has 3 tables and open play (primary doubles) on Monday & Thursday mornings from 8:30am until 11:00am at the Presque Isle Community Center on 8306 School Loop Rd. In 2025 we will begin playing on Saturday mornings.  Please consult the Town & Chamber event calendars.  Paddles and balls are provided and all skill set levels are invited.
URL:https://presqueisle.com/event/northwoods-table-tennis-club/2028-08-17/
LOCATION:Presque Isle Community Center\, 8306 School Loop Rd\, Presque Isle\, WI\, 54557\, United States
END:VEVENT
BEGIN:VEVENT
DTSTART;TZID=America/Chicago:20280818T130000
DTEND;TZID=America/Chicago:20280818T150000
DTSTAMP:20260422T174925
CREATED:20251125T164206Z
LAST-MODIFIED:20251125T164206Z
UID:10002977-1850216400-1850223600@presqueisle.com
SUMMARY:American Mah-jongg
DESCRIPTION:Join us Friday afternoons from 1-3pm for some friendly games of American mahjong! Free to join\, all experience levels welcome.
URL:https://presqueisle.com/event/american-mah-jongg/2028-08-18/
LOCATION:Presque Isle Library\, 8306 School Loop Rd\, Presque Isle\, WI\, 54557\, United States
END:VEVENT
BEGIN:VEVENT
DTSTART;TZID=America/Chicago:20280821T083000
DTEND;TZID=America/Chicago:20280821T110000
DTSTAMP:20260422T174925
CREATED:20250429T164621Z
LAST-MODIFIED:20250429T164854Z
UID:10002644-1850459400-1850468400@presqueisle.com
SUMMARY:Northwoods Table Tennis Club
DESCRIPTION:The Northwoods Table Tennis Club has 3 tables and open play (primary doubles) on Monday & Thursday mornings from 8:30am until 11:00am at the Presque Isle Community Center on 8306 School Loop Rd. In 2025 we will begin playing on Saturday mornings.  Please consult the Town & Chamber event calendars.  Paddles and balls are provided and all skill set levels are invited.
URL:https://presqueisle.com/event/northwoods-table-tennis-club-2/2028-08-21/
LOCATION:Presque Isle Community Center\, 8306 School Loop Rd\, Presque Isle\, WI\, 54557\, United States
END:VEVENT
BEGIN:VEVENT
DTSTART;TZID=America/Chicago:20280824T083000
DTEND;TZID=America/Chicago:20280824T110000
DTSTAMP:20260422T174925
CREATED:20250429T164459Z
LAST-MODIFIED:20250429T164459Z
UID:10002384-1850718600-1850727600@presqueisle.com
SUMMARY:Northwoods Table Tennis Club
DESCRIPTION:The Northwoods Table Tennis Club has 3 tables and open play (primary doubles) on Monday & Thursday mornings from 8:30am until 11:00am at the Presque Isle Community Center on 8306 School Loop Rd. In 2025 we will begin playing on Saturday mornings.  Please consult the Town & Chamber event calendars.  Paddles and balls are provided and all skill set levels are invited.
URL:https://presqueisle.com/event/northwoods-table-tennis-club/2028-08-24/
LOCATION:Presque Isle Community Center\, 8306 School Loop Rd\, Presque Isle\, WI\, 54557\, United States
END:VEVENT
BEGIN:VEVENT
DTSTART;TZID=America/Chicago:20280825T130000
DTEND;TZID=America/Chicago:20280825T150000
DTSTAMP:20260422T174925
CREATED:20251125T164206Z
LAST-MODIFIED:20251125T164206Z
UID:10002978-1850821200-1850828400@presqueisle.com
SUMMARY:American Mah-jongg
DESCRIPTION:Join us Friday afternoons from 1-3pm for some friendly games of American mahjong! Free to join\, all experience levels welcome.
URL:https://presqueisle.com/event/american-mah-jongg/2028-08-25/
LOCATION:Presque Isle Library\, 8306 School Loop Rd\, Presque Isle\, WI\, 54557\, United States
END:VEVENT
BEGIN:VEVENT
DTSTART;TZID=America/Chicago:20280828T083000
DTEND;TZID=America/Chicago:20280828T110000
DTSTAMP:20260422T174925
CREATED:20250429T164621Z
LAST-MODIFIED:20250429T164854Z
UID:10002645-1851064200-1851073200@presqueisle.com
SUMMARY:Northwoods Table Tennis Club
DESCRIPTION:The Northwoods Table Tennis Club has 3 tables and open play (primary doubles) on Monday & Thursday mornings from 8:30am until 11:00am at the Presque Isle Community Center on 8306 School Loop Rd. In 2025 we will begin playing on Saturday mornings.  Please consult the Town & Chamber event calendars.  Paddles and balls are provided and all skill set levels are invited.
URL:https://presqueisle.com/event/northwoods-table-tennis-club-2/2028-08-28/
LOCATION:Presque Isle Community Center\, 8306 School Loop Rd\, Presque Isle\, WI\, 54557\, United States
END:VEVENT
END:VCALENDAR