BEGIN:VCALENDAR
VERSION:2.0
PRODID:-//Presque Isle Wisconsin - ECPv6.15.20//NONSGML v1.0//EN
CALSCALE:GREGORIAN
METHOD:PUBLISH
X-WR-CALNAME:Presque Isle Wisconsin
X-ORIGINAL-URL:https://presqueisle.com
X-WR-CALDESC:Events for Presque Isle Wisconsin
REFRESH-INTERVAL;VALUE=DURATION:PT1H
X-Robots-Tag:noindex
X-PUBLISHED-TTL:PT1H
BEGIN:VTIMEZONE
TZID:America/Chicago
BEGIN:DAYLIGHT
TZOFFSETFROM:-0600
TZOFFSETTO:-0500
TZNAME:CDT
DTSTART:20280312T080000
END:DAYLIGHT
BEGIN:STANDARD
TZOFFSETFROM:-0500
TZOFFSETTO:-0600
TZNAME:CST
DTSTART:20281105T070000
END:STANDARD
BEGIN:DAYLIGHT
TZOFFSETFROM:-0600
TZOFFSETTO:-0500
TZNAME:CDT
DTSTART:20290311T080000
END:DAYLIGHT
BEGIN:STANDARD
TZOFFSETFROM:-0500
TZOFFSETTO:-0600
TZNAME:CST
DTSTART:20291104T070000
END:STANDARD
BEGIN:DAYLIGHT
TZOFFSETFROM:-0600
TZOFFSETTO:-0500
TZNAME:CDT
DTSTART:20300310T080000
END:DAYLIGHT
BEGIN:STANDARD
TZOFFSETFROM:-0500
TZOFFSETTO:-0600
TZNAME:CST
DTSTART:20301103T070000
END:STANDARD
END:VTIMEZONE
BEGIN:VEVENT
DTSTART;TZID=America/Chicago:20290302T130000
DTEND;TZID=America/Chicago:20290302T150000
DTSTAMP:20260423T052008
CREATED:20251125T164206Z
LAST-MODIFIED:20251125T164206Z
UID:10003005-1867150800-1867158000@presqueisle.com
SUMMARY:American Mah-jongg
DESCRIPTION:Join us Friday afternoons from 1-3pm for some friendly games of American mahjong! Free to join\, all experience levels welcome.
URL:https://presqueisle.com/event/american-mah-jongg/2029-03-02/
LOCATION:Presque Isle Library\, 8306 School Loop Rd\, Presque Isle\, WI\, 54557\, United States
END:VEVENT
BEGIN:VEVENT
DTSTART;TZID=America/Chicago:20290305T083000
DTEND;TZID=America/Chicago:20290305T110000
DTSTAMP:20260423T052008
CREATED:20250429T164621Z
LAST-MODIFIED:20250429T164854Z
UID:10002672-1867393800-1867402800@presqueisle.com
SUMMARY:Northwoods Table Tennis Club
DESCRIPTION:The Northwoods Table Tennis Club has 3 tables and open play (primary doubles) on Monday & Thursday mornings from 8:30am until 11:00am at the Presque Isle Community Center on 8306 School Loop Rd. In 2025 we will begin playing on Saturday mornings.  Please consult the Town & Chamber event calendars.  Paddles and balls are provided and all skill set levels are invited.
URL:https://presqueisle.com/event/northwoods-table-tennis-club-2/2029-03-05/
LOCATION:Presque Isle Community Center\, 8306 School Loop Rd\, Presque Isle\, WI\, 54557\, United States
END:VEVENT
BEGIN:VEVENT
DTSTART;TZID=America/Chicago:20290306T120000
DTEND;TZID=America/Chicago:20290306T150000
DTSTAMP:20260423T052008
CREATED:20251125T170547Z
LAST-MODIFIED:20251125T170547Z
UID:10003193-1867492800-1867503600@presqueisle.com
SUMMARY:Fiber Arts Group
DESCRIPTION:Whether you enjoy knitting\, stitching\, quilting\, felting\, sewing\, crocheting\, or any other fiber art\, this group is open to anyone interested in working on their own projects and sharing ideas. Show and Tell encouraged!! \nThis group meets 1st and 3rd Tuesdays from 12-3pm\, in the library after hours.
URL:https://presqueisle.com/event/fiber-arts-group/2029-03-06/
LOCATION:Presque Isle Community Center\, 8306 School Loop Rd\, Presque Isle\, WI\, 54557\, United States
END:VEVENT
BEGIN:VEVENT
DTSTART;TZID=America/Chicago:20290308T083000
DTEND;TZID=America/Chicago:20290308T110000
DTSTAMP:20260423T052008
CREATED:20250429T164459Z
LAST-MODIFIED:20250429T164459Z
UID:10002412-1867653000-1867662000@presqueisle.com
SUMMARY:Northwoods Table Tennis Club
DESCRIPTION:The Northwoods Table Tennis Club has 3 tables and open play (primary doubles) on Monday & Thursday mornings from 8:30am until 11:00am at the Presque Isle Community Center on 8306 School Loop Rd. In 2025 we will begin playing on Saturday mornings.  Please consult the Town & Chamber event calendars.  Paddles and balls are provided and all skill set levels are invited.
URL:https://presqueisle.com/event/northwoods-table-tennis-club/2029-03-08/
LOCATION:Presque Isle Community Center\, 8306 School Loop Rd\, Presque Isle\, WI\, 54557\, United States
END:VEVENT
BEGIN:VEVENT
DTSTART;TZID=America/Chicago:20290309T130000
DTEND;TZID=America/Chicago:20290309T150000
DTSTAMP:20260423T052008
CREATED:20251125T164206Z
LAST-MODIFIED:20251125T164206Z
UID:10003006-1867755600-1867762800@presqueisle.com
SUMMARY:American Mah-jongg
DESCRIPTION:Join us Friday afternoons from 1-3pm for some friendly games of American mahjong! Free to join\, all experience levels welcome.
URL:https://presqueisle.com/event/american-mah-jongg/2029-03-09/
LOCATION:Presque Isle Library\, 8306 School Loop Rd\, Presque Isle\, WI\, 54557\, United States
END:VEVENT
BEGIN:VEVENT
DTSTART;TZID=America/Chicago:20290312T083000
DTEND;TZID=America/Chicago:20290312T110000
DTSTAMP:20260423T052008
CREATED:20250429T164621Z
LAST-MODIFIED:20250429T164854Z
UID:10002673-1867998600-1868007600@presqueisle.com
SUMMARY:Northwoods Table Tennis Club
DESCRIPTION:The Northwoods Table Tennis Club has 3 tables and open play (primary doubles) on Monday & Thursday mornings from 8:30am until 11:00am at the Presque Isle Community Center on 8306 School Loop Rd. In 2025 we will begin playing on Saturday mornings.  Please consult the Town & Chamber event calendars.  Paddles and balls are provided and all skill set levels are invited.
URL:https://presqueisle.com/event/northwoods-table-tennis-club-2/2029-03-12/
LOCATION:Presque Isle Community Center\, 8306 School Loop Rd\, Presque Isle\, WI\, 54557\, United States
END:VEVENT
BEGIN:VEVENT
DTSTART;TZID=America/Chicago:20290315T083000
DTEND;TZID=America/Chicago:20290315T110000
DTSTAMP:20260423T052008
CREATED:20250429T164459Z
LAST-MODIFIED:20250429T164459Z
UID:10002413-1868257800-1868266800@presqueisle.com
SUMMARY:Northwoods Table Tennis Club
DESCRIPTION:The Northwoods Table Tennis Club has 3 tables and open play (primary doubles) on Monday & Thursday mornings from 8:30am until 11:00am at the Presque Isle Community Center on 8306 School Loop Rd. In 2025 we will begin playing on Saturday mornings.  Please consult the Town & Chamber event calendars.  Paddles and balls are provided and all skill set levels are invited.
URL:https://presqueisle.com/event/northwoods-table-tennis-club/2029-03-15/
LOCATION:Presque Isle Community Center\, 8306 School Loop Rd\, Presque Isle\, WI\, 54557\, United States
END:VEVENT
BEGIN:VEVENT
DTSTART;TZID=America/Chicago:20290316T130000
DTEND;TZID=America/Chicago:20290316T150000
DTSTAMP:20260423T052008
CREATED:20251125T164206Z
LAST-MODIFIED:20251125T164206Z
UID:10003007-1868360400-1868367600@presqueisle.com
SUMMARY:American Mah-jongg
DESCRIPTION:Join us Friday afternoons from 1-3pm for some friendly games of American mahjong! Free to join\, all experience levels welcome.
URL:https://presqueisle.com/event/american-mah-jongg/2029-03-16/
LOCATION:Presque Isle Library\, 8306 School Loop Rd\, Presque Isle\, WI\, 54557\, United States
END:VEVENT
BEGIN:VEVENT
DTSTART;TZID=America/Chicago:20290319T083000
DTEND;TZID=America/Chicago:20290319T110000
DTSTAMP:20260423T052008
CREATED:20250429T164621Z
LAST-MODIFIED:20250429T164854Z
UID:10002674-1868603400-1868612400@presqueisle.com
SUMMARY:Northwoods Table Tennis Club
DESCRIPTION:The Northwoods Table Tennis Club has 3 tables and open play (primary doubles) on Monday & Thursday mornings from 8:30am until 11:00am at the Presque Isle Community Center on 8306 School Loop Rd. In 2025 we will begin playing on Saturday mornings.  Please consult the Town & Chamber event calendars.  Paddles and balls are provided and all skill set levels are invited.
URL:https://presqueisle.com/event/northwoods-table-tennis-club-2/2029-03-19/
LOCATION:Presque Isle Community Center\, 8306 School Loop Rd\, Presque Isle\, WI\, 54557\, United States
END:VEVENT
BEGIN:VEVENT
DTSTART;TZID=America/Chicago:20290320T120000
DTEND;TZID=America/Chicago:20290320T150000
DTSTAMP:20260423T052008
CREATED:20251125T170734Z
LAST-MODIFIED:20251125T170734Z
UID:10003253-1868702400-1868713200@presqueisle.com
SUMMARY:Fiber Arts Group
DESCRIPTION:Whether you enjoy knitting\, stitching\, quilting\, felting\, sewing\, crocheting\, or any other fiber art\, this group is open to anyone interested in working on their own projects and sharing ideas. Show and Tell encouraged!! \nThis group meets 1st and 3rd Tuesdays from 12-3pm\, in the library after hours.
URL:https://presqueisle.com/event/fiber-arts-group-2/2029-03-20/
LOCATION:Presque Isle Community Center\, 8306 School Loop Rd\, Presque Isle\, WI\, 54557\, United States
END:VEVENT
BEGIN:VEVENT
DTSTART;TZID=America/Chicago:20290322T083000
DTEND;TZID=America/Chicago:20290322T110000
DTSTAMP:20260423T052008
CREATED:20250429T164459Z
LAST-MODIFIED:20250429T164459Z
UID:10002414-1868862600-1868871600@presqueisle.com
SUMMARY:Northwoods Table Tennis Club
DESCRIPTION:The Northwoods Table Tennis Club has 3 tables and open play (primary doubles) on Monday & Thursday mornings from 8:30am until 11:00am at the Presque Isle Community Center on 8306 School Loop Rd. In 2025 we will begin playing on Saturday mornings.  Please consult the Town & Chamber event calendars.  Paddles and balls are provided and all skill set levels are invited.
URL:https://presqueisle.com/event/northwoods-table-tennis-club/2029-03-22/
LOCATION:Presque Isle Community Center\, 8306 School Loop Rd\, Presque Isle\, WI\, 54557\, United States
END:VEVENT
BEGIN:VEVENT
DTSTART;TZID=America/Chicago:20290323T130000
DTEND;TZID=America/Chicago:20290323T150000
DTSTAMP:20260423T052008
CREATED:20251125T164206Z
LAST-MODIFIED:20251125T164206Z
UID:10003008-1868965200-1868972400@presqueisle.com
SUMMARY:American Mah-jongg
DESCRIPTION:Join us Friday afternoons from 1-3pm for some friendly games of American mahjong! Free to join\, all experience levels welcome.
URL:https://presqueisle.com/event/american-mah-jongg/2029-03-23/
LOCATION:Presque Isle Library\, 8306 School Loop Rd\, Presque Isle\, WI\, 54557\, United States
END:VEVENT
BEGIN:VEVENT
DTSTART;TZID=America/Chicago:20290326T083000
DTEND;TZID=America/Chicago:20290326T110000
DTSTAMP:20260423T052008
CREATED:20250429T164621Z
LAST-MODIFIED:20250429T164854Z
UID:10002675-1869208200-1869217200@presqueisle.com
SUMMARY:Northwoods Table Tennis Club
DESCRIPTION:The Northwoods Table Tennis Club has 3 tables and open play (primary doubles) on Monday & Thursday mornings from 8:30am until 11:00am at the Presque Isle Community Center on 8306 School Loop Rd. In 2025 we will begin playing on Saturday mornings.  Please consult the Town & Chamber event calendars.  Paddles and balls are provided and all skill set levels are invited.
URL:https://presqueisle.com/event/northwoods-table-tennis-club-2/2029-03-26/
LOCATION:Presque Isle Community Center\, 8306 School Loop Rd\, Presque Isle\, WI\, 54557\, United States
END:VEVENT
BEGIN:VEVENT
DTSTART;TZID=America/Chicago:20290329T083000
DTEND;TZID=America/Chicago:20290329T110000
DTSTAMP:20260423T052008
CREATED:20250429T164459Z
LAST-MODIFIED:20250429T164459Z
UID:10002415-1869467400-1869476400@presqueisle.com
SUMMARY:Northwoods Table Tennis Club
DESCRIPTION:The Northwoods Table Tennis Club has 3 tables and open play (primary doubles) on Monday & Thursday mornings from 8:30am until 11:00am at the Presque Isle Community Center on 8306 School Loop Rd. In 2025 we will begin playing on Saturday mornings.  Please consult the Town & Chamber event calendars.  Paddles and balls are provided and all skill set levels are invited.
URL:https://presqueisle.com/event/northwoods-table-tennis-club/2029-03-29/
LOCATION:Presque Isle Community Center\, 8306 School Loop Rd\, Presque Isle\, WI\, 54557\, United States
END:VEVENT
BEGIN:VEVENT
DTSTART;TZID=America/Chicago:20290330T130000
DTEND;TZID=America/Chicago:20290330T150000
DTSTAMP:20260423T052008
CREATED:20251125T164206Z
LAST-MODIFIED:20251125T164206Z
UID:10003009-1869570000-1869577200@presqueisle.com
SUMMARY:American Mah-jongg
DESCRIPTION:Join us Friday afternoons from 1-3pm for some friendly games of American mahjong! Free to join\, all experience levels welcome.
URL:https://presqueisle.com/event/american-mah-jongg/2029-03-30/
LOCATION:Presque Isle Library\, 8306 School Loop Rd\, Presque Isle\, WI\, 54557\, United States
END:VEVENT
BEGIN:VEVENT
DTSTART;TZID=America/Chicago:20290402T083000
DTEND;TZID=America/Chicago:20290402T110000
DTSTAMP:20260423T052008
CREATED:20250429T164621Z
LAST-MODIFIED:20250429T164854Z
UID:10002676-1869813000-1869822000@presqueisle.com
SUMMARY:Northwoods Table Tennis Club
DESCRIPTION:The Northwoods Table Tennis Club has 3 tables and open play (primary doubles) on Monday & Thursday mornings from 8:30am until 11:00am at the Presque Isle Community Center on 8306 School Loop Rd. In 2025 we will begin playing on Saturday mornings.  Please consult the Town & Chamber event calendars.  Paddles and balls are provided and all skill set levels are invited.
URL:https://presqueisle.com/event/northwoods-table-tennis-club-2/2029-04-02/
LOCATION:Presque Isle Community Center\, 8306 School Loop Rd\, Presque Isle\, WI\, 54557\, United States
END:VEVENT
BEGIN:VEVENT
DTSTART;TZID=America/Chicago:20290403T120000
DTEND;TZID=America/Chicago:20290403T150000
DTSTAMP:20260423T052008
CREATED:20251125T170547Z
LAST-MODIFIED:20251125T170547Z
UID:10003194-1869912000-1869922800@presqueisle.com
SUMMARY:Fiber Arts Group
DESCRIPTION:Whether you enjoy knitting\, stitching\, quilting\, felting\, sewing\, crocheting\, or any other fiber art\, this group is open to anyone interested in working on their own projects and sharing ideas. Show and Tell encouraged!! \nThis group meets 1st and 3rd Tuesdays from 12-3pm\, in the library after hours.
URL:https://presqueisle.com/event/fiber-arts-group/2029-04-03/
LOCATION:Presque Isle Community Center\, 8306 School Loop Rd\, Presque Isle\, WI\, 54557\, United States
END:VEVENT
BEGIN:VEVENT
DTSTART;TZID=America/Chicago:20290405T083000
DTEND;TZID=America/Chicago:20290405T110000
DTSTAMP:20260423T052008
CREATED:20250429T164459Z
LAST-MODIFIED:20250429T164459Z
UID:10002416-1870072200-1870081200@presqueisle.com
SUMMARY:Northwoods Table Tennis Club
DESCRIPTION:The Northwoods Table Tennis Club has 3 tables and open play (primary doubles) on Monday & Thursday mornings from 8:30am until 11:00am at the Presque Isle Community Center on 8306 School Loop Rd. In 2025 we will begin playing on Saturday mornings.  Please consult the Town & Chamber event calendars.  Paddles and balls are provided and all skill set levels are invited.
URL:https://presqueisle.com/event/northwoods-table-tennis-club/2029-04-05/
LOCATION:Presque Isle Community Center\, 8306 School Loop Rd\, Presque Isle\, WI\, 54557\, United States
END:VEVENT
BEGIN:VEVENT
DTSTART;TZID=America/Chicago:20290406T130000
DTEND;TZID=America/Chicago:20290406T150000
DTSTAMP:20260423T052008
CREATED:20251125T164206Z
LAST-MODIFIED:20251125T164206Z
UID:10003010-1870174800-1870182000@presqueisle.com
SUMMARY:American Mah-jongg
DESCRIPTION:Join us Friday afternoons from 1-3pm for some friendly games of American mahjong! Free to join\, all experience levels welcome.
URL:https://presqueisle.com/event/american-mah-jongg/2029-04-06/
LOCATION:Presque Isle Library\, 8306 School Loop Rd\, Presque Isle\, WI\, 54557\, United States
END:VEVENT
BEGIN:VEVENT
DTSTART;TZID=America/Chicago:20290409T083000
DTEND;TZID=America/Chicago:20290409T110000
DTSTAMP:20260423T052008
CREATED:20250429T164621Z
LAST-MODIFIED:20250429T164854Z
UID:10002677-1870417800-1870426800@presqueisle.com
SUMMARY:Northwoods Table Tennis Club
DESCRIPTION:The Northwoods Table Tennis Club has 3 tables and open play (primary doubles) on Monday & Thursday mornings from 8:30am until 11:00am at the Presque Isle Community Center on 8306 School Loop Rd. In 2025 we will begin playing on Saturday mornings.  Please consult the Town & Chamber event calendars.  Paddles and balls are provided and all skill set levels are invited.
URL:https://presqueisle.com/event/northwoods-table-tennis-club-2/2029-04-09/
LOCATION:Presque Isle Community Center\, 8306 School Loop Rd\, Presque Isle\, WI\, 54557\, United States
END:VEVENT
BEGIN:VEVENT
DTSTART;TZID=America/Chicago:20290412T083000
DTEND;TZID=America/Chicago:20290412T110000
DTSTAMP:20260423T052008
CREATED:20250429T164459Z
LAST-MODIFIED:20250429T164459Z
UID:10002417-1870677000-1870686000@presqueisle.com
SUMMARY:Northwoods Table Tennis Club
DESCRIPTION:The Northwoods Table Tennis Club has 3 tables and open play (primary doubles) on Monday & Thursday mornings from 8:30am until 11:00am at the Presque Isle Community Center on 8306 School Loop Rd. In 2025 we will begin playing on Saturday mornings.  Please consult the Town & Chamber event calendars.  Paddles and balls are provided and all skill set levels are invited.
URL:https://presqueisle.com/event/northwoods-table-tennis-club/2029-04-12/
LOCATION:Presque Isle Community Center\, 8306 School Loop Rd\, Presque Isle\, WI\, 54557\, United States
END:VEVENT
BEGIN:VEVENT
DTSTART;TZID=America/Chicago:20290413T130000
DTEND;TZID=America/Chicago:20290413T150000
DTSTAMP:20260423T052008
CREATED:20251125T164206Z
LAST-MODIFIED:20251125T164206Z
UID:10003011-1870779600-1870786800@presqueisle.com
SUMMARY:American Mah-jongg
DESCRIPTION:Join us Friday afternoons from 1-3pm for some friendly games of American mahjong! Free to join\, all experience levels welcome.
URL:https://presqueisle.com/event/american-mah-jongg/2029-04-13/
LOCATION:Presque Isle Library\, 8306 School Loop Rd\, Presque Isle\, WI\, 54557\, United States
END:VEVENT
BEGIN:VEVENT
DTSTART;TZID=America/Chicago:20290416T083000
DTEND;TZID=America/Chicago:20290416T110000
DTSTAMP:20260423T052008
CREATED:20250429T164621Z
LAST-MODIFIED:20250429T164854Z
UID:10002678-1871022600-1871031600@presqueisle.com
SUMMARY:Northwoods Table Tennis Club
DESCRIPTION:The Northwoods Table Tennis Club has 3 tables and open play (primary doubles) on Monday & Thursday mornings from 8:30am until 11:00am at the Presque Isle Community Center on 8306 School Loop Rd. In 2025 we will begin playing on Saturday mornings.  Please consult the Town & Chamber event calendars.  Paddles and balls are provided and all skill set levels are invited.
URL:https://presqueisle.com/event/northwoods-table-tennis-club-2/2029-04-16/
LOCATION:Presque Isle Community Center\, 8306 School Loop Rd\, Presque Isle\, WI\, 54557\, United States
END:VEVENT
BEGIN:VEVENT
DTSTART;TZID=America/Chicago:20290417T120000
DTEND;TZID=America/Chicago:20290417T150000
DTSTAMP:20260423T052008
CREATED:20251125T170734Z
LAST-MODIFIED:20251125T170734Z
UID:10003254-1871121600-1871132400@presqueisle.com
SUMMARY:Fiber Arts Group
DESCRIPTION:Whether you enjoy knitting\, stitching\, quilting\, felting\, sewing\, crocheting\, or any other fiber art\, this group is open to anyone interested in working on their own projects and sharing ideas. Show and Tell encouraged!! \nThis group meets 1st and 3rd Tuesdays from 12-3pm\, in the library after hours.
URL:https://presqueisle.com/event/fiber-arts-group-2/2029-04-17/
LOCATION:Presque Isle Community Center\, 8306 School Loop Rd\, Presque Isle\, WI\, 54557\, United States
END:VEVENT
BEGIN:VEVENT
DTSTART;TZID=America/Chicago:20290419T083000
DTEND;TZID=America/Chicago:20290419T110000
DTSTAMP:20260423T052008
CREATED:20250429T164459Z
LAST-MODIFIED:20250429T164459Z
UID:10002418-1871281800-1871290800@presqueisle.com
SUMMARY:Northwoods Table Tennis Club
DESCRIPTION:The Northwoods Table Tennis Club has 3 tables and open play (primary doubles) on Monday & Thursday mornings from 8:30am until 11:00am at the Presque Isle Community Center on 8306 School Loop Rd. In 2025 we will begin playing on Saturday mornings.  Please consult the Town & Chamber event calendars.  Paddles and balls are provided and all skill set levels are invited.
URL:https://presqueisle.com/event/northwoods-table-tennis-club/2029-04-19/
LOCATION:Presque Isle Community Center\, 8306 School Loop Rd\, Presque Isle\, WI\, 54557\, United States
END:VEVENT
BEGIN:VEVENT
DTSTART;TZID=America/Chicago:20290420T130000
DTEND;TZID=America/Chicago:20290420T150000
DTSTAMP:20260423T052008
CREATED:20251125T164206Z
LAST-MODIFIED:20251125T164206Z
UID:10003012-1871384400-1871391600@presqueisle.com
SUMMARY:American Mah-jongg
DESCRIPTION:Join us Friday afternoons from 1-3pm for some friendly games of American mahjong! Free to join\, all experience levels welcome.
URL:https://presqueisle.com/event/american-mah-jongg/2029-04-20/
LOCATION:Presque Isle Library\, 8306 School Loop Rd\, Presque Isle\, WI\, 54557\, United States
END:VEVENT
BEGIN:VEVENT
DTSTART;TZID=America/Chicago:20290423T083000
DTEND;TZID=America/Chicago:20290423T110000
DTSTAMP:20260423T052008
CREATED:20250429T164621Z
LAST-MODIFIED:20250429T164854Z
UID:10002679-1871627400-1871636400@presqueisle.com
SUMMARY:Northwoods Table Tennis Club
DESCRIPTION:The Northwoods Table Tennis Club has 3 tables and open play (primary doubles) on Monday & Thursday mornings from 8:30am until 11:00am at the Presque Isle Community Center on 8306 School Loop Rd. In 2025 we will begin playing on Saturday mornings.  Please consult the Town & Chamber event calendars.  Paddles and balls are provided and all skill set levels are invited.
URL:https://presqueisle.com/event/northwoods-table-tennis-club-2/2029-04-23/
LOCATION:Presque Isle Community Center\, 8306 School Loop Rd\, Presque Isle\, WI\, 54557\, United States
END:VEVENT
BEGIN:VEVENT
DTSTART;TZID=America/Chicago:20290426T083000
DTEND;TZID=America/Chicago:20290426T110000
DTSTAMP:20260423T052008
CREATED:20250429T164459Z
LAST-MODIFIED:20250429T164459Z
UID:10002419-1871886600-1871895600@presqueisle.com
SUMMARY:Northwoods Table Tennis Club
DESCRIPTION:The Northwoods Table Tennis Club has 3 tables and open play (primary doubles) on Monday & Thursday mornings from 8:30am until 11:00am at the Presque Isle Community Center on 8306 School Loop Rd. In 2025 we will begin playing on Saturday mornings.  Please consult the Town & Chamber event calendars.  Paddles and balls are provided and all skill set levels are invited.
URL:https://presqueisle.com/event/northwoods-table-tennis-club/2029-04-26/
LOCATION:Presque Isle Community Center\, 8306 School Loop Rd\, Presque Isle\, WI\, 54557\, United States
END:VEVENT
BEGIN:VEVENT
DTSTART;TZID=America/Chicago:20290427T130000
DTEND;TZID=America/Chicago:20290427T150000
DTSTAMP:20260423T052008
CREATED:20251125T164206Z
LAST-MODIFIED:20251125T164206Z
UID:10003013-1871989200-1871996400@presqueisle.com
SUMMARY:American Mah-jongg
DESCRIPTION:Join us Friday afternoons from 1-3pm for some friendly games of American mahjong! Free to join\, all experience levels welcome.
URL:https://presqueisle.com/event/american-mah-jongg/2029-04-27/
LOCATION:Presque Isle Library\, 8306 School Loop Rd\, Presque Isle\, WI\, 54557\, United States
END:VEVENT
BEGIN:VEVENT
DTSTART;TZID=America/Chicago:20290430T083000
DTEND;TZID=America/Chicago:20290430T110000
DTSTAMP:20260423T052008
CREATED:20250429T164621Z
LAST-MODIFIED:20250429T164854Z
UID:10002680-1872232200-1872241200@presqueisle.com
SUMMARY:Northwoods Table Tennis Club
DESCRIPTION:The Northwoods Table Tennis Club has 3 tables and open play (primary doubles) on Monday & Thursday mornings from 8:30am until 11:00am at the Presque Isle Community Center on 8306 School Loop Rd. In 2025 we will begin playing on Saturday mornings.  Please consult the Town & Chamber event calendars.  Paddles and balls are provided and all skill set levels are invited.
URL:https://presqueisle.com/event/northwoods-table-tennis-club-2/2029-04-30/
LOCATION:Presque Isle Community Center\, 8306 School Loop Rd\, Presque Isle\, WI\, 54557\, United States
END:VEVENT
END:VCALENDAR