BEGIN:VCALENDAR
VERSION:2.0
PRODID:-//Presque Isle Wisconsin - ECPv6.15.20//NONSGML v1.0//EN
CALSCALE:GREGORIAN
METHOD:PUBLISH
X-ORIGINAL-URL:https://presqueisle.com
X-WR-CALDESC:Events for Presque Isle Wisconsin
REFRESH-INTERVAL;VALUE=DURATION:PT1H
X-Robots-Tag:noindex
X-PUBLISHED-TTL:PT1H
BEGIN:VTIMEZONE
TZID:America/Chicago
BEGIN:DAYLIGHT
TZOFFSETFROM:-0600
TZOFFSETTO:-0500
TZNAME:CDT
DTSTART:20240310T080000
END:DAYLIGHT
BEGIN:STANDARD
TZOFFSETFROM:-0500
TZOFFSETTO:-0600
TZNAME:CST
DTSTART:20241103T070000
END:STANDARD
BEGIN:DAYLIGHT
TZOFFSETFROM:-0600
TZOFFSETTO:-0500
TZNAME:CDT
DTSTART:20250309T080000
END:DAYLIGHT
BEGIN:STANDARD
TZOFFSETFROM:-0500
TZOFFSETTO:-0600
TZNAME:CST
DTSTART:20251102T070000
END:STANDARD
BEGIN:DAYLIGHT
TZOFFSETFROM:-0600
TZOFFSETTO:-0500
TZNAME:CDT
DTSTART:20260308T080000
END:DAYLIGHT
BEGIN:STANDARD
TZOFFSETFROM:-0500
TZOFFSETTO:-0600
TZNAME:CST
DTSTART:20261101T070000
END:STANDARD
END:VTIMEZONE
BEGIN:VEVENT
DTSTART;TZID=America/Chicago:20250519T000000
DTEND;TZID=America/Chicago:20250519T000000
DTSTAMP:20260419T184355
CREATED:20250121T192742Z
LAST-MODIFIED:20250121T192742Z
UID:10002009-1747612800-1747612800@presqueisle.com
SUMMARY:National EMS Week
DESCRIPTION:SAVE A LIFE\, LEARN CPR!!!
URL:https://presqueisle.com/event/national-ems-week/2025-05-19/
END:VEVENT
BEGIN:VEVENT
DTSTART;TZID=America/Chicago:20250519T083000
DTEND;TZID=America/Chicago:20250519T110000
DTSTAMP:20260419T184355
CREATED:20250429T164621Z
LAST-MODIFIED:20250429T164854Z
UID:10002474-1747643400-1747652400@presqueisle.com
SUMMARY:Northwoods Table Tennis Club
DESCRIPTION:The Northwoods Table Tennis Club has 3 tables and open play (primary doubles) on Monday & Thursday mornings from 8:30am until 11:00am at the Presque Isle Community Center on 8306 School Loop Rd. In 2025 we will begin playing on Saturday mornings.  Please consult the Town & Chamber event calendars.  Paddles and balls are provided and all skill set levels are invited.
URL:https://presqueisle.com/event/northwoods-table-tennis-club-2/2025-05-19/
LOCATION:Presque Isle Community Center\, 8306 School Loop Rd\, Presque Isle\, WI\, 54557\, United States
END:VEVENT
BEGIN:VEVENT
DTSTART;TZID=America/Chicago:20250520T000000
DTEND;TZID=America/Chicago:20250520T000000
DTSTAMP:20260419T184355
CREATED:20250121T192742Z
LAST-MODIFIED:20250121T192742Z
UID:10002010-1747699200-1747699200@presqueisle.com
SUMMARY:National EMS Week
DESCRIPTION:SAVE A LIFE\, LEARN CPR!!!
URL:https://presqueisle.com/event/national-ems-week/2025-05-20/
END:VEVENT
BEGIN:VEVENT
DTSTART;TZID=America/Chicago:20250521T000000
DTEND;TZID=America/Chicago:20250521T000000
DTSTAMP:20260419T184355
CREATED:20250121T192742Z
LAST-MODIFIED:20250121T192742Z
UID:10002011-1747785600-1747785600@presqueisle.com
SUMMARY:National EMS Week
DESCRIPTION:SAVE A LIFE\, LEARN CPR!!!
URL:https://presqueisle.com/event/national-ems-week/2025-05-21/
END:VEVENT
BEGIN:VEVENT
DTSTART;TZID=America/Chicago:20250522T000000
DTEND;TZID=America/Chicago:20250522T000000
DTSTAMP:20260419T184355
CREATED:20250121T192742Z
LAST-MODIFIED:20250121T192742Z
UID:10002012-1747872000-1747872000@presqueisle.com
SUMMARY:National EMS Week
DESCRIPTION:SAVE A LIFE\, LEARN CPR!!!
URL:https://presqueisle.com/event/national-ems-week/2025-05-22/
END:VEVENT
BEGIN:VEVENT
DTSTART;TZID=America/Chicago:20250522T083000
DTEND;TZID=America/Chicago:20250522T110000
DTSTAMP:20260419T184355
CREATED:20250429T164459Z
LAST-MODIFIED:20250429T164459Z
UID:10002214-1747902600-1747911600@presqueisle.com
SUMMARY:Northwoods Table Tennis Club
DESCRIPTION:The Northwoods Table Tennis Club has 3 tables and open play (primary doubles) on Monday & Thursday mornings from 8:30am until 11:00am at the Presque Isle Community Center on 8306 School Loop Rd. In 2025 we will begin playing on Saturday mornings.  Please consult the Town & Chamber event calendars.  Paddles and balls are provided and all skill set levels are invited.
URL:https://presqueisle.com/event/northwoods-table-tennis-club/2025-05-22/
LOCATION:Presque Isle Community Center\, 8306 School Loop Rd\, Presque Isle\, WI\, 54557\, United States
END:VEVENT
BEGIN:VEVENT
DTSTART;TZID=America/Chicago:20250523T000000
DTEND;TZID=America/Chicago:20250523T000000
DTSTAMP:20260419T184355
CREATED:20250121T192742Z
LAST-MODIFIED:20250121T192742Z
UID:10002013-1747958400-1747958400@presqueisle.com
SUMMARY:National EMS Week
DESCRIPTION:SAVE A LIFE\, LEARN CPR!!!
URL:https://presqueisle.com/event/national-ems-week/2025-05-23/
END:VEVENT
BEGIN:VEVENT
DTSTART;TZID=America/Chicago:20250524T000000
DTEND;TZID=America/Chicago:20250524T000000
DTSTAMP:20260419T184355
CREATED:20250121T192742Z
LAST-MODIFIED:20250121T192742Z
UID:10002014-1748044800-1748044800@presqueisle.com
SUMMARY:National EMS Week
DESCRIPTION:SAVE A LIFE\, LEARN CPR!!!
URL:https://presqueisle.com/event/national-ems-week/2025-05-24/
END:VEVENT
BEGIN:VEVENT
DTSTART;TZID=America/Chicago:20250524T160000
DTEND;TZID=America/Chicago:20250524T210000
DTSTAMP:20260419T184355
CREATED:20240928T163042Z
LAST-MODIFIED:20240928T163058Z
UID:10000755-1748102400-1748120400@presqueisle.com
SUMMARY:Lions Club Lobster/Steak Dinner
DESCRIPTION:Join us again this year at the American Legion Post 480 for our annual  Lobster & Steak Dinner!
URL:https://presqueisle.com/event/lions-club-lobster-steak-dinner/
LOCATION:American Legion Post 480\, Hwy W\, Presque Isle\, WI\, 54557-\, United States
ORGANIZER;CN="Presque Isle Lions Club":MAILTO:chamber@presqueisle.com
END:VEVENT
BEGIN:VEVENT
DTSTART;TZID=America/Chicago:20250526T083000
DTEND;TZID=America/Chicago:20250526T110000
DTSTAMP:20260419T184355
CREATED:20250429T164621Z
LAST-MODIFIED:20250429T164854Z
UID:10002475-1748248200-1748257200@presqueisle.com
SUMMARY:Northwoods Table Tennis Club
DESCRIPTION:The Northwoods Table Tennis Club has 3 tables and open play (primary doubles) on Monday & Thursday mornings from 8:30am until 11:00am at the Presque Isle Community Center on 8306 School Loop Rd. In 2025 we will begin playing on Saturday mornings.  Please consult the Town & Chamber event calendars.  Paddles and balls are provided and all skill set levels are invited.
URL:https://presqueisle.com/event/northwoods-table-tennis-club-2/2025-05-26/
LOCATION:Presque Isle Community Center\, 8306 School Loop Rd\, Presque Isle\, WI\, 54557\, United States
END:VEVENT
BEGIN:VEVENT
DTSTART;TZID=America/Chicago:20250526T100000
DTEND;TZID=America/Chicago:20250526T130000
DTSTAMP:20260419T184355
CREATED:20250121T191142Z
LAST-MODIFIED:20250121T191154Z
UID:10001985-1748253600-1748264400@presqueisle.com
SUMMARY:Memorial Day Services / Winegar American Legion Post 480
DESCRIPTION:Ceremony of Events:      \n\nWinchester Cemetery    10am \nPresque Isle Cemetery   11am \nWilderness Veterans Memorial Flame  11:30am \nPlease join us\, after the ceremonies\, at the American Legion Post 480  \n 
URL:https://presqueisle.com/event/memorial-day-services-winegar-american-legion-post-480/
LOCATION:American Legion Post 480\, Hwy W\, Presque Isle\, WI\, 54557-\, United States
END:VEVENT
BEGIN:VEVENT
DTSTART;TZID=America/Chicago:20250529T083000
DTEND;TZID=America/Chicago:20250529T110000
DTSTAMP:20260419T184355
CREATED:20250429T164459Z
LAST-MODIFIED:20250429T164459Z
UID:10002215-1748507400-1748516400@presqueisle.com
SUMMARY:Northwoods Table Tennis Club
DESCRIPTION:The Northwoods Table Tennis Club has 3 tables and open play (primary doubles) on Monday & Thursday mornings from 8:30am until 11:00am at the Presque Isle Community Center on 8306 School Loop Rd. In 2025 we will begin playing on Saturday mornings.  Please consult the Town & Chamber event calendars.  Paddles and balls are provided and all skill set levels are invited.
URL:https://presqueisle.com/event/northwoods-table-tennis-club/2025-05-29/
LOCATION:Presque Isle Community Center\, 8306 School Loop Rd\, Presque Isle\, WI\, 54557\, United States
END:VEVENT
BEGIN:VEVENT
DTSTART;TZID=America/Chicago:20250601T140000
DTEND;TZID=America/Chicago:20250601T170000
DTSTAMP:20260419T184355
CREATED:20250306T185420Z
LAST-MODIFIED:20250306T193617Z
UID:10002038-1748786400-1748797200@presqueisle.com
SUMMARY:"Lasting Legacy" Book Signing
DESCRIPTION:Join author Bill Rutherford for his new book release at Lynx Lake Resort & Bar!  Learn about the Wolter Family in his new book “Lasting Legacy”. \n 
URL:https://presqueisle.com/event/lasting-legacy-book-signing/
LOCATION:Lynx Lake Resort & Bar\, 10683 County Hwy B\, Presque Isle\, WI\, 54557\, United States
END:VEVENT
BEGIN:VEVENT
DTSTART;TZID=America/Chicago:20250602T083000
DTEND;TZID=America/Chicago:20250602T110000
DTSTAMP:20260419T184355
CREATED:20250429T164621Z
LAST-MODIFIED:20250429T164854Z
UID:10002476-1748853000-1748862000@presqueisle.com
SUMMARY:Northwoods Table Tennis Club
DESCRIPTION:The Northwoods Table Tennis Club has 3 tables and open play (primary doubles) on Monday & Thursday mornings from 8:30am until 11:00am at the Presque Isle Community Center on 8306 School Loop Rd. In 2025 we will begin playing on Saturday mornings.  Please consult the Town & Chamber event calendars.  Paddles and balls are provided and all skill set levels are invited.
URL:https://presqueisle.com/event/northwoods-table-tennis-club-2/2025-06-02/
LOCATION:Presque Isle Community Center\, 8306 School Loop Rd\, Presque Isle\, WI\, 54557\, United States
END:VEVENT
BEGIN:VEVENT
DTSTART;TZID=America/Chicago:20250605T083000
DTEND;TZID=America/Chicago:20250605T110000
DTSTAMP:20260419T184355
CREATED:20250429T164459Z
LAST-MODIFIED:20250429T164459Z
UID:10002216-1749112200-1749121200@presqueisle.com
SUMMARY:Northwoods Table Tennis Club
DESCRIPTION:The Northwoods Table Tennis Club has 3 tables and open play (primary doubles) on Monday & Thursday mornings from 8:30am until 11:00am at the Presque Isle Community Center on 8306 School Loop Rd. In 2025 we will begin playing on Saturday mornings.  Please consult the Town & Chamber event calendars.  Paddles and balls are provided and all skill set levels are invited.
URL:https://presqueisle.com/event/northwoods-table-tennis-club/2025-06-05/
LOCATION:Presque Isle Community Center\, 8306 School Loop Rd\, Presque Isle\, WI\, 54557\, United States
END:VEVENT
BEGIN:VEVENT
DTSTART;TZID=America/Chicago:20250607T143000
DTEND;TZID=America/Chicago:20250607T190000
DTSTAMP:20260419T184355
CREATED:20250531T155619Z
LAST-MODIFIED:20250531T155619Z
UID:10002735-1749306600-1749322800@presqueisle.com
SUMMARY:Winegar Riders "Open Road Party"
DESCRIPTION:
URL:https://presqueisle.com/event/winegar-riders-open-road-party/
LOCATION:Lynx Lake Resort & Bar\, 10683 County Hwy B\, Presque Isle\, WI\, 54557\, United States
END:VEVENT
BEGIN:VEVENT
DTSTART;TZID=America/Chicago:20250607T163000
DTEND;TZID=America/Chicago:20250607T193000
DTSTAMP:20260419T184355
CREATED:20240928T173435Z
LAST-MODIFIED:20240928T173440Z
UID:10001131-1749313800-1749324600@presqueisle.com
SUMMARY:North Lakeland Discovery Center's:  The Big Event
DESCRIPTION:Gather with us at the North Lakeland Discovery Center to celebrate environmental education resources in the Northwoods and attend our biggest fundraiser event of the year featuring delicious bites\, a live auction and more!
URL:https://presqueisle.com/event/north-lakeland-discovery-centers-the-big-event/
LOCATION:North Lakeland Discovery Center\, 14006 Discovery Ln\, Manitowish Waters\, WI\, 54545\, United States
END:VEVENT
BEGIN:VEVENT
DTSTART;TZID=America/Chicago:20250609T083000
DTEND;TZID=America/Chicago:20250609T110000
DTSTAMP:20260419T184355
CREATED:20250429T164621Z
LAST-MODIFIED:20250429T164854Z
UID:10002477-1749457800-1749466800@presqueisle.com
SUMMARY:Northwoods Table Tennis Club
DESCRIPTION:The Northwoods Table Tennis Club has 3 tables and open play (primary doubles) on Monday & Thursday mornings from 8:30am until 11:00am at the Presque Isle Community Center on 8306 School Loop Rd. In 2025 we will begin playing on Saturday mornings.  Please consult the Town & Chamber event calendars.  Paddles and balls are provided and all skill set levels are invited.
URL:https://presqueisle.com/event/northwoods-table-tennis-club-2/2025-06-09/
LOCATION:Presque Isle Community Center\, 8306 School Loop Rd\, Presque Isle\, WI\, 54557\, United States
END:VEVENT
BEGIN:VEVENT
DTSTART;TZID=America/Chicago:20250612T083000
DTEND;TZID=America/Chicago:20250612T110000
DTSTAMP:20260419T184355
CREATED:20250429T164459Z
LAST-MODIFIED:20250429T164459Z
UID:10002217-1749717000-1749726000@presqueisle.com
SUMMARY:Northwoods Table Tennis Club
DESCRIPTION:The Northwoods Table Tennis Club has 3 tables and open play (primary doubles) on Monday & Thursday mornings from 8:30am until 11:00am at the Presque Isle Community Center on 8306 School Loop Rd. In 2025 we will begin playing on Saturday mornings.  Please consult the Town & Chamber event calendars.  Paddles and balls are provided and all skill set levels are invited.
URL:https://presqueisle.com/event/northwoods-table-tennis-club/2025-06-12/
LOCATION:Presque Isle Community Center\, 8306 School Loop Rd\, Presque Isle\, WI\, 54557\, United States
END:VEVENT
BEGIN:VEVENT
DTSTART;TZID=America/Chicago:20250613T080000
DTEND;TZID=America/Chicago:20250613T140000
DTSTAMP:20260419T184355
CREATED:20250522T155800Z
LAST-MODIFIED:20250522T155917Z
UID:10002023-1749801600-1749823200@presqueisle.com
SUMMARY:Farm Fresh Friday Market
DESCRIPTION:Featuring farm fresh produce\, bakery\, honey\, cheese\, grass-fed\nmeats / poultry\, smoked fish\, local eggs\, and other finds\, including hometown vendors with\nhandcrafted\, locally made items\, from the Northwoods.
URL:https://presqueisle.com/event/farm-fresh-friday-market-2/2025-06-13/
LOCATION:Presque Isle Main St\, MAIN STREET\, Presque Isle\, WI\, 54557-\, United States
ORGANIZER;CN="Presque Isle Chamber of Commerce":MAILTO:chamber@presqueisle.com
END:VEVENT
BEGIN:VEVENT
DTSTART;TZID=America/Chicago:20250616T083000
DTEND;TZID=America/Chicago:20250616T110000
DTSTAMP:20260419T184355
CREATED:20250429T164621Z
LAST-MODIFIED:20250429T164854Z
UID:10002478-1750062600-1750071600@presqueisle.com
SUMMARY:Northwoods Table Tennis Club
DESCRIPTION:The Northwoods Table Tennis Club has 3 tables and open play (primary doubles) on Monday & Thursday mornings from 8:30am until 11:00am at the Presque Isle Community Center on 8306 School Loop Rd. In 2025 we will begin playing on Saturday mornings.  Please consult the Town & Chamber event calendars.  Paddles and balls are provided and all skill set levels are invited.
URL:https://presqueisle.com/event/northwoods-table-tennis-club-2/2025-06-16/
LOCATION:Presque Isle Community Center\, 8306 School Loop Rd\, Presque Isle\, WI\, 54557\, United States
END:VEVENT
BEGIN:VEVENT
DTSTART;TZID=America/Chicago:20250619T083000
DTEND;TZID=America/Chicago:20250619T110000
DTSTAMP:20260419T184355
CREATED:20250429T164459Z
LAST-MODIFIED:20250429T164459Z
UID:10002218-1750321800-1750330800@presqueisle.com
SUMMARY:Northwoods Table Tennis Club
DESCRIPTION:The Northwoods Table Tennis Club has 3 tables and open play (primary doubles) on Monday & Thursday mornings from 8:30am until 11:00am at the Presque Isle Community Center on 8306 School Loop Rd. In 2025 we will begin playing on Saturday mornings.  Please consult the Town & Chamber event calendars.  Paddles and balls are provided and all skill set levels are invited.
URL:https://presqueisle.com/event/northwoods-table-tennis-club/2025-06-19/
LOCATION:Presque Isle Community Center\, 8306 School Loop Rd\, Presque Isle\, WI\, 54557\, United States
END:VEVENT
BEGIN:VEVENT
DTSTART;TZID=America/Chicago:20250620T080000
DTEND;TZID=America/Chicago:20250620T140000
DTSTAMP:20260419T184355
CREATED:20250522T155800Z
LAST-MODIFIED:20250522T155917Z
UID:10002734-1750406400-1750428000@presqueisle.com
SUMMARY:Farm Fresh Friday Market
DESCRIPTION:Featuring farm fresh produce\, bakery\, honey\, cheese\, grass-fed\nmeats / poultry\, smoked fish\, local eggs\, and other finds\, including hometown vendors with\nhandcrafted\, locally made items\, from the Northwoods.
URL:https://presqueisle.com/event/farm-fresh-friday-market-2/2025-06-20/
LOCATION:Presque Isle Main St\, MAIN STREET\, Presque Isle\, WI\, 54557-\, United States
ORGANIZER;CN="Presque Isle Chamber of Commerce":MAILTO:chamber@presqueisle.com
END:VEVENT
BEGIN:VEVENT
DTSTART;TZID=America/Chicago:20250621T080000
DTEND;TZID=America/Chicago:20250621T110000
DTSTAMP:20260419T184355
CREATED:20250121T181225Z
LAST-MODIFIED:20250121T185638Z
UID:10001978-1750492800-1750503600@presqueisle.com
SUMMARY:Loggers Breakfast / Presque Isle Lions Club
DESCRIPTION:Presque Isle Lions Club Loggers Breakfast\, Saturday July 27th\, 8am-11am \nAll you can eat / Adults $15/ Children (5-12) $10/ Under 5 eats free \nServing Mimosa’s!!!  Yummmm
URL:https://presqueisle.com/event/loggers-breakfast-presque-isle-lions-club/
LOCATION:Presque Isle Community Center\, 8306 School Loop Rd\, Presque Isle\, WI\, 54557\, United States
ORGANIZER;CN="Presque Isle Lions Club":MAILTO:chamber@presqueisle.com
END:VEVENT
BEGIN:VEVENT
DTSTART;TZID=America/Chicago:20250623T083000
DTEND;TZID=America/Chicago:20250623T110000
DTSTAMP:20260419T184355
CREATED:20250429T164621Z
LAST-MODIFIED:20250429T164854Z
UID:10002479-1750667400-1750676400@presqueisle.com
SUMMARY:Northwoods Table Tennis Club
DESCRIPTION:The Northwoods Table Tennis Club has 3 tables and open play (primary doubles) on Monday & Thursday mornings from 8:30am until 11:00am at the Presque Isle Community Center on 8306 School Loop Rd. In 2025 we will begin playing on Saturday mornings.  Please consult the Town & Chamber event calendars.  Paddles and balls are provided and all skill set levels are invited.
URL:https://presqueisle.com/event/northwoods-table-tennis-club-2/2025-06-23/
LOCATION:Presque Isle Community Center\, 8306 School Loop Rd\, Presque Isle\, WI\, 54557\, United States
END:VEVENT
BEGIN:VEVENT
DTSTART;TZID=America/Chicago:20250625T170000
DTEND;TZID=America/Chicago:20250625T190000
DTSTAMP:20260419T184355
CREATED:20250603T141805Z
LAST-MODIFIED:20250603T141852Z
UID:10002736-1750870800-1750878000@presqueisle.com
SUMMARY:Warren Nelson in Concert
DESCRIPTION:Singer\, Songwriter\, musician….Founder of Big Top Chautauqua with Ed Willett & Rowan Nelson-Ferris \nTickets available at the Presque Isle Library / 715-686-7613
URL:https://presqueisle.com/event/warren-nelson-in-concert/
LOCATION:Presque Isle Community Center\, 8306 School Loop Rd\, Presque Isle\, WI\, 54557\, United States
END:VEVENT
BEGIN:VEVENT
DTSTART;TZID=America/Chicago:20250626T083000
DTEND;TZID=America/Chicago:20250626T110000
DTSTAMP:20260419T184355
CREATED:20250429T164459Z
LAST-MODIFIED:20250429T164459Z
UID:10002219-1750926600-1750935600@presqueisle.com
SUMMARY:Northwoods Table Tennis Club
DESCRIPTION:The Northwoods Table Tennis Club has 3 tables and open play (primary doubles) on Monday & Thursday mornings from 8:30am until 11:00am at the Presque Isle Community Center on 8306 School Loop Rd. In 2025 we will begin playing on Saturday mornings.  Please consult the Town & Chamber event calendars.  Paddles and balls are provided and all skill set levels are invited.
URL:https://presqueisle.com/event/northwoods-table-tennis-club/2025-06-26/
LOCATION:Presque Isle Community Center\, 8306 School Loop Rd\, Presque Isle\, WI\, 54557\, United States
END:VEVENT
BEGIN:VEVENT
DTSTART;TZID=America/Chicago:20250627T050000
DTEND;TZID=America/Chicago:20250627T220000
DTSTAMP:20260419T184355
CREATED:20250121T175758Z
LAST-MODIFIED:20250121T175920Z
UID:10001920-1751000400-1751061600@presqueisle.com
SUMMARY:Independence Day Fireworks
DESCRIPTION:Join us at Pipke Park for live music by Stephen Geisinger followed by our Independence Day Fireworks!!!
URL:https://presqueisle.com/event/independance-day-fireworks/
LOCATION:Pipke Park\, Presque Isle
END:VEVENT
BEGIN:VEVENT
DTSTART;TZID=America/Chicago:20250627T080000
DTEND;TZID=America/Chicago:20250627T140000
DTSTAMP:20260419T184355
CREATED:20250522T155800Z
LAST-MODIFIED:20250522T155917Z
UID:10002024-1751011200-1751032800@presqueisle.com
SUMMARY:Farm Fresh Friday Market
DESCRIPTION:Featuring farm fresh produce\, bakery\, honey\, cheese\, grass-fed\nmeats / poultry\, smoked fish\, local eggs\, and other finds\, including hometown vendors with\nhandcrafted\, locally made items\, from the Northwoods.
URL:https://presqueisle.com/event/farm-fresh-friday-market-2/2025-06-27/
LOCATION:Presque Isle Main St\, MAIN STREET\, Presque Isle\, WI\, 54557-\, United States
ORGANIZER;CN="Presque Isle Chamber of Commerce":MAILTO:chamber@presqueisle.com
END:VEVENT
BEGIN:VEVENT
DTSTART;TZID=America/Chicago:20250627T170000
DTEND;TZID=America/Chicago:20250627T200000
DTSTAMP:20260419T184355
CREATED:20250121T163351Z
LAST-MODIFIED:20250401T163919Z
UID:10001911-1751043600-1751054400@presqueisle.com
SUMMARY:Tunes on the Water w/ Whitehouse Players
DESCRIPTION:Join us at Park for great music by the water!!!  Bring your lawn chairs\, or a blanket to sit on.  There is also food and beverages available.  In case of inclement weather\, the music will be played at the Presque Isle Community Center.
URL:https://presqueisle.com/event/tunes-on-the-water-w-stephen-geisinger/
LOCATION:Pipke Park\, Presque Isle
ORGANIZER;CN="Presque Isle Lions Club":MAILTO:chamber@presqueisle.com
END:VEVENT
END:VCALENDAR