BEGIN:VCALENDAR
VERSION:2.0
PRODID:-//Presque Isle Wisconsin - ECPv6.15.20//NONSGML v1.0//EN
CALSCALE:GREGORIAN
METHOD:PUBLISH
X-ORIGINAL-URL:https://presqueisle.com
X-WR-CALDESC:Events for Presque Isle Wisconsin
REFRESH-INTERVAL;VALUE=DURATION:PT1H
X-Robots-Tag:noindex
X-PUBLISHED-TTL:PT1H
BEGIN:VTIMEZONE
TZID:America/Chicago
BEGIN:DAYLIGHT
TZOFFSETFROM:-0600
TZOFFSETTO:-0500
TZNAME:CDT
DTSTART:20260308T080000
END:DAYLIGHT
BEGIN:STANDARD
TZOFFSETFROM:-0500
TZOFFSETTO:-0600
TZNAME:CST
DTSTART:20261101T070000
END:STANDARD
BEGIN:DAYLIGHT
TZOFFSETFROM:-0600
TZOFFSETTO:-0500
TZNAME:CDT
DTSTART:20270314T080000
END:DAYLIGHT
BEGIN:STANDARD
TZOFFSETFROM:-0500
TZOFFSETTO:-0600
TZNAME:CST
DTSTART:20271107T070000
END:STANDARD
BEGIN:DAYLIGHT
TZOFFSETFROM:-0600
TZOFFSETTO:-0500
TZNAME:CDT
DTSTART:20280312T080000
END:DAYLIGHT
BEGIN:STANDARD
TZOFFSETFROM:-0500
TZOFFSETTO:-0600
TZNAME:CST
DTSTART:20281105T070000
END:STANDARD
END:VTIMEZONE
BEGIN:VEVENT
DTSTART;TZID=America/Chicago:20270521T130000
DTEND;TZID=America/Chicago:20270521T150000
DTSTAMP:20260420T184553
CREATED:20251125T164206Z
LAST-MODIFIED:20251125T164206Z
UID:10002912-1810904400-1810911600@presqueisle.com
SUMMARY:American Mah-jongg
DESCRIPTION:Join us Friday afternoons from 1-3pm for some friendly games of American mahjong! Free to join\, all experience levels welcome.
URL:https://presqueisle.com/event/american-mah-jongg/2027-05-21/
LOCATION:Presque Isle Library\, 8306 School Loop Rd\, Presque Isle\, WI\, 54557\, United States
END:VEVENT
BEGIN:VEVENT
DTSTART;TZID=America/Chicago:20270524T083000
DTEND;TZID=America/Chicago:20270524T110000
DTSTAMP:20260420T184553
CREATED:20250429T164621Z
LAST-MODIFIED:20250429T164854Z
UID:10002579-1811147400-1811156400@presqueisle.com
SUMMARY:Northwoods Table Tennis Club
DESCRIPTION:The Northwoods Table Tennis Club has 3 tables and open play (primary doubles) on Monday & Thursday mornings from 8:30am until 11:00am at the Presque Isle Community Center on 8306 School Loop Rd. In 2025 we will begin playing on Saturday mornings.  Please consult the Town & Chamber event calendars.  Paddles and balls are provided and all skill set levels are invited.
URL:https://presqueisle.com/event/northwoods-table-tennis-club-2/2027-05-24/
LOCATION:Presque Isle Community Center\, 8306 School Loop Rd\, Presque Isle\, WI\, 54557\, United States
END:VEVENT
BEGIN:VEVENT
DTSTART;TZID=America/Chicago:20270527T083000
DTEND;TZID=America/Chicago:20270527T110000
DTSTAMP:20260420T184553
CREATED:20250429T164459Z
LAST-MODIFIED:20250429T164459Z
UID:10002319-1811406600-1811415600@presqueisle.com
SUMMARY:Northwoods Table Tennis Club
DESCRIPTION:The Northwoods Table Tennis Club has 3 tables and open play (primary doubles) on Monday & Thursday mornings from 8:30am until 11:00am at the Presque Isle Community Center on 8306 School Loop Rd. In 2025 we will begin playing on Saturday mornings.  Please consult the Town & Chamber event calendars.  Paddles and balls are provided and all skill set levels are invited.
URL:https://presqueisle.com/event/northwoods-table-tennis-club/2027-05-27/
LOCATION:Presque Isle Community Center\, 8306 School Loop Rd\, Presque Isle\, WI\, 54557\, United States
END:VEVENT
BEGIN:VEVENT
DTSTART;TZID=America/Chicago:20270528T130000
DTEND;TZID=America/Chicago:20270528T150000
DTSTAMP:20260420T184553
CREATED:20251125T164206Z
LAST-MODIFIED:20251125T164206Z
UID:10002913-1811509200-1811516400@presqueisle.com
SUMMARY:American Mah-jongg
DESCRIPTION:Join us Friday afternoons from 1-3pm for some friendly games of American mahjong! Free to join\, all experience levels welcome.
URL:https://presqueisle.com/event/american-mah-jongg/2027-05-28/
LOCATION:Presque Isle Library\, 8306 School Loop Rd\, Presque Isle\, WI\, 54557\, United States
END:VEVENT
BEGIN:VEVENT
DTSTART;TZID=America/Chicago:20270531T083000
DTEND;TZID=America/Chicago:20270531T110000
DTSTAMP:20260420T184553
CREATED:20250429T164621Z
LAST-MODIFIED:20250429T164854Z
UID:10002580-1811752200-1811761200@presqueisle.com
SUMMARY:Northwoods Table Tennis Club
DESCRIPTION:The Northwoods Table Tennis Club has 3 tables and open play (primary doubles) on Monday & Thursday mornings from 8:30am until 11:00am at the Presque Isle Community Center on 8306 School Loop Rd. In 2025 we will begin playing on Saturday mornings.  Please consult the Town & Chamber event calendars.  Paddles and balls are provided and all skill set levels are invited.
URL:https://presqueisle.com/event/northwoods-table-tennis-club-2/2027-05-31/
LOCATION:Presque Isle Community Center\, 8306 School Loop Rd\, Presque Isle\, WI\, 54557\, United States
END:VEVENT
BEGIN:VEVENT
DTSTART;TZID=America/Chicago:20270601T120000
DTEND;TZID=America/Chicago:20270601T150000
DTSTAMP:20260420T184553
CREATED:20251125T170547Z
LAST-MODIFIED:20251125T170547Z
UID:10003172-1811851200-1811862000@presqueisle.com
SUMMARY:Fiber Arts Group
DESCRIPTION:Whether you enjoy knitting\, stitching\, quilting\, felting\, sewing\, crocheting\, or any other fiber art\, this group is open to anyone interested in working on their own projects and sharing ideas. Show and Tell encouraged!! \nThis group meets 1st and 3rd Tuesdays from 12-3pm\, in the library after hours.
URL:https://presqueisle.com/event/fiber-arts-group/2027-06-01/
LOCATION:Presque Isle Community Center\, 8306 School Loop Rd\, Presque Isle\, WI\, 54557\, United States
END:VEVENT
BEGIN:VEVENT
DTSTART;TZID=America/Chicago:20270603T083000
DTEND;TZID=America/Chicago:20270603T110000
DTSTAMP:20260420T184553
CREATED:20250429T164459Z
LAST-MODIFIED:20250429T164459Z
UID:10002320-1812011400-1812020400@presqueisle.com
SUMMARY:Northwoods Table Tennis Club
DESCRIPTION:The Northwoods Table Tennis Club has 3 tables and open play (primary doubles) on Monday & Thursday mornings from 8:30am until 11:00am at the Presque Isle Community Center on 8306 School Loop Rd. In 2025 we will begin playing on Saturday mornings.  Please consult the Town & Chamber event calendars.  Paddles and balls are provided and all skill set levels are invited.
URL:https://presqueisle.com/event/northwoods-table-tennis-club/2027-06-03/
LOCATION:Presque Isle Community Center\, 8306 School Loop Rd\, Presque Isle\, WI\, 54557\, United States
END:VEVENT
BEGIN:VEVENT
DTSTART;TZID=America/Chicago:20270604T130000
DTEND;TZID=America/Chicago:20270604T150000
DTSTAMP:20260420T184553
CREATED:20251125T164206Z
LAST-MODIFIED:20251125T164206Z
UID:10002914-1812114000-1812121200@presqueisle.com
SUMMARY:American Mah-jongg
DESCRIPTION:Join us Friday afternoons from 1-3pm for some friendly games of American mahjong! Free to join\, all experience levels welcome.
URL:https://presqueisle.com/event/american-mah-jongg/2027-06-04/
LOCATION:Presque Isle Library\, 8306 School Loop Rd\, Presque Isle\, WI\, 54557\, United States
END:VEVENT
BEGIN:VEVENT
DTSTART;TZID=America/Chicago:20270607T083000
DTEND;TZID=America/Chicago:20270607T110000
DTSTAMP:20260420T184553
CREATED:20250429T164621Z
LAST-MODIFIED:20250429T164854Z
UID:10002581-1812357000-1812366000@presqueisle.com
SUMMARY:Northwoods Table Tennis Club
DESCRIPTION:The Northwoods Table Tennis Club has 3 tables and open play (primary doubles) on Monday & Thursday mornings from 8:30am until 11:00am at the Presque Isle Community Center on 8306 School Loop Rd. In 2025 we will begin playing on Saturday mornings.  Please consult the Town & Chamber event calendars.  Paddles and balls are provided and all skill set levels are invited.
URL:https://presqueisle.com/event/northwoods-table-tennis-club-2/2027-06-07/
LOCATION:Presque Isle Community Center\, 8306 School Loop Rd\, Presque Isle\, WI\, 54557\, United States
END:VEVENT
BEGIN:VEVENT
DTSTART;TZID=America/Chicago:20270610T083000
DTEND;TZID=America/Chicago:20270610T110000
DTSTAMP:20260420T184553
CREATED:20250429T164459Z
LAST-MODIFIED:20250429T164459Z
UID:10002321-1812616200-1812625200@presqueisle.com
SUMMARY:Northwoods Table Tennis Club
DESCRIPTION:The Northwoods Table Tennis Club has 3 tables and open play (primary doubles) on Monday & Thursday mornings from 8:30am until 11:00am at the Presque Isle Community Center on 8306 School Loop Rd. In 2025 we will begin playing on Saturday mornings.  Please consult the Town & Chamber event calendars.  Paddles and balls are provided and all skill set levels are invited.
URL:https://presqueisle.com/event/northwoods-table-tennis-club/2027-06-10/
LOCATION:Presque Isle Community Center\, 8306 School Loop Rd\, Presque Isle\, WI\, 54557\, United States
END:VEVENT
BEGIN:VEVENT
DTSTART;TZID=America/Chicago:20270611T130000
DTEND;TZID=America/Chicago:20270611T150000
DTSTAMP:20260420T184553
CREATED:20251125T164206Z
LAST-MODIFIED:20251125T164206Z
UID:10002915-1812718800-1812726000@presqueisle.com
SUMMARY:American Mah-jongg
DESCRIPTION:Join us Friday afternoons from 1-3pm for some friendly games of American mahjong! Free to join\, all experience levels welcome.
URL:https://presqueisle.com/event/american-mah-jongg/2027-06-11/
LOCATION:Presque Isle Library\, 8306 School Loop Rd\, Presque Isle\, WI\, 54557\, United States
END:VEVENT
BEGIN:VEVENT
DTSTART;TZID=America/Chicago:20270614T083000
DTEND;TZID=America/Chicago:20270614T110000
DTSTAMP:20260420T184553
CREATED:20250429T164621Z
LAST-MODIFIED:20250429T164854Z
UID:10002582-1812961800-1812970800@presqueisle.com
SUMMARY:Northwoods Table Tennis Club
DESCRIPTION:The Northwoods Table Tennis Club has 3 tables and open play (primary doubles) on Monday & Thursday mornings from 8:30am until 11:00am at the Presque Isle Community Center on 8306 School Loop Rd. In 2025 we will begin playing on Saturday mornings.  Please consult the Town & Chamber event calendars.  Paddles and balls are provided and all skill set levels are invited.
URL:https://presqueisle.com/event/northwoods-table-tennis-club-2/2027-06-14/
LOCATION:Presque Isle Community Center\, 8306 School Loop Rd\, Presque Isle\, WI\, 54557\, United States
END:VEVENT
BEGIN:VEVENT
DTSTART;TZID=America/Chicago:20270615T120000
DTEND;TZID=America/Chicago:20270615T150000
DTSTAMP:20260420T184553
CREATED:20251125T170734Z
LAST-MODIFIED:20251125T170734Z
UID:10003232-1813060800-1813071600@presqueisle.com
SUMMARY:Fiber Arts Group
DESCRIPTION:Whether you enjoy knitting\, stitching\, quilting\, felting\, sewing\, crocheting\, or any other fiber art\, this group is open to anyone interested in working on their own projects and sharing ideas. Show and Tell encouraged!! \nThis group meets 1st and 3rd Tuesdays from 12-3pm\, in the library after hours.
URL:https://presqueisle.com/event/fiber-arts-group-2/2027-06-15/
LOCATION:Presque Isle Community Center\, 8306 School Loop Rd\, Presque Isle\, WI\, 54557\, United States
END:VEVENT
BEGIN:VEVENT
DTSTART;TZID=America/Chicago:20270617T083000
DTEND;TZID=America/Chicago:20270617T110000
DTSTAMP:20260420T184553
CREATED:20250429T164459Z
LAST-MODIFIED:20250429T164459Z
UID:10002322-1813221000-1813230000@presqueisle.com
SUMMARY:Northwoods Table Tennis Club
DESCRIPTION:The Northwoods Table Tennis Club has 3 tables and open play (primary doubles) on Monday & Thursday mornings from 8:30am until 11:00am at the Presque Isle Community Center on 8306 School Loop Rd. In 2025 we will begin playing on Saturday mornings.  Please consult the Town & Chamber event calendars.  Paddles and balls are provided and all skill set levels are invited.
URL:https://presqueisle.com/event/northwoods-table-tennis-club/2027-06-17/
LOCATION:Presque Isle Community Center\, 8306 School Loop Rd\, Presque Isle\, WI\, 54557\, United States
END:VEVENT
BEGIN:VEVENT
DTSTART;TZID=America/Chicago:20270618T130000
DTEND;TZID=America/Chicago:20270618T150000
DTSTAMP:20260420T184553
CREATED:20251125T164206Z
LAST-MODIFIED:20251125T164206Z
UID:10002916-1813323600-1813330800@presqueisle.com
SUMMARY:American Mah-jongg
DESCRIPTION:Join us Friday afternoons from 1-3pm for some friendly games of American mahjong! Free to join\, all experience levels welcome.
URL:https://presqueisle.com/event/american-mah-jongg/2027-06-18/
LOCATION:Presque Isle Library\, 8306 School Loop Rd\, Presque Isle\, WI\, 54557\, United States
END:VEVENT
BEGIN:VEVENT
DTSTART;TZID=America/Chicago:20270621T083000
DTEND;TZID=America/Chicago:20270621T110000
DTSTAMP:20260420T184553
CREATED:20250429T164621Z
LAST-MODIFIED:20250429T164854Z
UID:10002583-1813566600-1813575600@presqueisle.com
SUMMARY:Northwoods Table Tennis Club
DESCRIPTION:The Northwoods Table Tennis Club has 3 tables and open play (primary doubles) on Monday & Thursday mornings from 8:30am until 11:00am at the Presque Isle Community Center on 8306 School Loop Rd. In 2025 we will begin playing on Saturday mornings.  Please consult the Town & Chamber event calendars.  Paddles and balls are provided and all skill set levels are invited.
URL:https://presqueisle.com/event/northwoods-table-tennis-club-2/2027-06-21/
LOCATION:Presque Isle Community Center\, 8306 School Loop Rd\, Presque Isle\, WI\, 54557\, United States
END:VEVENT
BEGIN:VEVENT
DTSTART;TZID=America/Chicago:20270624T083000
DTEND;TZID=America/Chicago:20270624T110000
DTSTAMP:20260420T184553
CREATED:20250429T164459Z
LAST-MODIFIED:20250429T164459Z
UID:10002323-1813825800-1813834800@presqueisle.com
SUMMARY:Northwoods Table Tennis Club
DESCRIPTION:The Northwoods Table Tennis Club has 3 tables and open play (primary doubles) on Monday & Thursday mornings from 8:30am until 11:00am at the Presque Isle Community Center on 8306 School Loop Rd. In 2025 we will begin playing on Saturday mornings.  Please consult the Town & Chamber event calendars.  Paddles and balls are provided and all skill set levels are invited.
URL:https://presqueisle.com/event/northwoods-table-tennis-club/2027-06-24/
LOCATION:Presque Isle Community Center\, 8306 School Loop Rd\, Presque Isle\, WI\, 54557\, United States
END:VEVENT
BEGIN:VEVENT
DTSTART;TZID=America/Chicago:20270625T130000
DTEND;TZID=America/Chicago:20270625T150000
DTSTAMP:20260420T184553
CREATED:20251125T164206Z
LAST-MODIFIED:20251125T164206Z
UID:10002917-1813928400-1813935600@presqueisle.com
SUMMARY:American Mah-jongg
DESCRIPTION:Join us Friday afternoons from 1-3pm for some friendly games of American mahjong! Free to join\, all experience levels welcome.
URL:https://presqueisle.com/event/american-mah-jongg/2027-06-25/
LOCATION:Presque Isle Library\, 8306 School Loop Rd\, Presque Isle\, WI\, 54557\, United States
END:VEVENT
BEGIN:VEVENT
DTSTART;TZID=America/Chicago:20270628T083000
DTEND;TZID=America/Chicago:20270628T110000
DTSTAMP:20260420T184553
CREATED:20250429T164621Z
LAST-MODIFIED:20250429T164854Z
UID:10002584-1814171400-1814180400@presqueisle.com
SUMMARY:Northwoods Table Tennis Club
DESCRIPTION:The Northwoods Table Tennis Club has 3 tables and open play (primary doubles) on Monday & Thursday mornings from 8:30am until 11:00am at the Presque Isle Community Center on 8306 School Loop Rd. In 2025 we will begin playing on Saturday mornings.  Please consult the Town & Chamber event calendars.  Paddles and balls are provided and all skill set levels are invited.
URL:https://presqueisle.com/event/northwoods-table-tennis-club-2/2027-06-28/
LOCATION:Presque Isle Community Center\, 8306 School Loop Rd\, Presque Isle\, WI\, 54557\, United States
END:VEVENT
BEGIN:VEVENT
DTSTART;TZID=America/Chicago:20270701T083000
DTEND;TZID=America/Chicago:20270701T110000
DTSTAMP:20260420T184553
CREATED:20250429T164459Z
LAST-MODIFIED:20250429T164459Z
UID:10002324-1814430600-1814439600@presqueisle.com
SUMMARY:Northwoods Table Tennis Club
DESCRIPTION:The Northwoods Table Tennis Club has 3 tables and open play (primary doubles) on Monday & Thursday mornings from 8:30am until 11:00am at the Presque Isle Community Center on 8306 School Loop Rd. In 2025 we will begin playing on Saturday mornings.  Please consult the Town & Chamber event calendars.  Paddles and balls are provided and all skill set levels are invited.
URL:https://presqueisle.com/event/northwoods-table-tennis-club/2027-07-01/
LOCATION:Presque Isle Community Center\, 8306 School Loop Rd\, Presque Isle\, WI\, 54557\, United States
END:VEVENT
BEGIN:VEVENT
DTSTART;TZID=America/Chicago:20270702T130000
DTEND;TZID=America/Chicago:20270702T150000
DTSTAMP:20260420T184553
CREATED:20251125T164206Z
LAST-MODIFIED:20251125T164206Z
UID:10002918-1814533200-1814540400@presqueisle.com
SUMMARY:American Mah-jongg
DESCRIPTION:Join us Friday afternoons from 1-3pm for some friendly games of American mahjong! Free to join\, all experience levels welcome.
URL:https://presqueisle.com/event/american-mah-jongg/2027-07-02/
LOCATION:Presque Isle Library\, 8306 School Loop Rd\, Presque Isle\, WI\, 54557\, United States
END:VEVENT
BEGIN:VEVENT
DTSTART;TZID=America/Chicago:20270705T083000
DTEND;TZID=America/Chicago:20270705T110000
DTSTAMP:20260420T184553
CREATED:20250429T164621Z
LAST-MODIFIED:20250429T164854Z
UID:10002585-1814776200-1814785200@presqueisle.com
SUMMARY:Northwoods Table Tennis Club
DESCRIPTION:The Northwoods Table Tennis Club has 3 tables and open play (primary doubles) on Monday & Thursday mornings from 8:30am until 11:00am at the Presque Isle Community Center on 8306 School Loop Rd. In 2025 we will begin playing on Saturday mornings.  Please consult the Town & Chamber event calendars.  Paddles and balls are provided and all skill set levels are invited.
URL:https://presqueisle.com/event/northwoods-table-tennis-club-2/2027-07-05/
LOCATION:Presque Isle Community Center\, 8306 School Loop Rd\, Presque Isle\, WI\, 54557\, United States
END:VEVENT
BEGIN:VEVENT
DTSTART;TZID=America/Chicago:20270706T120000
DTEND;TZID=America/Chicago:20270706T150000
DTSTAMP:20260420T184553
CREATED:20251125T170547Z
LAST-MODIFIED:20251125T170547Z
UID:10003173-1814875200-1814886000@presqueisle.com
SUMMARY:Fiber Arts Group
DESCRIPTION:Whether you enjoy knitting\, stitching\, quilting\, felting\, sewing\, crocheting\, or any other fiber art\, this group is open to anyone interested in working on their own projects and sharing ideas. Show and Tell encouraged!! \nThis group meets 1st and 3rd Tuesdays from 12-3pm\, in the library after hours.
URL:https://presqueisle.com/event/fiber-arts-group/2027-07-06/
LOCATION:Presque Isle Community Center\, 8306 School Loop Rd\, Presque Isle\, WI\, 54557\, United States
END:VEVENT
BEGIN:VEVENT
DTSTART;TZID=America/Chicago:20270708T083000
DTEND;TZID=America/Chicago:20270708T110000
DTSTAMP:20260420T184553
CREATED:20250429T164459Z
LAST-MODIFIED:20250429T164459Z
UID:10002325-1815035400-1815044400@presqueisle.com
SUMMARY:Northwoods Table Tennis Club
DESCRIPTION:The Northwoods Table Tennis Club has 3 tables and open play (primary doubles) on Monday & Thursday mornings from 8:30am until 11:00am at the Presque Isle Community Center on 8306 School Loop Rd. In 2025 we will begin playing on Saturday mornings.  Please consult the Town & Chamber event calendars.  Paddles and balls are provided and all skill set levels are invited.
URL:https://presqueisle.com/event/northwoods-table-tennis-club/2027-07-08/
LOCATION:Presque Isle Community Center\, 8306 School Loop Rd\, Presque Isle\, WI\, 54557\, United States
END:VEVENT
BEGIN:VEVENT
DTSTART;TZID=America/Chicago:20270709T130000
DTEND;TZID=America/Chicago:20270709T150000
DTSTAMP:20260420T184553
CREATED:20251125T164206Z
LAST-MODIFIED:20251125T164206Z
UID:10002919-1815138000-1815145200@presqueisle.com
SUMMARY:American Mah-jongg
DESCRIPTION:Join us Friday afternoons from 1-3pm for some friendly games of American mahjong! Free to join\, all experience levels welcome.
URL:https://presqueisle.com/event/american-mah-jongg/2027-07-09/
LOCATION:Presque Isle Library\, 8306 School Loop Rd\, Presque Isle\, WI\, 54557\, United States
END:VEVENT
BEGIN:VEVENT
DTSTART;TZID=America/Chicago:20270712T083000
DTEND;TZID=America/Chicago:20270712T110000
DTSTAMP:20260420T184553
CREATED:20250429T164621Z
LAST-MODIFIED:20250429T164854Z
UID:10002586-1815381000-1815390000@presqueisle.com
SUMMARY:Northwoods Table Tennis Club
DESCRIPTION:The Northwoods Table Tennis Club has 3 tables and open play (primary doubles) on Monday & Thursday mornings from 8:30am until 11:00am at the Presque Isle Community Center on 8306 School Loop Rd. In 2025 we will begin playing on Saturday mornings.  Please consult the Town & Chamber event calendars.  Paddles and balls are provided and all skill set levels are invited.
URL:https://presqueisle.com/event/northwoods-table-tennis-club-2/2027-07-12/
LOCATION:Presque Isle Community Center\, 8306 School Loop Rd\, Presque Isle\, WI\, 54557\, United States
END:VEVENT
BEGIN:VEVENT
DTSTART;TZID=America/Chicago:20270715T083000
DTEND;TZID=America/Chicago:20270715T110000
DTSTAMP:20260420T184553
CREATED:20250429T164459Z
LAST-MODIFIED:20250429T164459Z
UID:10002326-1815640200-1815649200@presqueisle.com
SUMMARY:Northwoods Table Tennis Club
DESCRIPTION:The Northwoods Table Tennis Club has 3 tables and open play (primary doubles) on Monday & Thursday mornings from 8:30am until 11:00am at the Presque Isle Community Center on 8306 School Loop Rd. In 2025 we will begin playing on Saturday mornings.  Please consult the Town & Chamber event calendars.  Paddles and balls are provided and all skill set levels are invited.
URL:https://presqueisle.com/event/northwoods-table-tennis-club/2027-07-15/
LOCATION:Presque Isle Community Center\, 8306 School Loop Rd\, Presque Isle\, WI\, 54557\, United States
END:VEVENT
BEGIN:VEVENT
DTSTART;TZID=America/Chicago:20270716T130000
DTEND;TZID=America/Chicago:20270716T150000
DTSTAMP:20260420T184553
CREATED:20251125T164206Z
LAST-MODIFIED:20251125T164206Z
UID:10002920-1815742800-1815750000@presqueisle.com
SUMMARY:American Mah-jongg
DESCRIPTION:Join us Friday afternoons from 1-3pm for some friendly games of American mahjong! Free to join\, all experience levels welcome.
URL:https://presqueisle.com/event/american-mah-jongg/2027-07-16/
LOCATION:Presque Isle Library\, 8306 School Loop Rd\, Presque Isle\, WI\, 54557\, United States
END:VEVENT
BEGIN:VEVENT
DTSTART;TZID=America/Chicago:20270719T083000
DTEND;TZID=America/Chicago:20270719T110000
DTSTAMP:20260420T184553
CREATED:20250429T164621Z
LAST-MODIFIED:20250429T164854Z
UID:10002587-1815985800-1815994800@presqueisle.com
SUMMARY:Northwoods Table Tennis Club
DESCRIPTION:The Northwoods Table Tennis Club has 3 tables and open play (primary doubles) on Monday & Thursday mornings from 8:30am until 11:00am at the Presque Isle Community Center on 8306 School Loop Rd. In 2025 we will begin playing on Saturday mornings.  Please consult the Town & Chamber event calendars.  Paddles and balls are provided and all skill set levels are invited.
URL:https://presqueisle.com/event/northwoods-table-tennis-club-2/2027-07-19/
LOCATION:Presque Isle Community Center\, 8306 School Loop Rd\, Presque Isle\, WI\, 54557\, United States
END:VEVENT
BEGIN:VEVENT
DTSTART;TZID=America/Chicago:20270720T120000
DTEND;TZID=America/Chicago:20270720T150000
DTSTAMP:20260420T184553
CREATED:20251125T170734Z
LAST-MODIFIED:20251125T170734Z
UID:10003233-1816084800-1816095600@presqueisle.com
SUMMARY:Fiber Arts Group
DESCRIPTION:Whether you enjoy knitting\, stitching\, quilting\, felting\, sewing\, crocheting\, or any other fiber art\, this group is open to anyone interested in working on their own projects and sharing ideas. Show and Tell encouraged!! \nThis group meets 1st and 3rd Tuesdays from 12-3pm\, in the library after hours.
URL:https://presqueisle.com/event/fiber-arts-group-2/2027-07-20/
LOCATION:Presque Isle Community Center\, 8306 School Loop Rd\, Presque Isle\, WI\, 54557\, United States
END:VEVENT
END:VCALENDAR