BEGIN:VCALENDAR
VERSION:2.0
PRODID:-//Presque Isle Wisconsin - ECPv6.15.20//NONSGML v1.0//EN
CALSCALE:GREGORIAN
METHOD:PUBLISH
X-WR-CALNAME:Presque Isle Wisconsin
X-ORIGINAL-URL:https://presqueisle.com
X-WR-CALDESC:Events for Presque Isle Wisconsin
REFRESH-INTERVAL;VALUE=DURATION:PT1H
X-Robots-Tag:noindex
X-PUBLISHED-TTL:PT1H
BEGIN:VTIMEZONE
TZID:America/Chicago
BEGIN:DAYLIGHT
TZOFFSETFROM:-0600
TZOFFSETTO:-0500
TZNAME:CDT
DTSTART:20280312T080000
END:DAYLIGHT
BEGIN:STANDARD
TZOFFSETFROM:-0500
TZOFFSETTO:-0600
TZNAME:CST
DTSTART:20281105T070000
END:STANDARD
BEGIN:DAYLIGHT
TZOFFSETFROM:-0600
TZOFFSETTO:-0500
TZNAME:CDT
DTSTART:20290311T080000
END:DAYLIGHT
BEGIN:STANDARD
TZOFFSETFROM:-0500
TZOFFSETTO:-0600
TZNAME:CST
DTSTART:20291104T070000
END:STANDARD
BEGIN:DAYLIGHT
TZOFFSETFROM:-0600
TZOFFSETTO:-0500
TZNAME:CDT
DTSTART:20300310T080000
END:DAYLIGHT
BEGIN:STANDARD
TZOFFSETFROM:-0500
TZOFFSETTO:-0600
TZNAME:CST
DTSTART:20301103T070000
END:STANDARD
END:VTIMEZONE
BEGIN:VEVENT
DTSTART;TZID=America/Chicago:20290618T083000
DTEND;TZID=America/Chicago:20290618T110000
DTSTAMP:20260423T174828
CREATED:20250429T164621Z
LAST-MODIFIED:20250429T164854Z
UID:10002687-1876465800-1876474800@presqueisle.com
SUMMARY:Northwoods Table Tennis Club
DESCRIPTION:The Northwoods Table Tennis Club has 3 tables and open play (primary doubles) on Monday & Thursday mornings from 8:30am until 11:00am at the Presque Isle Community Center on 8306 School Loop Rd. In 2025 we will begin playing on Saturday mornings.  Please consult the Town & Chamber event calendars.  Paddles and balls are provided and all skill set levels are invited.
URL:https://presqueisle.com/event/northwoods-table-tennis-club-2/2029-06-18/
LOCATION:Presque Isle Community Center\, 8306 School Loop Rd\, Presque Isle\, WI\, 54557\, United States
END:VEVENT
BEGIN:VEVENT
DTSTART;TZID=America/Chicago:20290619T120000
DTEND;TZID=America/Chicago:20290619T150000
DTSTAMP:20260423T174828
CREATED:20251125T170734Z
LAST-MODIFIED:20251125T170734Z
UID:10003256-1876564800-1876575600@presqueisle.com
SUMMARY:Fiber Arts Group
DESCRIPTION:Whether you enjoy knitting\, stitching\, quilting\, felting\, sewing\, crocheting\, or any other fiber art\, this group is open to anyone interested in working on their own projects and sharing ideas. Show and Tell encouraged!! \nThis group meets 1st and 3rd Tuesdays from 12-3pm\, in the library after hours.
URL:https://presqueisle.com/event/fiber-arts-group-2/2029-06-19/
LOCATION:Presque Isle Community Center\, 8306 School Loop Rd\, Presque Isle\, WI\, 54557\, United States
END:VEVENT
BEGIN:VEVENT
DTSTART;TZID=America/Chicago:20290621T083000
DTEND;TZID=America/Chicago:20290621T110000
DTSTAMP:20260423T174828
CREATED:20250429T164459Z
LAST-MODIFIED:20250429T164459Z
UID:10002427-1876725000-1876734000@presqueisle.com
SUMMARY:Northwoods Table Tennis Club
DESCRIPTION:The Northwoods Table Tennis Club has 3 tables and open play (primary doubles) on Monday & Thursday mornings from 8:30am until 11:00am at the Presque Isle Community Center on 8306 School Loop Rd. In 2025 we will begin playing on Saturday mornings.  Please consult the Town & Chamber event calendars.  Paddles and balls are provided and all skill set levels are invited.
URL:https://presqueisle.com/event/northwoods-table-tennis-club/2029-06-21/
LOCATION:Presque Isle Community Center\, 8306 School Loop Rd\, Presque Isle\, WI\, 54557\, United States
END:VEVENT
BEGIN:VEVENT
DTSTART;TZID=America/Chicago:20290622T130000
DTEND;TZID=America/Chicago:20290622T150000
DTSTAMP:20260423T174828
CREATED:20251125T164206Z
LAST-MODIFIED:20251125T164206Z
UID:10003021-1876827600-1876834800@presqueisle.com
SUMMARY:American Mah-jongg
DESCRIPTION:Join us Friday afternoons from 1-3pm for some friendly games of American mahjong! Free to join\, all experience levels welcome.
URL:https://presqueisle.com/event/american-mah-jongg/2029-06-22/
LOCATION:Presque Isle Library\, 8306 School Loop Rd\, Presque Isle\, WI\, 54557\, United States
END:VEVENT
BEGIN:VEVENT
DTSTART;TZID=America/Chicago:20290625T083000
DTEND;TZID=America/Chicago:20290625T110000
DTSTAMP:20260423T174828
CREATED:20250429T164621Z
LAST-MODIFIED:20250429T164854Z
UID:10002688-1877070600-1877079600@presqueisle.com
SUMMARY:Northwoods Table Tennis Club
DESCRIPTION:The Northwoods Table Tennis Club has 3 tables and open play (primary doubles) on Monday & Thursday mornings from 8:30am until 11:00am at the Presque Isle Community Center on 8306 School Loop Rd. In 2025 we will begin playing on Saturday mornings.  Please consult the Town & Chamber event calendars.  Paddles and balls are provided and all skill set levels are invited.
URL:https://presqueisle.com/event/northwoods-table-tennis-club-2/2029-06-25/
LOCATION:Presque Isle Community Center\, 8306 School Loop Rd\, Presque Isle\, WI\, 54557\, United States
END:VEVENT
BEGIN:VEVENT
DTSTART;TZID=America/Chicago:20290628T083000
DTEND;TZID=America/Chicago:20290628T110000
DTSTAMP:20260423T174828
CREATED:20250429T164459Z
LAST-MODIFIED:20250429T164459Z
UID:10002428-1877329800-1877338800@presqueisle.com
SUMMARY:Northwoods Table Tennis Club
DESCRIPTION:The Northwoods Table Tennis Club has 3 tables and open play (primary doubles) on Monday & Thursday mornings from 8:30am until 11:00am at the Presque Isle Community Center on 8306 School Loop Rd. In 2025 we will begin playing on Saturday mornings.  Please consult the Town & Chamber event calendars.  Paddles and balls are provided and all skill set levels are invited.
URL:https://presqueisle.com/event/northwoods-table-tennis-club/2029-06-28/
LOCATION:Presque Isle Community Center\, 8306 School Loop Rd\, Presque Isle\, WI\, 54557\, United States
END:VEVENT
BEGIN:VEVENT
DTSTART;TZID=America/Chicago:20290629T130000
DTEND;TZID=America/Chicago:20290629T150000
DTSTAMP:20260423T174828
CREATED:20251125T164206Z
LAST-MODIFIED:20251125T164206Z
UID:10003022-1877432400-1877439600@presqueisle.com
SUMMARY:American Mah-jongg
DESCRIPTION:Join us Friday afternoons from 1-3pm for some friendly games of American mahjong! Free to join\, all experience levels welcome.
URL:https://presqueisle.com/event/american-mah-jongg/2029-06-29/
LOCATION:Presque Isle Library\, 8306 School Loop Rd\, Presque Isle\, WI\, 54557\, United States
END:VEVENT
BEGIN:VEVENT
DTSTART;TZID=America/Chicago:20290702T083000
DTEND;TZID=America/Chicago:20290702T110000
DTSTAMP:20260423T174828
CREATED:20250429T164621Z
LAST-MODIFIED:20250429T164854Z
UID:10002689-1877675400-1877684400@presqueisle.com
SUMMARY:Northwoods Table Tennis Club
DESCRIPTION:The Northwoods Table Tennis Club has 3 tables and open play (primary doubles) on Monday & Thursday mornings from 8:30am until 11:00am at the Presque Isle Community Center on 8306 School Loop Rd. In 2025 we will begin playing on Saturday mornings.  Please consult the Town & Chamber event calendars.  Paddles and balls are provided and all skill set levels are invited.
URL:https://presqueisle.com/event/northwoods-table-tennis-club-2/2029-07-02/
LOCATION:Presque Isle Community Center\, 8306 School Loop Rd\, Presque Isle\, WI\, 54557\, United States
END:VEVENT
BEGIN:VEVENT
DTSTART;TZID=America/Chicago:20290703T120000
DTEND;TZID=America/Chicago:20290703T150000
DTSTAMP:20260423T174828
CREATED:20251125T170547Z
LAST-MODIFIED:20251125T170547Z
UID:10003197-1877774400-1877785200@presqueisle.com
SUMMARY:Fiber Arts Group
DESCRIPTION:Whether you enjoy knitting\, stitching\, quilting\, felting\, sewing\, crocheting\, or any other fiber art\, this group is open to anyone interested in working on their own projects and sharing ideas. Show and Tell encouraged!! \nThis group meets 1st and 3rd Tuesdays from 12-3pm\, in the library after hours.
URL:https://presqueisle.com/event/fiber-arts-group/2029-07-03/
LOCATION:Presque Isle Community Center\, 8306 School Loop Rd\, Presque Isle\, WI\, 54557\, United States
END:VEVENT
BEGIN:VEVENT
DTSTART;TZID=America/Chicago:20290705T083000
DTEND;TZID=America/Chicago:20290705T110000
DTSTAMP:20260423T174828
CREATED:20250429T164459Z
LAST-MODIFIED:20250429T164459Z
UID:10002429-1877934600-1877943600@presqueisle.com
SUMMARY:Northwoods Table Tennis Club
DESCRIPTION:The Northwoods Table Tennis Club has 3 tables and open play (primary doubles) on Monday & Thursday mornings from 8:30am until 11:00am at the Presque Isle Community Center on 8306 School Loop Rd. In 2025 we will begin playing on Saturday mornings.  Please consult the Town & Chamber event calendars.  Paddles and balls are provided and all skill set levels are invited.
URL:https://presqueisle.com/event/northwoods-table-tennis-club/2029-07-05/
LOCATION:Presque Isle Community Center\, 8306 School Loop Rd\, Presque Isle\, WI\, 54557\, United States
END:VEVENT
BEGIN:VEVENT
DTSTART;TZID=America/Chicago:20290706T130000
DTEND;TZID=America/Chicago:20290706T150000
DTSTAMP:20260423T174828
CREATED:20251125T164206Z
LAST-MODIFIED:20251125T164206Z
UID:10003023-1878037200-1878044400@presqueisle.com
SUMMARY:American Mah-jongg
DESCRIPTION:Join us Friday afternoons from 1-3pm for some friendly games of American mahjong! Free to join\, all experience levels welcome.
URL:https://presqueisle.com/event/american-mah-jongg/2029-07-06/
LOCATION:Presque Isle Library\, 8306 School Loop Rd\, Presque Isle\, WI\, 54557\, United States
END:VEVENT
BEGIN:VEVENT
DTSTART;TZID=America/Chicago:20290709T083000
DTEND;TZID=America/Chicago:20290709T110000
DTSTAMP:20260423T174828
CREATED:20250429T164621Z
LAST-MODIFIED:20250429T164854Z
UID:10002690-1878280200-1878289200@presqueisle.com
SUMMARY:Northwoods Table Tennis Club
DESCRIPTION:The Northwoods Table Tennis Club has 3 tables and open play (primary doubles) on Monday & Thursday mornings from 8:30am until 11:00am at the Presque Isle Community Center on 8306 School Loop Rd. In 2025 we will begin playing on Saturday mornings.  Please consult the Town & Chamber event calendars.  Paddles and balls are provided and all skill set levels are invited.
URL:https://presqueisle.com/event/northwoods-table-tennis-club-2/2029-07-09/
LOCATION:Presque Isle Community Center\, 8306 School Loop Rd\, Presque Isle\, WI\, 54557\, United States
END:VEVENT
BEGIN:VEVENT
DTSTART;TZID=America/Chicago:20290712T083000
DTEND;TZID=America/Chicago:20290712T110000
DTSTAMP:20260423T174828
CREATED:20250429T164459Z
LAST-MODIFIED:20250429T164459Z
UID:10002430-1878539400-1878548400@presqueisle.com
SUMMARY:Northwoods Table Tennis Club
DESCRIPTION:The Northwoods Table Tennis Club has 3 tables and open play (primary doubles) on Monday & Thursday mornings from 8:30am until 11:00am at the Presque Isle Community Center on 8306 School Loop Rd. In 2025 we will begin playing on Saturday mornings.  Please consult the Town & Chamber event calendars.  Paddles and balls are provided and all skill set levels are invited.
URL:https://presqueisle.com/event/northwoods-table-tennis-club/2029-07-12/
LOCATION:Presque Isle Community Center\, 8306 School Loop Rd\, Presque Isle\, WI\, 54557\, United States
END:VEVENT
BEGIN:VEVENT
DTSTART;TZID=America/Chicago:20290713T130000
DTEND;TZID=America/Chicago:20290713T150000
DTSTAMP:20260423T174828
CREATED:20251125T164206Z
LAST-MODIFIED:20251125T164206Z
UID:10003024-1878642000-1878649200@presqueisle.com
SUMMARY:American Mah-jongg
DESCRIPTION:Join us Friday afternoons from 1-3pm for some friendly games of American mahjong! Free to join\, all experience levels welcome.
URL:https://presqueisle.com/event/american-mah-jongg/2029-07-13/
LOCATION:Presque Isle Library\, 8306 School Loop Rd\, Presque Isle\, WI\, 54557\, United States
END:VEVENT
BEGIN:VEVENT
DTSTART;TZID=America/Chicago:20290716T083000
DTEND;TZID=America/Chicago:20290716T110000
DTSTAMP:20260423T174828
CREATED:20250429T164621Z
LAST-MODIFIED:20250429T164854Z
UID:10002691-1878885000-1878894000@presqueisle.com
SUMMARY:Northwoods Table Tennis Club
DESCRIPTION:The Northwoods Table Tennis Club has 3 tables and open play (primary doubles) on Monday & Thursday mornings from 8:30am until 11:00am at the Presque Isle Community Center on 8306 School Loop Rd. In 2025 we will begin playing on Saturday mornings.  Please consult the Town & Chamber event calendars.  Paddles and balls are provided and all skill set levels are invited.
URL:https://presqueisle.com/event/northwoods-table-tennis-club-2/2029-07-16/
LOCATION:Presque Isle Community Center\, 8306 School Loop Rd\, Presque Isle\, WI\, 54557\, United States
END:VEVENT
BEGIN:VEVENT
DTSTART;TZID=America/Chicago:20290717T120000
DTEND;TZID=America/Chicago:20290717T150000
DTSTAMP:20260423T174828
CREATED:20251125T170734Z
LAST-MODIFIED:20251125T170734Z
UID:10003257-1878984000-1878994800@presqueisle.com
SUMMARY:Fiber Arts Group
DESCRIPTION:Whether you enjoy knitting\, stitching\, quilting\, felting\, sewing\, crocheting\, or any other fiber art\, this group is open to anyone interested in working on their own projects and sharing ideas. Show and Tell encouraged!! \nThis group meets 1st and 3rd Tuesdays from 12-3pm\, in the library after hours.
URL:https://presqueisle.com/event/fiber-arts-group-2/2029-07-17/
LOCATION:Presque Isle Community Center\, 8306 School Loop Rd\, Presque Isle\, WI\, 54557\, United States
END:VEVENT
BEGIN:VEVENT
DTSTART;TZID=America/Chicago:20290719T083000
DTEND;TZID=America/Chicago:20290719T110000
DTSTAMP:20260423T174828
CREATED:20250429T164459Z
LAST-MODIFIED:20250429T164459Z
UID:10002431-1879144200-1879153200@presqueisle.com
SUMMARY:Northwoods Table Tennis Club
DESCRIPTION:The Northwoods Table Tennis Club has 3 tables and open play (primary doubles) on Monday & Thursday mornings from 8:30am until 11:00am at the Presque Isle Community Center on 8306 School Loop Rd. In 2025 we will begin playing on Saturday mornings.  Please consult the Town & Chamber event calendars.  Paddles and balls are provided and all skill set levels are invited.
URL:https://presqueisle.com/event/northwoods-table-tennis-club/2029-07-19/
LOCATION:Presque Isle Community Center\, 8306 School Loop Rd\, Presque Isle\, WI\, 54557\, United States
END:VEVENT
BEGIN:VEVENT
DTSTART;TZID=America/Chicago:20290720T130000
DTEND;TZID=America/Chicago:20290720T150000
DTSTAMP:20260423T174828
CREATED:20251125T164206Z
LAST-MODIFIED:20251125T164206Z
UID:10003025-1879246800-1879254000@presqueisle.com
SUMMARY:American Mah-jongg
DESCRIPTION:Join us Friday afternoons from 1-3pm for some friendly games of American mahjong! Free to join\, all experience levels welcome.
URL:https://presqueisle.com/event/american-mah-jongg/2029-07-20/
LOCATION:Presque Isle Library\, 8306 School Loop Rd\, Presque Isle\, WI\, 54557\, United States
END:VEVENT
BEGIN:VEVENT
DTSTART;TZID=America/Chicago:20290723T083000
DTEND;TZID=America/Chicago:20290723T110000
DTSTAMP:20260423T174828
CREATED:20250429T164621Z
LAST-MODIFIED:20250429T164854Z
UID:10002692-1879489800-1879498800@presqueisle.com
SUMMARY:Northwoods Table Tennis Club
DESCRIPTION:The Northwoods Table Tennis Club has 3 tables and open play (primary doubles) on Monday & Thursday mornings from 8:30am until 11:00am at the Presque Isle Community Center on 8306 School Loop Rd. In 2025 we will begin playing on Saturday mornings.  Please consult the Town & Chamber event calendars.  Paddles and balls are provided and all skill set levels are invited.
URL:https://presqueisle.com/event/northwoods-table-tennis-club-2/2029-07-23/
LOCATION:Presque Isle Community Center\, 8306 School Loop Rd\, Presque Isle\, WI\, 54557\, United States
END:VEVENT
BEGIN:VEVENT
DTSTART;TZID=America/Chicago:20290726T083000
DTEND;TZID=America/Chicago:20290726T110000
DTSTAMP:20260423T174828
CREATED:20250429T164459Z
LAST-MODIFIED:20250429T164459Z
UID:10002432-1879749000-1879758000@presqueisle.com
SUMMARY:Northwoods Table Tennis Club
DESCRIPTION:The Northwoods Table Tennis Club has 3 tables and open play (primary doubles) on Monday & Thursday mornings from 8:30am until 11:00am at the Presque Isle Community Center on 8306 School Loop Rd. In 2025 we will begin playing on Saturday mornings.  Please consult the Town & Chamber event calendars.  Paddles and balls are provided and all skill set levels are invited.
URL:https://presqueisle.com/event/northwoods-table-tennis-club/2029-07-26/
LOCATION:Presque Isle Community Center\, 8306 School Loop Rd\, Presque Isle\, WI\, 54557\, United States
END:VEVENT
BEGIN:VEVENT
DTSTART;TZID=America/Chicago:20290727T130000
DTEND;TZID=America/Chicago:20290727T150000
DTSTAMP:20260423T174828
CREATED:20251125T164206Z
LAST-MODIFIED:20251125T164206Z
UID:10003026-1879851600-1879858800@presqueisle.com
SUMMARY:American Mah-jongg
DESCRIPTION:Join us Friday afternoons from 1-3pm for some friendly games of American mahjong! Free to join\, all experience levels welcome.
URL:https://presqueisle.com/event/american-mah-jongg/2029-07-27/
LOCATION:Presque Isle Library\, 8306 School Loop Rd\, Presque Isle\, WI\, 54557\, United States
END:VEVENT
BEGIN:VEVENT
DTSTART;TZID=America/Chicago:20290730T083000
DTEND;TZID=America/Chicago:20290730T110000
DTSTAMP:20260423T174828
CREATED:20250429T164621Z
LAST-MODIFIED:20250429T164854Z
UID:10002693-1880094600-1880103600@presqueisle.com
SUMMARY:Northwoods Table Tennis Club
DESCRIPTION:The Northwoods Table Tennis Club has 3 tables and open play (primary doubles) on Monday & Thursday mornings from 8:30am until 11:00am at the Presque Isle Community Center on 8306 School Loop Rd. In 2025 we will begin playing on Saturday mornings.  Please consult the Town & Chamber event calendars.  Paddles and balls are provided and all skill set levels are invited.
URL:https://presqueisle.com/event/northwoods-table-tennis-club-2/2029-07-30/
LOCATION:Presque Isle Community Center\, 8306 School Loop Rd\, Presque Isle\, WI\, 54557\, United States
END:VEVENT
BEGIN:VEVENT
DTSTART;TZID=America/Chicago:20290802T083000
DTEND;TZID=America/Chicago:20290802T110000
DTSTAMP:20260423T174828
CREATED:20250429T164459Z
LAST-MODIFIED:20250429T164459Z
UID:10002433-1880353800-1880362800@presqueisle.com
SUMMARY:Northwoods Table Tennis Club
DESCRIPTION:The Northwoods Table Tennis Club has 3 tables and open play (primary doubles) on Monday & Thursday mornings from 8:30am until 11:00am at the Presque Isle Community Center on 8306 School Loop Rd. In 2025 we will begin playing on Saturday mornings.  Please consult the Town & Chamber event calendars.  Paddles and balls are provided and all skill set levels are invited.
URL:https://presqueisle.com/event/northwoods-table-tennis-club/2029-08-02/
LOCATION:Presque Isle Community Center\, 8306 School Loop Rd\, Presque Isle\, WI\, 54557\, United States
END:VEVENT
BEGIN:VEVENT
DTSTART;TZID=America/Chicago:20290803T130000
DTEND;TZID=America/Chicago:20290803T150000
DTSTAMP:20260423T174828
CREATED:20251125T164206Z
LAST-MODIFIED:20251125T164206Z
UID:10003027-1880456400-1880463600@presqueisle.com
SUMMARY:American Mah-jongg
DESCRIPTION:Join us Friday afternoons from 1-3pm for some friendly games of American mahjong! Free to join\, all experience levels welcome.
URL:https://presqueisle.com/event/american-mah-jongg/2029-08-03/
LOCATION:Presque Isle Library\, 8306 School Loop Rd\, Presque Isle\, WI\, 54557\, United States
END:VEVENT
BEGIN:VEVENT
DTSTART;TZID=America/Chicago:20290806T083000
DTEND;TZID=America/Chicago:20290806T110000
DTSTAMP:20260423T174828
CREATED:20250429T164621Z
LAST-MODIFIED:20250429T164854Z
UID:10002694-1880699400-1880708400@presqueisle.com
SUMMARY:Northwoods Table Tennis Club
DESCRIPTION:The Northwoods Table Tennis Club has 3 tables and open play (primary doubles) on Monday & Thursday mornings from 8:30am until 11:00am at the Presque Isle Community Center on 8306 School Loop Rd. In 2025 we will begin playing on Saturday mornings.  Please consult the Town & Chamber event calendars.  Paddles and balls are provided and all skill set levels are invited.
URL:https://presqueisle.com/event/northwoods-table-tennis-club-2/2029-08-06/
LOCATION:Presque Isle Community Center\, 8306 School Loop Rd\, Presque Isle\, WI\, 54557\, United States
END:VEVENT
BEGIN:VEVENT
DTSTART;TZID=America/Chicago:20290807T120000
DTEND;TZID=America/Chicago:20290807T150000
DTSTAMP:20260423T174828
CREATED:20251125T170547Z
LAST-MODIFIED:20251125T170547Z
UID:10003198-1880798400-1880809200@presqueisle.com
SUMMARY:Fiber Arts Group
DESCRIPTION:Whether you enjoy knitting\, stitching\, quilting\, felting\, sewing\, crocheting\, or any other fiber art\, this group is open to anyone interested in working on their own projects and sharing ideas. Show and Tell encouraged!! \nThis group meets 1st and 3rd Tuesdays from 12-3pm\, in the library after hours.
URL:https://presqueisle.com/event/fiber-arts-group/2029-08-07/
LOCATION:Presque Isle Community Center\, 8306 School Loop Rd\, Presque Isle\, WI\, 54557\, United States
END:VEVENT
BEGIN:VEVENT
DTSTART;TZID=America/Chicago:20290809T083000
DTEND;TZID=America/Chicago:20290809T110000
DTSTAMP:20260423T174828
CREATED:20250429T164459Z
LAST-MODIFIED:20250429T164459Z
UID:10002434-1880958600-1880967600@presqueisle.com
SUMMARY:Northwoods Table Tennis Club
DESCRIPTION:The Northwoods Table Tennis Club has 3 tables and open play (primary doubles) on Monday & Thursday mornings from 8:30am until 11:00am at the Presque Isle Community Center on 8306 School Loop Rd. In 2025 we will begin playing on Saturday mornings.  Please consult the Town & Chamber event calendars.  Paddles and balls are provided and all skill set levels are invited.
URL:https://presqueisle.com/event/northwoods-table-tennis-club/2029-08-09/
LOCATION:Presque Isle Community Center\, 8306 School Loop Rd\, Presque Isle\, WI\, 54557\, United States
END:VEVENT
BEGIN:VEVENT
DTSTART;TZID=America/Chicago:20290810T130000
DTEND;TZID=America/Chicago:20290810T150000
DTSTAMP:20260423T174828
CREATED:20251125T164206Z
LAST-MODIFIED:20251125T164206Z
UID:10003028-1881061200-1881068400@presqueisle.com
SUMMARY:American Mah-jongg
DESCRIPTION:Join us Friday afternoons from 1-3pm for some friendly games of American mahjong! Free to join\, all experience levels welcome.
URL:https://presqueisle.com/event/american-mah-jongg/2029-08-10/
LOCATION:Presque Isle Library\, 8306 School Loop Rd\, Presque Isle\, WI\, 54557\, United States
END:VEVENT
BEGIN:VEVENT
DTSTART;TZID=America/Chicago:20290813T083000
DTEND;TZID=America/Chicago:20290813T110000
DTSTAMP:20260423T174828
CREATED:20250429T164621Z
LAST-MODIFIED:20250429T164854Z
UID:10002695-1881304200-1881313200@presqueisle.com
SUMMARY:Northwoods Table Tennis Club
DESCRIPTION:The Northwoods Table Tennis Club has 3 tables and open play (primary doubles) on Monday & Thursday mornings from 8:30am until 11:00am at the Presque Isle Community Center on 8306 School Loop Rd. In 2025 we will begin playing on Saturday mornings.  Please consult the Town & Chamber event calendars.  Paddles and balls are provided and all skill set levels are invited.
URL:https://presqueisle.com/event/northwoods-table-tennis-club-2/2029-08-13/
LOCATION:Presque Isle Community Center\, 8306 School Loop Rd\, Presque Isle\, WI\, 54557\, United States
END:VEVENT
BEGIN:VEVENT
DTSTART;TZID=America/Chicago:20290816T083000
DTEND;TZID=America/Chicago:20290816T110000
DTSTAMP:20260423T174828
CREATED:20250429T164459Z
LAST-MODIFIED:20250429T164459Z
UID:10002435-1881563400-1881572400@presqueisle.com
SUMMARY:Northwoods Table Tennis Club
DESCRIPTION:The Northwoods Table Tennis Club has 3 tables and open play (primary doubles) on Monday & Thursday mornings from 8:30am until 11:00am at the Presque Isle Community Center on 8306 School Loop Rd. In 2025 we will begin playing on Saturday mornings.  Please consult the Town & Chamber event calendars.  Paddles and balls are provided and all skill set levels are invited.
URL:https://presqueisle.com/event/northwoods-table-tennis-club/2029-08-16/
LOCATION:Presque Isle Community Center\, 8306 School Loop Rd\, Presque Isle\, WI\, 54557\, United States
END:VEVENT
END:VCALENDAR