BEGIN:VCALENDAR
VERSION:2.0
PRODID:-//Presque Isle Wisconsin - ECPv6.15.20//NONSGML v1.0//EN
CALSCALE:GREGORIAN
METHOD:PUBLISH
X-WR-CALNAME:Presque Isle Wisconsin
X-ORIGINAL-URL:https://presqueisle.com
X-WR-CALDESC:Events for Presque Isle Wisconsin
REFRESH-INTERVAL;VALUE=DURATION:PT1H
X-Robots-Tag:noindex
X-PUBLISHED-TTL:PT1H
BEGIN:VTIMEZONE
TZID:America/Chicago
BEGIN:DAYLIGHT
TZOFFSETFROM:-0600
TZOFFSETTO:-0500
TZNAME:CDT
DTSTART:20270314T080000
END:DAYLIGHT
BEGIN:STANDARD
TZOFFSETFROM:-0500
TZOFFSETTO:-0600
TZNAME:CST
DTSTART:20271107T070000
END:STANDARD
BEGIN:DAYLIGHT
TZOFFSETFROM:-0600
TZOFFSETTO:-0500
TZNAME:CDT
DTSTART:20280312T080000
END:DAYLIGHT
BEGIN:STANDARD
TZOFFSETFROM:-0500
TZOFFSETTO:-0600
TZNAME:CST
DTSTART:20281105T070000
END:STANDARD
BEGIN:DAYLIGHT
TZOFFSETFROM:-0600
TZOFFSETTO:-0500
TZNAME:CDT
DTSTART:20290311T080000
END:DAYLIGHT
BEGIN:STANDARD
TZOFFSETFROM:-0500
TZOFFSETTO:-0600
TZNAME:CST
DTSTART:20291104T070000
END:STANDARD
BEGIN:DAYLIGHT
TZOFFSETFROM:-0600
TZOFFSETTO:-0500
TZNAME:CDT
DTSTART:20300310T080000
END:DAYLIGHT
BEGIN:STANDARD
TZOFFSETFROM:-0500
TZOFFSETTO:-0600
TZNAME:CST
DTSTART:20301103T070000
END:STANDARD
END:VTIMEZONE
BEGIN:VEVENT
DTSTART;TZID=America/Chicago:20281116T083000
DTEND;TZID=America/Chicago:20281116T110000
DTSTAMP:20260421T215027
CREATED:20250429T164459Z
LAST-MODIFIED:20250429T164459Z
UID:10002396-1857976200-1857985200@presqueisle.com
SUMMARY:Northwoods Table Tennis Club
DESCRIPTION:The Northwoods Table Tennis Club has 3 tables and open play (primary doubles) on Monday & Thursday mornings from 8:30am until 11:00am at the Presque Isle Community Center on 8306 School Loop Rd. In 2025 we will begin playing on Saturday mornings.  Please consult the Town & Chamber event calendars.  Paddles and balls are provided and all skill set levels are invited.
URL:https://presqueisle.com/event/northwoods-table-tennis-club/2028-11-16/
LOCATION:Presque Isle Community Center\, 8306 School Loop Rd\, Presque Isle\, WI\, 54557\, United States
END:VEVENT
BEGIN:VEVENT
DTSTART;TZID=America/Chicago:20281117T130000
DTEND;TZID=America/Chicago:20281117T150000
DTSTAMP:20260421T215027
CREATED:20251125T164206Z
LAST-MODIFIED:20251125T164206Z
UID:10002990-1858078800-1858086000@presqueisle.com
SUMMARY:American Mah-jongg
DESCRIPTION:Join us Friday afternoons from 1-3pm for some friendly games of American mahjong! Free to join\, all experience levels welcome.
URL:https://presqueisle.com/event/american-mah-jongg/2028-11-17/
LOCATION:Presque Isle Library\, 8306 School Loop Rd\, Presque Isle\, WI\, 54557\, United States
END:VEVENT
BEGIN:VEVENT
DTSTART;TZID=America/Chicago:20281120T083000
DTEND;TZID=America/Chicago:20281120T110000
DTSTAMP:20260421T215027
CREATED:20250429T164621Z
LAST-MODIFIED:20250429T164854Z
UID:10002657-1858321800-1858330800@presqueisle.com
SUMMARY:Northwoods Table Tennis Club
DESCRIPTION:The Northwoods Table Tennis Club has 3 tables and open play (primary doubles) on Monday & Thursday mornings from 8:30am until 11:00am at the Presque Isle Community Center on 8306 School Loop Rd. In 2025 we will begin playing on Saturday mornings.  Please consult the Town & Chamber event calendars.  Paddles and balls are provided and all skill set levels are invited.
URL:https://presqueisle.com/event/northwoods-table-tennis-club-2/2028-11-20/
LOCATION:Presque Isle Community Center\, 8306 School Loop Rd\, Presque Isle\, WI\, 54557\, United States
END:VEVENT
BEGIN:VEVENT
DTSTART;TZID=America/Chicago:20281121T120000
DTEND;TZID=America/Chicago:20281121T150000
DTSTAMP:20260421T215027
CREATED:20251125T170734Z
LAST-MODIFIED:20251125T170734Z
UID:10003249-1858420800-1858431600@presqueisle.com
SUMMARY:Fiber Arts Group
DESCRIPTION:Whether you enjoy knitting\, stitching\, quilting\, felting\, sewing\, crocheting\, or any other fiber art\, this group is open to anyone interested in working on their own projects and sharing ideas. Show and Tell encouraged!! \nThis group meets 1st and 3rd Tuesdays from 12-3pm\, in the library after hours.
URL:https://presqueisle.com/event/fiber-arts-group-2/2028-11-21/
LOCATION:Presque Isle Community Center\, 8306 School Loop Rd\, Presque Isle\, WI\, 54557\, United States
END:VEVENT
BEGIN:VEVENT
DTSTART;TZID=America/Chicago:20281123T083000
DTEND;TZID=America/Chicago:20281123T110000
DTSTAMP:20260421T215027
CREATED:20250429T164459Z
LAST-MODIFIED:20250429T164459Z
UID:10002397-1858581000-1858590000@presqueisle.com
SUMMARY:Northwoods Table Tennis Club
DESCRIPTION:The Northwoods Table Tennis Club has 3 tables and open play (primary doubles) on Monday & Thursday mornings from 8:30am until 11:00am at the Presque Isle Community Center on 8306 School Loop Rd. In 2025 we will begin playing on Saturday mornings.  Please consult the Town & Chamber event calendars.  Paddles and balls are provided and all skill set levels are invited.
URL:https://presqueisle.com/event/northwoods-table-tennis-club/2028-11-23/
LOCATION:Presque Isle Community Center\, 8306 School Loop Rd\, Presque Isle\, WI\, 54557\, United States
END:VEVENT
BEGIN:VEVENT
DTSTART;TZID=America/Chicago:20281124T130000
DTEND;TZID=America/Chicago:20281124T150000
DTSTAMP:20260421T215027
CREATED:20251125T164206Z
LAST-MODIFIED:20251125T164206Z
UID:10002991-1858683600-1858690800@presqueisle.com
SUMMARY:American Mah-jongg
DESCRIPTION:Join us Friday afternoons from 1-3pm for some friendly games of American mahjong! Free to join\, all experience levels welcome.
URL:https://presqueisle.com/event/american-mah-jongg/2028-11-24/
LOCATION:Presque Isle Library\, 8306 School Loop Rd\, Presque Isle\, WI\, 54557\, United States
END:VEVENT
BEGIN:VEVENT
DTSTART;TZID=America/Chicago:20281127T083000
DTEND;TZID=America/Chicago:20281127T110000
DTSTAMP:20260421T215027
CREATED:20250429T164621Z
LAST-MODIFIED:20250429T164854Z
UID:10002658-1858926600-1858935600@presqueisle.com
SUMMARY:Northwoods Table Tennis Club
DESCRIPTION:The Northwoods Table Tennis Club has 3 tables and open play (primary doubles) on Monday & Thursday mornings from 8:30am until 11:00am at the Presque Isle Community Center on 8306 School Loop Rd. In 2025 we will begin playing on Saturday mornings.  Please consult the Town & Chamber event calendars.  Paddles and balls are provided and all skill set levels are invited.
URL:https://presqueisle.com/event/northwoods-table-tennis-club-2/2028-11-27/
LOCATION:Presque Isle Community Center\, 8306 School Loop Rd\, Presque Isle\, WI\, 54557\, United States
END:VEVENT
BEGIN:VEVENT
DTSTART;TZID=America/Chicago:20281130T083000
DTEND;TZID=America/Chicago:20281130T110000
DTSTAMP:20260421T215027
CREATED:20250429T164459Z
LAST-MODIFIED:20250429T164459Z
UID:10002398-1859185800-1859194800@presqueisle.com
SUMMARY:Northwoods Table Tennis Club
DESCRIPTION:The Northwoods Table Tennis Club has 3 tables and open play (primary doubles) on Monday & Thursday mornings from 8:30am until 11:00am at the Presque Isle Community Center on 8306 School Loop Rd. In 2025 we will begin playing on Saturday mornings.  Please consult the Town & Chamber event calendars.  Paddles and balls are provided and all skill set levels are invited.
URL:https://presqueisle.com/event/northwoods-table-tennis-club/2028-11-30/
LOCATION:Presque Isle Community Center\, 8306 School Loop Rd\, Presque Isle\, WI\, 54557\, United States
END:VEVENT
BEGIN:VEVENT
DTSTART;TZID=America/Chicago:20281201T130000
DTEND;TZID=America/Chicago:20281201T150000
DTSTAMP:20260421T215027
CREATED:20251125T164206Z
LAST-MODIFIED:20251125T164206Z
UID:10002992-1859288400-1859295600@presqueisle.com
SUMMARY:American Mah-jongg
DESCRIPTION:Join us Friday afternoons from 1-3pm for some friendly games of American mahjong! Free to join\, all experience levels welcome.
URL:https://presqueisle.com/event/american-mah-jongg/2028-12-01/
LOCATION:Presque Isle Library\, 8306 School Loop Rd\, Presque Isle\, WI\, 54557\, United States
END:VEVENT
BEGIN:VEVENT
DTSTART;TZID=America/Chicago:20281204T083000
DTEND;TZID=America/Chicago:20281204T110000
DTSTAMP:20260421T215027
CREATED:20250429T164621Z
LAST-MODIFIED:20250429T164854Z
UID:10002659-1859531400-1859540400@presqueisle.com
SUMMARY:Northwoods Table Tennis Club
DESCRIPTION:The Northwoods Table Tennis Club has 3 tables and open play (primary doubles) on Monday & Thursday mornings from 8:30am until 11:00am at the Presque Isle Community Center on 8306 School Loop Rd. In 2025 we will begin playing on Saturday mornings.  Please consult the Town & Chamber event calendars.  Paddles and balls are provided and all skill set levels are invited.
URL:https://presqueisle.com/event/northwoods-table-tennis-club-2/2028-12-04/
LOCATION:Presque Isle Community Center\, 8306 School Loop Rd\, Presque Isle\, WI\, 54557\, United States
END:VEVENT
BEGIN:VEVENT
DTSTART;TZID=America/Chicago:20281205T120000
DTEND;TZID=America/Chicago:20281205T150000
DTSTAMP:20260421T215027
CREATED:20251125T170547Z
LAST-MODIFIED:20251125T170547Z
UID:10003190-1859630400-1859641200@presqueisle.com
SUMMARY:Fiber Arts Group
DESCRIPTION:Whether you enjoy knitting\, stitching\, quilting\, felting\, sewing\, crocheting\, or any other fiber art\, this group is open to anyone interested in working on their own projects and sharing ideas. Show and Tell encouraged!! \nThis group meets 1st and 3rd Tuesdays from 12-3pm\, in the library after hours.
URL:https://presqueisle.com/event/fiber-arts-group/2028-12-05/
LOCATION:Presque Isle Community Center\, 8306 School Loop Rd\, Presque Isle\, WI\, 54557\, United States
END:VEVENT
BEGIN:VEVENT
DTSTART;TZID=America/Chicago:20281207T083000
DTEND;TZID=America/Chicago:20281207T110000
DTSTAMP:20260421T215027
CREATED:20250429T164459Z
LAST-MODIFIED:20250429T164459Z
UID:10002399-1859790600-1859799600@presqueisle.com
SUMMARY:Northwoods Table Tennis Club
DESCRIPTION:The Northwoods Table Tennis Club has 3 tables and open play (primary doubles) on Monday & Thursday mornings from 8:30am until 11:00am at the Presque Isle Community Center on 8306 School Loop Rd. In 2025 we will begin playing on Saturday mornings.  Please consult the Town & Chamber event calendars.  Paddles and balls are provided and all skill set levels are invited.
URL:https://presqueisle.com/event/northwoods-table-tennis-club/2028-12-07/
LOCATION:Presque Isle Community Center\, 8306 School Loop Rd\, Presque Isle\, WI\, 54557\, United States
END:VEVENT
BEGIN:VEVENT
DTSTART;TZID=America/Chicago:20281208T130000
DTEND;TZID=America/Chicago:20281208T150000
DTSTAMP:20260421T215027
CREATED:20251125T164206Z
LAST-MODIFIED:20251125T164206Z
UID:10002993-1859893200-1859900400@presqueisle.com
SUMMARY:American Mah-jongg
DESCRIPTION:Join us Friday afternoons from 1-3pm for some friendly games of American mahjong! Free to join\, all experience levels welcome.
URL:https://presqueisle.com/event/american-mah-jongg/2028-12-08/
LOCATION:Presque Isle Library\, 8306 School Loop Rd\, Presque Isle\, WI\, 54557\, United States
END:VEVENT
BEGIN:VEVENT
DTSTART;TZID=America/Chicago:20281211T083000
DTEND;TZID=America/Chicago:20281211T110000
DTSTAMP:20260421T215027
CREATED:20250429T164621Z
LAST-MODIFIED:20250429T164854Z
UID:10002660-1860136200-1860145200@presqueisle.com
SUMMARY:Northwoods Table Tennis Club
DESCRIPTION:The Northwoods Table Tennis Club has 3 tables and open play (primary doubles) on Monday & Thursday mornings from 8:30am until 11:00am at the Presque Isle Community Center on 8306 School Loop Rd. In 2025 we will begin playing on Saturday mornings.  Please consult the Town & Chamber event calendars.  Paddles and balls are provided and all skill set levels are invited.
URL:https://presqueisle.com/event/northwoods-table-tennis-club-2/2028-12-11/
LOCATION:Presque Isle Community Center\, 8306 School Loop Rd\, Presque Isle\, WI\, 54557\, United States
END:VEVENT
BEGIN:VEVENT
DTSTART;TZID=America/Chicago:20281214T083000
DTEND;TZID=America/Chicago:20281214T110000
DTSTAMP:20260421T215027
CREATED:20250429T164459Z
LAST-MODIFIED:20250429T164459Z
UID:10002400-1860395400-1860404400@presqueisle.com
SUMMARY:Northwoods Table Tennis Club
DESCRIPTION:The Northwoods Table Tennis Club has 3 tables and open play (primary doubles) on Monday & Thursday mornings from 8:30am until 11:00am at the Presque Isle Community Center on 8306 School Loop Rd. In 2025 we will begin playing on Saturday mornings.  Please consult the Town & Chamber event calendars.  Paddles and balls are provided and all skill set levels are invited.
URL:https://presqueisle.com/event/northwoods-table-tennis-club/2028-12-14/
LOCATION:Presque Isle Community Center\, 8306 School Loop Rd\, Presque Isle\, WI\, 54557\, United States
END:VEVENT
BEGIN:VEVENT
DTSTART;TZID=America/Chicago:20281215T130000
DTEND;TZID=America/Chicago:20281215T150000
DTSTAMP:20260421T215027
CREATED:20251125T164206Z
LAST-MODIFIED:20251125T164206Z
UID:10002994-1860498000-1860505200@presqueisle.com
SUMMARY:American Mah-jongg
DESCRIPTION:Join us Friday afternoons from 1-3pm for some friendly games of American mahjong! Free to join\, all experience levels welcome.
URL:https://presqueisle.com/event/american-mah-jongg/2028-12-15/
LOCATION:Presque Isle Library\, 8306 School Loop Rd\, Presque Isle\, WI\, 54557\, United States
END:VEVENT
BEGIN:VEVENT
DTSTART;TZID=America/Chicago:20281218T083000
DTEND;TZID=America/Chicago:20281218T110000
DTSTAMP:20260421T215027
CREATED:20250429T164621Z
LAST-MODIFIED:20250429T164854Z
UID:10002661-1860741000-1860750000@presqueisle.com
SUMMARY:Northwoods Table Tennis Club
DESCRIPTION:The Northwoods Table Tennis Club has 3 tables and open play (primary doubles) on Monday & Thursday mornings from 8:30am until 11:00am at the Presque Isle Community Center on 8306 School Loop Rd. In 2025 we will begin playing on Saturday mornings.  Please consult the Town & Chamber event calendars.  Paddles and balls are provided and all skill set levels are invited.
URL:https://presqueisle.com/event/northwoods-table-tennis-club-2/2028-12-18/
LOCATION:Presque Isle Community Center\, 8306 School Loop Rd\, Presque Isle\, WI\, 54557\, United States
END:VEVENT
BEGIN:VEVENT
DTSTART;TZID=America/Chicago:20281219T120000
DTEND;TZID=America/Chicago:20281219T150000
DTSTAMP:20260421T215027
CREATED:20251125T170734Z
LAST-MODIFIED:20251125T170734Z
UID:10003250-1860840000-1860850800@presqueisle.com
SUMMARY:Fiber Arts Group
DESCRIPTION:Whether you enjoy knitting\, stitching\, quilting\, felting\, sewing\, crocheting\, or any other fiber art\, this group is open to anyone interested in working on their own projects and sharing ideas. Show and Tell encouraged!! \nThis group meets 1st and 3rd Tuesdays from 12-3pm\, in the library after hours.
URL:https://presqueisle.com/event/fiber-arts-group-2/2028-12-19/
LOCATION:Presque Isle Community Center\, 8306 School Loop Rd\, Presque Isle\, WI\, 54557\, United States
END:VEVENT
BEGIN:VEVENT
DTSTART;TZID=America/Chicago:20281221T083000
DTEND;TZID=America/Chicago:20281221T110000
DTSTAMP:20260421T215027
CREATED:20250429T164459Z
LAST-MODIFIED:20250429T164459Z
UID:10002401-1861000200-1861009200@presqueisle.com
SUMMARY:Northwoods Table Tennis Club
DESCRIPTION:The Northwoods Table Tennis Club has 3 tables and open play (primary doubles) on Monday & Thursday mornings from 8:30am until 11:00am at the Presque Isle Community Center on 8306 School Loop Rd. In 2025 we will begin playing on Saturday mornings.  Please consult the Town & Chamber event calendars.  Paddles and balls are provided and all skill set levels are invited.
URL:https://presqueisle.com/event/northwoods-table-tennis-club/2028-12-21/
LOCATION:Presque Isle Community Center\, 8306 School Loop Rd\, Presque Isle\, WI\, 54557\, United States
END:VEVENT
BEGIN:VEVENT
DTSTART;TZID=America/Chicago:20281222T130000
DTEND;TZID=America/Chicago:20281222T150000
DTSTAMP:20260421T215027
CREATED:20251125T164206Z
LAST-MODIFIED:20251125T164206Z
UID:10002995-1861102800-1861110000@presqueisle.com
SUMMARY:American Mah-jongg
DESCRIPTION:Join us Friday afternoons from 1-3pm for some friendly games of American mahjong! Free to join\, all experience levels welcome.
URL:https://presqueisle.com/event/american-mah-jongg/2028-12-22/
LOCATION:Presque Isle Library\, 8306 School Loop Rd\, Presque Isle\, WI\, 54557\, United States
END:VEVENT
BEGIN:VEVENT
DTSTART;TZID=America/Chicago:20281225T083000
DTEND;TZID=America/Chicago:20281225T110000
DTSTAMP:20260421T215027
CREATED:20250429T164621Z
LAST-MODIFIED:20250429T164854Z
UID:10002662-1861345800-1861354800@presqueisle.com
SUMMARY:Northwoods Table Tennis Club
DESCRIPTION:The Northwoods Table Tennis Club has 3 tables and open play (primary doubles) on Monday & Thursday mornings from 8:30am until 11:00am at the Presque Isle Community Center on 8306 School Loop Rd. In 2025 we will begin playing on Saturday mornings.  Please consult the Town & Chamber event calendars.  Paddles and balls are provided and all skill set levels are invited.
URL:https://presqueisle.com/event/northwoods-table-tennis-club-2/2028-12-25/
LOCATION:Presque Isle Community Center\, 8306 School Loop Rd\, Presque Isle\, WI\, 54557\, United States
END:VEVENT
BEGIN:VEVENT
DTSTART;TZID=America/Chicago:20281228T083000
DTEND;TZID=America/Chicago:20281228T110000
DTSTAMP:20260421T215027
CREATED:20250429T164459Z
LAST-MODIFIED:20250429T164459Z
UID:10002402-1861605000-1861614000@presqueisle.com
SUMMARY:Northwoods Table Tennis Club
DESCRIPTION:The Northwoods Table Tennis Club has 3 tables and open play (primary doubles) on Monday & Thursday mornings from 8:30am until 11:00am at the Presque Isle Community Center on 8306 School Loop Rd. In 2025 we will begin playing on Saturday mornings.  Please consult the Town & Chamber event calendars.  Paddles and balls are provided and all skill set levels are invited.
URL:https://presqueisle.com/event/northwoods-table-tennis-club/2028-12-28/
LOCATION:Presque Isle Community Center\, 8306 School Loop Rd\, Presque Isle\, WI\, 54557\, United States
END:VEVENT
BEGIN:VEVENT
DTSTART;TZID=America/Chicago:20281229T130000
DTEND;TZID=America/Chicago:20281229T150000
DTSTAMP:20260421T215027
CREATED:20251125T164206Z
LAST-MODIFIED:20251125T164206Z
UID:10002996-1861707600-1861714800@presqueisle.com
SUMMARY:American Mah-jongg
DESCRIPTION:Join us Friday afternoons from 1-3pm for some friendly games of American mahjong! Free to join\, all experience levels welcome.
URL:https://presqueisle.com/event/american-mah-jongg/2028-12-29/
LOCATION:Presque Isle Library\, 8306 School Loop Rd\, Presque Isle\, WI\, 54557\, United States
END:VEVENT
BEGIN:VEVENT
DTSTART;TZID=America/Chicago:20290101T083000
DTEND;TZID=America/Chicago:20290101T110000
DTSTAMP:20260421T215027
CREATED:20250429T164621Z
LAST-MODIFIED:20250429T164854Z
UID:10002663-1861950600-1861959600@presqueisle.com
SUMMARY:Northwoods Table Tennis Club
DESCRIPTION:The Northwoods Table Tennis Club has 3 tables and open play (primary doubles) on Monday & Thursday mornings from 8:30am until 11:00am at the Presque Isle Community Center on 8306 School Loop Rd. In 2025 we will begin playing on Saturday mornings.  Please consult the Town & Chamber event calendars.  Paddles and balls are provided and all skill set levels are invited.
URL:https://presqueisle.com/event/northwoods-table-tennis-club-2/2029-01-01/
LOCATION:Presque Isle Community Center\, 8306 School Loop Rd\, Presque Isle\, WI\, 54557\, United States
END:VEVENT
BEGIN:VEVENT
DTSTART;TZID=America/Chicago:20290102T120000
DTEND;TZID=America/Chicago:20290102T150000
DTSTAMP:20260421T215027
CREATED:20251125T170547Z
LAST-MODIFIED:20251125T170547Z
UID:10003191-1862049600-1862060400@presqueisle.com
SUMMARY:Fiber Arts Group
DESCRIPTION:Whether you enjoy knitting\, stitching\, quilting\, felting\, sewing\, crocheting\, or any other fiber art\, this group is open to anyone interested in working on their own projects and sharing ideas. Show and Tell encouraged!! \nThis group meets 1st and 3rd Tuesdays from 12-3pm\, in the library after hours.
URL:https://presqueisle.com/event/fiber-arts-group/2029-01-02/
LOCATION:Presque Isle Community Center\, 8306 School Loop Rd\, Presque Isle\, WI\, 54557\, United States
END:VEVENT
BEGIN:VEVENT
DTSTART;TZID=America/Chicago:20290104T083000
DTEND;TZID=America/Chicago:20290104T110000
DTSTAMP:20260421T215027
CREATED:20250429T164459Z
LAST-MODIFIED:20250429T164459Z
UID:10002403-1862209800-1862218800@presqueisle.com
SUMMARY:Northwoods Table Tennis Club
DESCRIPTION:The Northwoods Table Tennis Club has 3 tables and open play (primary doubles) on Monday & Thursday mornings from 8:30am until 11:00am at the Presque Isle Community Center on 8306 School Loop Rd. In 2025 we will begin playing on Saturday mornings.  Please consult the Town & Chamber event calendars.  Paddles and balls are provided and all skill set levels are invited.
URL:https://presqueisle.com/event/northwoods-table-tennis-club/2029-01-04/
LOCATION:Presque Isle Community Center\, 8306 School Loop Rd\, Presque Isle\, WI\, 54557\, United States
END:VEVENT
BEGIN:VEVENT
DTSTART;TZID=America/Chicago:20290105T130000
DTEND;TZID=America/Chicago:20290105T150000
DTSTAMP:20260421T215027
CREATED:20251125T164206Z
LAST-MODIFIED:20251125T164206Z
UID:10002997-1862312400-1862319600@presqueisle.com
SUMMARY:American Mah-jongg
DESCRIPTION:Join us Friday afternoons from 1-3pm for some friendly games of American mahjong! Free to join\, all experience levels welcome.
URL:https://presqueisle.com/event/american-mah-jongg/2029-01-05/
LOCATION:Presque Isle Library\, 8306 School Loop Rd\, Presque Isle\, WI\, 54557\, United States
END:VEVENT
BEGIN:VEVENT
DTSTART;TZID=America/Chicago:20290108T083000
DTEND;TZID=America/Chicago:20290108T110000
DTSTAMP:20260421T215027
CREATED:20250429T164621Z
LAST-MODIFIED:20250429T164854Z
UID:10002664-1862555400-1862564400@presqueisle.com
SUMMARY:Northwoods Table Tennis Club
DESCRIPTION:The Northwoods Table Tennis Club has 3 tables and open play (primary doubles) on Monday & Thursday mornings from 8:30am until 11:00am at the Presque Isle Community Center on 8306 School Loop Rd. In 2025 we will begin playing on Saturday mornings.  Please consult the Town & Chamber event calendars.  Paddles and balls are provided and all skill set levels are invited.
URL:https://presqueisle.com/event/northwoods-table-tennis-club-2/2029-01-08/
LOCATION:Presque Isle Community Center\, 8306 School Loop Rd\, Presque Isle\, WI\, 54557\, United States
END:VEVENT
BEGIN:VEVENT
DTSTART;TZID=America/Chicago:20290111T083000
DTEND;TZID=America/Chicago:20290111T110000
DTSTAMP:20260421T215027
CREATED:20250429T164459Z
LAST-MODIFIED:20250429T164459Z
UID:10002404-1862814600-1862823600@presqueisle.com
SUMMARY:Northwoods Table Tennis Club
DESCRIPTION:The Northwoods Table Tennis Club has 3 tables and open play (primary doubles) on Monday & Thursday mornings from 8:30am until 11:00am at the Presque Isle Community Center on 8306 School Loop Rd. In 2025 we will begin playing on Saturday mornings.  Please consult the Town & Chamber event calendars.  Paddles and balls are provided and all skill set levels are invited.
URL:https://presqueisle.com/event/northwoods-table-tennis-club/2029-01-11/
LOCATION:Presque Isle Community Center\, 8306 School Loop Rd\, Presque Isle\, WI\, 54557\, United States
END:VEVENT
BEGIN:VEVENT
DTSTART;TZID=America/Chicago:20290112T130000
DTEND;TZID=America/Chicago:20290112T150000
DTSTAMP:20260421T215027
CREATED:20251125T164206Z
LAST-MODIFIED:20251125T164206Z
UID:10002998-1862917200-1862924400@presqueisle.com
SUMMARY:American Mah-jongg
DESCRIPTION:Join us Friday afternoons from 1-3pm for some friendly games of American mahjong! Free to join\, all experience levels welcome.
URL:https://presqueisle.com/event/american-mah-jongg/2029-01-12/
LOCATION:Presque Isle Library\, 8306 School Loop Rd\, Presque Isle\, WI\, 54557\, United States
END:VEVENT
END:VCALENDAR