BEGIN:VCALENDAR
VERSION:2.0
PRODID:-//Presque Isle Wisconsin - ECPv6.15.20//NONSGML v1.0//EN
CALSCALE:GREGORIAN
METHOD:PUBLISH
X-WR-CALNAME:Presque Isle Wisconsin
X-ORIGINAL-URL:https://presqueisle.com
X-WR-CALDESC:Events for Presque Isle Wisconsin
REFRESH-INTERVAL;VALUE=DURATION:PT1H
X-Robots-Tag:noindex
X-PUBLISHED-TTL:PT1H
BEGIN:VTIMEZONE
TZID:America/Chicago
BEGIN:DAYLIGHT
TZOFFSETFROM:-0600
TZOFFSETTO:-0500
TZNAME:CDT
DTSTART:20290311T080000
END:DAYLIGHT
BEGIN:STANDARD
TZOFFSETFROM:-0500
TZOFFSETTO:-0600
TZNAME:CST
DTSTART:20291104T070000
END:STANDARD
BEGIN:DAYLIGHT
TZOFFSETFROM:-0600
TZOFFSETTO:-0500
TZNAME:CDT
DTSTART:20300310T080000
END:DAYLIGHT
BEGIN:STANDARD
TZOFFSETFROM:-0500
TZOFFSETTO:-0600
TZNAME:CST
DTSTART:20301103T070000
END:STANDARD
BEGIN:DAYLIGHT
TZOFFSETFROM:-0600
TZOFFSETTO:-0500
TZNAME:CDT
DTSTART:20310309T080000
END:DAYLIGHT
BEGIN:STANDARD
TZOFFSETFROM:-0500
TZOFFSETTO:-0600
TZNAME:CST
DTSTART:20311102T070000
END:STANDARD
END:VTIMEZONE
BEGIN:VEVENT
DTSTART;TZID=America/Chicago:20300702T120000
DTEND;TZID=America/Chicago:20300702T150000
DTSTAMP:20260423T060328
CREATED:20251125T170547Z
LAST-MODIFIED:20251125T170547Z
UID:10003209-1909224000-1909234800@presqueisle.com
SUMMARY:Fiber Arts Group
DESCRIPTION:Whether you enjoy knitting\, stitching\, quilting\, felting\, sewing\, crocheting\, or any other fiber art\, this group is open to anyone interested in working on their own projects and sharing ideas. Show and Tell encouraged!! \nThis group meets 1st and 3rd Tuesdays from 12-3pm\, in the library after hours.
URL:https://presqueisle.com/event/fiber-arts-group/2030-07-02/
LOCATION:Presque Isle Community Center\, 8306 School Loop Rd\, Presque Isle\, WI\, 54557\, United States
END:VEVENT
BEGIN:VEVENT
DTSTART;TZID=America/Chicago:20300705T130000
DTEND;TZID=America/Chicago:20300705T150000
DTSTAMP:20260423T060328
CREATED:20251125T164206Z
LAST-MODIFIED:20251125T164206Z
UID:10003075-1909486800-1909494000@presqueisle.com
SUMMARY:American Mah-jongg
DESCRIPTION:Join us Friday afternoons from 1-3pm for some friendly games of American mahjong! Free to join\, all experience levels welcome.
URL:https://presqueisle.com/event/american-mah-jongg/2030-07-05/
LOCATION:Presque Isle Library\, 8306 School Loop Rd\, Presque Isle\, WI\, 54557\, United States
END:VEVENT
BEGIN:VEVENT
DTSTART;TZID=America/Chicago:20300712T130000
DTEND;TZID=America/Chicago:20300712T150000
DTSTAMP:20260423T060328
CREATED:20251125T164206Z
LAST-MODIFIED:20251125T164206Z
UID:10003076-1910091600-1910098800@presqueisle.com
SUMMARY:American Mah-jongg
DESCRIPTION:Join us Friday afternoons from 1-3pm for some friendly games of American mahjong! Free to join\, all experience levels welcome.
URL:https://presqueisle.com/event/american-mah-jongg/2030-07-12/
LOCATION:Presque Isle Library\, 8306 School Loop Rd\, Presque Isle\, WI\, 54557\, United States
END:VEVENT
BEGIN:VEVENT
DTSTART;TZID=America/Chicago:20300716T120000
DTEND;TZID=America/Chicago:20300716T150000
DTSTAMP:20260423T060328
CREATED:20251125T170734Z
LAST-MODIFIED:20251125T170734Z
UID:10003269-1910433600-1910444400@presqueisle.com
SUMMARY:Fiber Arts Group
DESCRIPTION:Whether you enjoy knitting\, stitching\, quilting\, felting\, sewing\, crocheting\, or any other fiber art\, this group is open to anyone interested in working on their own projects and sharing ideas. Show and Tell encouraged!! \nThis group meets 1st and 3rd Tuesdays from 12-3pm\, in the library after hours.
URL:https://presqueisle.com/event/fiber-arts-group-2/2030-07-16/
LOCATION:Presque Isle Community Center\, 8306 School Loop Rd\, Presque Isle\, WI\, 54557\, United States
END:VEVENT
BEGIN:VEVENT
DTSTART;TZID=America/Chicago:20300719T130000
DTEND;TZID=America/Chicago:20300719T150000
DTSTAMP:20260423T060328
CREATED:20251125T164206Z
LAST-MODIFIED:20251125T164206Z
UID:10003077-1910696400-1910703600@presqueisle.com
SUMMARY:American Mah-jongg
DESCRIPTION:Join us Friday afternoons from 1-3pm for some friendly games of American mahjong! Free to join\, all experience levels welcome.
URL:https://presqueisle.com/event/american-mah-jongg/2030-07-19/
LOCATION:Presque Isle Library\, 8306 School Loop Rd\, Presque Isle\, WI\, 54557\, United States
END:VEVENT
BEGIN:VEVENT
DTSTART;TZID=America/Chicago:20300726T130000
DTEND;TZID=America/Chicago:20300726T150000
DTSTAMP:20260423T060328
CREATED:20251125T164206Z
LAST-MODIFIED:20251125T164206Z
UID:10003078-1911301200-1911308400@presqueisle.com
SUMMARY:American Mah-jongg
DESCRIPTION:Join us Friday afternoons from 1-3pm for some friendly games of American mahjong! Free to join\, all experience levels welcome.
URL:https://presqueisle.com/event/american-mah-jongg/2030-07-26/
LOCATION:Presque Isle Library\, 8306 School Loop Rd\, Presque Isle\, WI\, 54557\, United States
END:VEVENT
BEGIN:VEVENT
DTSTART;TZID=America/Chicago:20300802T130000
DTEND;TZID=America/Chicago:20300802T150000
DTSTAMP:20260423T060328
CREATED:20251125T164206Z
LAST-MODIFIED:20251125T164206Z
UID:10003079-1911906000-1911913200@presqueisle.com
SUMMARY:American Mah-jongg
DESCRIPTION:Join us Friday afternoons from 1-3pm for some friendly games of American mahjong! Free to join\, all experience levels welcome.
URL:https://presqueisle.com/event/american-mah-jongg/2030-08-02/
LOCATION:Presque Isle Library\, 8306 School Loop Rd\, Presque Isle\, WI\, 54557\, United States
END:VEVENT
BEGIN:VEVENT
DTSTART;TZID=America/Chicago:20300806T120000
DTEND;TZID=America/Chicago:20300806T150000
DTSTAMP:20260423T060328
CREATED:20251125T170547Z
LAST-MODIFIED:20251125T170547Z
UID:10003210-1912248000-1912258800@presqueisle.com
SUMMARY:Fiber Arts Group
DESCRIPTION:Whether you enjoy knitting\, stitching\, quilting\, felting\, sewing\, crocheting\, or any other fiber art\, this group is open to anyone interested in working on their own projects and sharing ideas. Show and Tell encouraged!! \nThis group meets 1st and 3rd Tuesdays from 12-3pm\, in the library after hours.
URL:https://presqueisle.com/event/fiber-arts-group/2030-08-06/
LOCATION:Presque Isle Community Center\, 8306 School Loop Rd\, Presque Isle\, WI\, 54557\, United States
END:VEVENT
BEGIN:VEVENT
DTSTART;TZID=America/Chicago:20300809T130000
DTEND;TZID=America/Chicago:20300809T150000
DTSTAMP:20260423T060328
CREATED:20251125T164206Z
LAST-MODIFIED:20251125T164206Z
UID:10003080-1912510800-1912518000@presqueisle.com
SUMMARY:American Mah-jongg
DESCRIPTION:Join us Friday afternoons from 1-3pm for some friendly games of American mahjong! Free to join\, all experience levels welcome.
URL:https://presqueisle.com/event/american-mah-jongg/2030-08-09/
LOCATION:Presque Isle Library\, 8306 School Loop Rd\, Presque Isle\, WI\, 54557\, United States
END:VEVENT
BEGIN:VEVENT
DTSTART;TZID=America/Chicago:20300816T130000
DTEND;TZID=America/Chicago:20300816T150000
DTSTAMP:20260423T060328
CREATED:20251125T164206Z
LAST-MODIFIED:20251125T164206Z
UID:10003081-1913115600-1913122800@presqueisle.com
SUMMARY:American Mah-jongg
DESCRIPTION:Join us Friday afternoons from 1-3pm for some friendly games of American mahjong! Free to join\, all experience levels welcome.
URL:https://presqueisle.com/event/american-mah-jongg/2030-08-16/
LOCATION:Presque Isle Library\, 8306 School Loop Rd\, Presque Isle\, WI\, 54557\, United States
END:VEVENT
BEGIN:VEVENT
DTSTART;TZID=America/Chicago:20300820T120000
DTEND;TZID=America/Chicago:20300820T150000
DTSTAMP:20260423T060328
CREATED:20251125T170734Z
LAST-MODIFIED:20251125T170734Z
UID:10003270-1913457600-1913468400@presqueisle.com
SUMMARY:Fiber Arts Group
DESCRIPTION:Whether you enjoy knitting\, stitching\, quilting\, felting\, sewing\, crocheting\, or any other fiber art\, this group is open to anyone interested in working on their own projects and sharing ideas. Show and Tell encouraged!! \nThis group meets 1st and 3rd Tuesdays from 12-3pm\, in the library after hours.
URL:https://presqueisle.com/event/fiber-arts-group-2/2030-08-20/
LOCATION:Presque Isle Community Center\, 8306 School Loop Rd\, Presque Isle\, WI\, 54557\, United States
END:VEVENT
BEGIN:VEVENT
DTSTART;TZID=America/Chicago:20300823T130000
DTEND;TZID=America/Chicago:20300823T150000
DTSTAMP:20260423T060328
CREATED:20251125T164206Z
LAST-MODIFIED:20251125T164206Z
UID:10003082-1913720400-1913727600@presqueisle.com
SUMMARY:American Mah-jongg
DESCRIPTION:Join us Friday afternoons from 1-3pm for some friendly games of American mahjong! Free to join\, all experience levels welcome.
URL:https://presqueisle.com/event/american-mah-jongg/2030-08-23/
LOCATION:Presque Isle Library\, 8306 School Loop Rd\, Presque Isle\, WI\, 54557\, United States
END:VEVENT
BEGIN:VEVENT
DTSTART;TZID=America/Chicago:20300830T130000
DTEND;TZID=America/Chicago:20300830T150000
DTSTAMP:20260423T060328
CREATED:20251125T164206Z
LAST-MODIFIED:20251125T164206Z
UID:10003083-1914325200-1914332400@presqueisle.com
SUMMARY:American Mah-jongg
DESCRIPTION:Join us Friday afternoons from 1-3pm for some friendly games of American mahjong! Free to join\, all experience levels welcome.
URL:https://presqueisle.com/event/american-mah-jongg/2030-08-30/
LOCATION:Presque Isle Library\, 8306 School Loop Rd\, Presque Isle\, WI\, 54557\, United States
END:VEVENT
BEGIN:VEVENT
DTSTART;TZID=America/Chicago:20300903T120000
DTEND;TZID=America/Chicago:20300903T150000
DTSTAMP:20260423T060328
CREATED:20251125T170547Z
LAST-MODIFIED:20251125T170547Z
UID:10003211-1914667200-1914678000@presqueisle.com
SUMMARY:Fiber Arts Group
DESCRIPTION:Whether you enjoy knitting\, stitching\, quilting\, felting\, sewing\, crocheting\, or any other fiber art\, this group is open to anyone interested in working on their own projects and sharing ideas. Show and Tell encouraged!! \nThis group meets 1st and 3rd Tuesdays from 12-3pm\, in the library after hours.
URL:https://presqueisle.com/event/fiber-arts-group/2030-09-03/
LOCATION:Presque Isle Community Center\, 8306 School Loop Rd\, Presque Isle\, WI\, 54557\, United States
END:VEVENT
BEGIN:VEVENT
DTSTART;TZID=America/Chicago:20300906T130000
DTEND;TZID=America/Chicago:20300906T150000
DTSTAMP:20260423T060328
CREATED:20251125T164206Z
LAST-MODIFIED:20251125T164206Z
UID:10003084-1914930000-1914937200@presqueisle.com
SUMMARY:American Mah-jongg
DESCRIPTION:Join us Friday afternoons from 1-3pm for some friendly games of American mahjong! Free to join\, all experience levels welcome.
URL:https://presqueisle.com/event/american-mah-jongg/2030-09-06/
LOCATION:Presque Isle Library\, 8306 School Loop Rd\, Presque Isle\, WI\, 54557\, United States
END:VEVENT
BEGIN:VEVENT
DTSTART;TZID=America/Chicago:20300913T130000
DTEND;TZID=America/Chicago:20300913T150000
DTSTAMP:20260423T060328
CREATED:20251125T164206Z
LAST-MODIFIED:20251125T164206Z
UID:10003085-1915534800-1915542000@presqueisle.com
SUMMARY:American Mah-jongg
DESCRIPTION:Join us Friday afternoons from 1-3pm for some friendly games of American mahjong! Free to join\, all experience levels welcome.
URL:https://presqueisle.com/event/american-mah-jongg/2030-09-13/
LOCATION:Presque Isle Library\, 8306 School Loop Rd\, Presque Isle\, WI\, 54557\, United States
END:VEVENT
BEGIN:VEVENT
DTSTART;TZID=America/Chicago:20300917T120000
DTEND;TZID=America/Chicago:20300917T150000
DTSTAMP:20260423T060328
CREATED:20251125T170734Z
LAST-MODIFIED:20251125T170734Z
UID:10003271-1915876800-1915887600@presqueisle.com
SUMMARY:Fiber Arts Group
DESCRIPTION:Whether you enjoy knitting\, stitching\, quilting\, felting\, sewing\, crocheting\, or any other fiber art\, this group is open to anyone interested in working on their own projects and sharing ideas. Show and Tell encouraged!! \nThis group meets 1st and 3rd Tuesdays from 12-3pm\, in the library after hours.
URL:https://presqueisle.com/event/fiber-arts-group-2/2030-09-17/
LOCATION:Presque Isle Community Center\, 8306 School Loop Rd\, Presque Isle\, WI\, 54557\, United States
END:VEVENT
BEGIN:VEVENT
DTSTART;TZID=America/Chicago:20300920T130000
DTEND;TZID=America/Chicago:20300920T150000
DTSTAMP:20260423T060328
CREATED:20251125T164206Z
LAST-MODIFIED:20251125T164206Z
UID:10003086-1916139600-1916146800@presqueisle.com
SUMMARY:American Mah-jongg
DESCRIPTION:Join us Friday afternoons from 1-3pm for some friendly games of American mahjong! Free to join\, all experience levels welcome.
URL:https://presqueisle.com/event/american-mah-jongg/2030-09-20/
LOCATION:Presque Isle Library\, 8306 School Loop Rd\, Presque Isle\, WI\, 54557\, United States
END:VEVENT
BEGIN:VEVENT
DTSTART;TZID=America/Chicago:20300927T130000
DTEND;TZID=America/Chicago:20300927T150000
DTSTAMP:20260423T060328
CREATED:20251125T164206Z
LAST-MODIFIED:20251125T164206Z
UID:10003087-1916744400-1916751600@presqueisle.com
SUMMARY:American Mah-jongg
DESCRIPTION:Join us Friday afternoons from 1-3pm for some friendly games of American mahjong! Free to join\, all experience levels welcome.
URL:https://presqueisle.com/event/american-mah-jongg/2030-09-27/
LOCATION:Presque Isle Library\, 8306 School Loop Rd\, Presque Isle\, WI\, 54557\, United States
END:VEVENT
BEGIN:VEVENT
DTSTART;TZID=America/Chicago:20301001T120000
DTEND;TZID=America/Chicago:20301001T150000
DTSTAMP:20260423T060328
CREATED:20251125T170547Z
LAST-MODIFIED:20251125T170547Z
UID:10003212-1917086400-1917097200@presqueisle.com
SUMMARY:Fiber Arts Group
DESCRIPTION:Whether you enjoy knitting\, stitching\, quilting\, felting\, sewing\, crocheting\, or any other fiber art\, this group is open to anyone interested in working on their own projects and sharing ideas. Show and Tell encouraged!! \nThis group meets 1st and 3rd Tuesdays from 12-3pm\, in the library after hours.
URL:https://presqueisle.com/event/fiber-arts-group/2030-10-01/
LOCATION:Presque Isle Community Center\, 8306 School Loop Rd\, Presque Isle\, WI\, 54557\, United States
END:VEVENT
BEGIN:VEVENT
DTSTART;TZID=America/Chicago:20301004T130000
DTEND;TZID=America/Chicago:20301004T150000
DTSTAMP:20260423T060328
CREATED:20251125T164206Z
LAST-MODIFIED:20251125T164206Z
UID:10003088-1917349200-1917356400@presqueisle.com
SUMMARY:American Mah-jongg
DESCRIPTION:Join us Friday afternoons from 1-3pm for some friendly games of American mahjong! Free to join\, all experience levels welcome.
URL:https://presqueisle.com/event/american-mah-jongg/2030-10-04/
LOCATION:Presque Isle Library\, 8306 School Loop Rd\, Presque Isle\, WI\, 54557\, United States
END:VEVENT
BEGIN:VEVENT
DTSTART;TZID=America/Chicago:20301011T130000
DTEND;TZID=America/Chicago:20301011T150000
DTSTAMP:20260423T060328
CREATED:20251125T164206Z
LAST-MODIFIED:20251125T164206Z
UID:10003089-1917954000-1917961200@presqueisle.com
SUMMARY:American Mah-jongg
DESCRIPTION:Join us Friday afternoons from 1-3pm for some friendly games of American mahjong! Free to join\, all experience levels welcome.
URL:https://presqueisle.com/event/american-mah-jongg/2030-10-11/
LOCATION:Presque Isle Library\, 8306 School Loop Rd\, Presque Isle\, WI\, 54557\, United States
END:VEVENT
BEGIN:VEVENT
DTSTART;TZID=America/Chicago:20301015T120000
DTEND;TZID=America/Chicago:20301015T150000
DTSTAMP:20260423T060328
CREATED:20251125T170734Z
LAST-MODIFIED:20251125T170734Z
UID:10003272-1918296000-1918306800@presqueisle.com
SUMMARY:Fiber Arts Group
DESCRIPTION:Whether you enjoy knitting\, stitching\, quilting\, felting\, sewing\, crocheting\, or any other fiber art\, this group is open to anyone interested in working on their own projects and sharing ideas. Show and Tell encouraged!! \nThis group meets 1st and 3rd Tuesdays from 12-3pm\, in the library after hours.
URL:https://presqueisle.com/event/fiber-arts-group-2/2030-10-15/
LOCATION:Presque Isle Community Center\, 8306 School Loop Rd\, Presque Isle\, WI\, 54557\, United States
END:VEVENT
BEGIN:VEVENT
DTSTART;TZID=America/Chicago:20301018T130000
DTEND;TZID=America/Chicago:20301018T150000
DTSTAMP:20260423T060328
CREATED:20251125T164206Z
LAST-MODIFIED:20251125T164206Z
UID:10003090-1918558800-1918566000@presqueisle.com
SUMMARY:American Mah-jongg
DESCRIPTION:Join us Friday afternoons from 1-3pm for some friendly games of American mahjong! Free to join\, all experience levels welcome.
URL:https://presqueisle.com/event/american-mah-jongg/2030-10-18/
LOCATION:Presque Isle Library\, 8306 School Loop Rd\, Presque Isle\, WI\, 54557\, United States
END:VEVENT
BEGIN:VEVENT
DTSTART;TZID=America/Chicago:20301025T130000
DTEND;TZID=America/Chicago:20301025T150000
DTSTAMP:20260423T060328
CREATED:20251125T164206Z
LAST-MODIFIED:20251125T164206Z
UID:10003091-1919163600-1919170800@presqueisle.com
SUMMARY:American Mah-jongg
DESCRIPTION:Join us Friday afternoons from 1-3pm for some friendly games of American mahjong! Free to join\, all experience levels welcome.
URL:https://presqueisle.com/event/american-mah-jongg/2030-10-25/
LOCATION:Presque Isle Library\, 8306 School Loop Rd\, Presque Isle\, WI\, 54557\, United States
END:VEVENT
BEGIN:VEVENT
DTSTART;TZID=America/Chicago:20301101T130000
DTEND;TZID=America/Chicago:20301101T150000
DTSTAMP:20260423T060328
CREATED:20251125T164206Z
LAST-MODIFIED:20251125T164206Z
UID:10003092-1919768400-1919775600@presqueisle.com
SUMMARY:American Mah-jongg
DESCRIPTION:Join us Friday afternoons from 1-3pm for some friendly games of American mahjong! Free to join\, all experience levels welcome.
URL:https://presqueisle.com/event/american-mah-jongg/2030-11-01/
LOCATION:Presque Isle Library\, 8306 School Loop Rd\, Presque Isle\, WI\, 54557\, United States
END:VEVENT
BEGIN:VEVENT
DTSTART;TZID=America/Chicago:20301105T120000
DTEND;TZID=America/Chicago:20301105T150000
DTSTAMP:20260423T060328
CREATED:20251125T170547Z
LAST-MODIFIED:20251125T170547Z
UID:10003213-1920110400-1920121200@presqueisle.com
SUMMARY:Fiber Arts Group
DESCRIPTION:Whether you enjoy knitting\, stitching\, quilting\, felting\, sewing\, crocheting\, or any other fiber art\, this group is open to anyone interested in working on their own projects and sharing ideas. Show and Tell encouraged!! \nThis group meets 1st and 3rd Tuesdays from 12-3pm\, in the library after hours.
URL:https://presqueisle.com/event/fiber-arts-group/2030-11-05/
LOCATION:Presque Isle Community Center\, 8306 School Loop Rd\, Presque Isle\, WI\, 54557\, United States
END:VEVENT
BEGIN:VEVENT
DTSTART;TZID=America/Chicago:20301108T130000
DTEND;TZID=America/Chicago:20301108T150000
DTSTAMP:20260423T060328
CREATED:20251125T164206Z
LAST-MODIFIED:20251125T164206Z
UID:10003093-1920373200-1920380400@presqueisle.com
SUMMARY:American Mah-jongg
DESCRIPTION:Join us Friday afternoons from 1-3pm for some friendly games of American mahjong! Free to join\, all experience levels welcome.
URL:https://presqueisle.com/event/american-mah-jongg/2030-11-08/
LOCATION:Presque Isle Library\, 8306 School Loop Rd\, Presque Isle\, WI\, 54557\, United States
END:VEVENT
BEGIN:VEVENT
DTSTART;TZID=America/Chicago:20301115T130000
DTEND;TZID=America/Chicago:20301115T150000
DTSTAMP:20260423T060328
CREATED:20251125T164206Z
LAST-MODIFIED:20251125T164206Z
UID:10003094-1920978000-1920985200@presqueisle.com
SUMMARY:American Mah-jongg
DESCRIPTION:Join us Friday afternoons from 1-3pm for some friendly games of American mahjong! Free to join\, all experience levels welcome.
URL:https://presqueisle.com/event/american-mah-jongg/2030-11-15/
LOCATION:Presque Isle Library\, 8306 School Loop Rd\, Presque Isle\, WI\, 54557\, United States
END:VEVENT
BEGIN:VEVENT
DTSTART;TZID=America/Chicago:20301119T120000
DTEND;TZID=America/Chicago:20301119T150000
DTSTAMP:20260423T060328
CREATED:20251125T170734Z
LAST-MODIFIED:20251125T170734Z
UID:10003273-1921320000-1921330800@presqueisle.com
SUMMARY:Fiber Arts Group
DESCRIPTION:Whether you enjoy knitting\, stitching\, quilting\, felting\, sewing\, crocheting\, or any other fiber art\, this group is open to anyone interested in working on their own projects and sharing ideas. Show and Tell encouraged!! \nThis group meets 1st and 3rd Tuesdays from 12-3pm\, in the library after hours.
URL:https://presqueisle.com/event/fiber-arts-group-2/2030-11-19/
LOCATION:Presque Isle Community Center\, 8306 School Loop Rd\, Presque Isle\, WI\, 54557\, United States
END:VEVENT
END:VCALENDAR