BEGIN:VCALENDAR
VERSION:2.0
PRODID:-//Presque Isle Wisconsin - ECPv6.15.20//NONSGML v1.0//EN
CALSCALE:GREGORIAN
METHOD:PUBLISH
X-ORIGINAL-URL:https://presqueisle.com
X-WR-CALDESC:Events for Presque Isle Wisconsin
REFRESH-INTERVAL;VALUE=DURATION:PT1H
X-Robots-Tag:noindex
X-PUBLISHED-TTL:PT1H
BEGIN:VTIMEZONE
TZID:America/Chicago
BEGIN:DAYLIGHT
TZOFFSETFROM:-0600
TZOFFSETTO:-0500
TZNAME:CDT
DTSTART:20240310T080000
END:DAYLIGHT
BEGIN:STANDARD
TZOFFSETFROM:-0500
TZOFFSETTO:-0600
TZNAME:CST
DTSTART:20241103T070000
END:STANDARD
BEGIN:DAYLIGHT
TZOFFSETFROM:-0600
TZOFFSETTO:-0500
TZNAME:CDT
DTSTART:20250309T080000
END:DAYLIGHT
BEGIN:STANDARD
TZOFFSETFROM:-0500
TZOFFSETTO:-0600
TZNAME:CST
DTSTART:20251102T070000
END:STANDARD
BEGIN:DAYLIGHT
TZOFFSETFROM:-0600
TZOFFSETTO:-0500
TZNAME:CDT
DTSTART:20260308T080000
END:DAYLIGHT
BEGIN:STANDARD
TZOFFSETFROM:-0500
TZOFFSETTO:-0600
TZNAME:CST
DTSTART:20261101T070000
END:STANDARD
END:VTIMEZONE
BEGIN:VEVENT
DTSTART;TZID=America/Chicago:20250825T083000
DTEND;TZID=America/Chicago:20250825T110000
DTSTAMP:20260420T020031
CREATED:20250429T164621Z
LAST-MODIFIED:20250429T164854Z
UID:10002488-1756110600-1756119600@presqueisle.com
SUMMARY:Northwoods Table Tennis Club
DESCRIPTION:The Northwoods Table Tennis Club has 3 tables and open play (primary doubles) on Monday & Thursday mornings from 8:30am until 11:00am at the Presque Isle Community Center on 8306 School Loop Rd. In 2025 we will begin playing on Saturday mornings.  Please consult the Town & Chamber event calendars.  Paddles and balls are provided and all skill set levels are invited.
URL:https://presqueisle.com/event/northwoods-table-tennis-club-2/2025-08-25/
LOCATION:Presque Isle Community Center\, 8306 School Loop Rd\, Presque Isle\, WI\, 54557\, United States
END:VEVENT
BEGIN:VEVENT
DTSTART;TZID=America/Chicago:20250827T170000
DTEND;TZID=America/Chicago:20250827T190000
DTSTAMP:20260420T020031
CREATED:20250418T143832Z
LAST-MODIFIED:20250418T144324Z
UID:10002047-1756314000-1756321200@presqueisle.com
SUMMARY:Martha Kelly Catering/ American Legion Post 480
DESCRIPTION:Join us\, with Martha Kelly Catering\, at Winegars American Legion Post 480\, in Presque Isle\, every Thursday beginning mid June through Oct
URL:https://presqueisle.com/event/martha-kelly-catering-american-legion-post-480-17/2025-08-27/
LOCATION:American Legion Post 480\, Hwy W\, Presque Isle\, WI\, 54557-\, United States
END:VEVENT
BEGIN:VEVENT
DTSTART;TZID=America/Chicago:20250828T083000
DTEND;TZID=America/Chicago:20250828T110000
DTSTAMP:20260420T020031
CREATED:20250429T164459Z
LAST-MODIFIED:20250429T164459Z
UID:10002228-1756369800-1756378800@presqueisle.com
SUMMARY:Northwoods Table Tennis Club
DESCRIPTION:The Northwoods Table Tennis Club has 3 tables and open play (primary doubles) on Monday & Thursday mornings from 8:30am until 11:00am at the Presque Isle Community Center on 8306 School Loop Rd. In 2025 we will begin playing on Saturday mornings.  Please consult the Town & Chamber event calendars.  Paddles and balls are provided and all skill set levels are invited.
URL:https://presqueisle.com/event/northwoods-table-tennis-club/2025-08-28/
LOCATION:Presque Isle Community Center\, 8306 School Loop Rd\, Presque Isle\, WI\, 54557\, United States
END:VEVENT
BEGIN:VEVENT
DTSTART;TZID=America/Chicago:20250828T170000
DTEND;TZID=America/Chicago:20250828T190000
DTSTAMP:20260420T020031
CREATED:20250418T144028Z
LAST-MODIFIED:20250418T144159Z
UID:10002115-1756400400-1756407600@presqueisle.com
SUMMARY:Martha Kelly Catering/ American Legion Post 480
DESCRIPTION:Join us\, with Martha Kelly Catering\, at Winegars American Legion Post 480\, in Presque Isle\, every Thursday beginning mid June through Oct
URL:https://presqueisle.com/event/martha-kelly-catering-american-legion-post-480-18/2025-08-28/
LOCATION:American Legion Post 480\, Hwy W\, Presque Isle\, WI\, 54557-\, United States
END:VEVENT
BEGIN:VEVENT
DTSTART;TZID=America/Chicago:20250829T080000
DTEND;TZID=America/Chicago:20250829T140000
DTSTAMP:20260420T020032
CREATED:20250522T155800Z
LAST-MODIFIED:20250522T155917Z
UID:10002033-1756454400-1756476000@presqueisle.com
SUMMARY:Farm Fresh Friday Market
DESCRIPTION:Featuring farm fresh produce\, bakery\, honey\, cheese\, grass-fed\nmeats / poultry\, smoked fish\, local eggs\, and other finds\, including hometown vendors with\nhandcrafted\, locally made items\, from the Northwoods.
URL:https://presqueisle.com/event/farm-fresh-friday-market-2/2025-08-29/
LOCATION:Presque Isle Main St\, MAIN STREET\, Presque Isle\, WI\, 54557-\, United States
ORGANIZER;CN="Presque Isle Chamber of Commerce":MAILTO:chamber@presqueisle.com
END:VEVENT
BEGIN:VEVENT
DTSTART;TZID=America/Chicago:20250831T080000
DTEND;TZID=America/Chicago:20250831T110000
DTSTAMP:20260420T020032
CREATED:20250121T184539Z
LAST-MODIFIED:20250821T142809Z
UID:10001981-1756627200-1756638000@presqueisle.com
SUMMARY:Loggers Breakfast / Presque Isle Lions Club
DESCRIPTION:Serving Mimosa’s Too!!!!  Yummmm
URL:https://presqueisle.com/event/loggers-breakfast-presque-isle-lions-club-3/
LOCATION:Presque Isle Community Center\, 8306 School Loop Rd\, Presque Isle\, WI\, 54557\, United States
ORGANIZER;CN="Presque Isle Lions Club":MAILTO:chamber@presqueisle.com
END:VEVENT
BEGIN:VEVENT
DTSTART;TZID=America/Chicago:20250901T083000
DTEND;TZID=America/Chicago:20250901T110000
DTSTAMP:20260420T020032
CREATED:20250429T164621Z
LAST-MODIFIED:20250429T164854Z
UID:10002489-1756715400-1756724400@presqueisle.com
SUMMARY:Northwoods Table Tennis Club
DESCRIPTION:The Northwoods Table Tennis Club has 3 tables and open play (primary doubles) on Monday & Thursday mornings from 8:30am until 11:00am at the Presque Isle Community Center on 8306 School Loop Rd. In 2025 we will begin playing on Saturday mornings.  Please consult the Town & Chamber event calendars.  Paddles and balls are provided and all skill set levels are invited.
URL:https://presqueisle.com/event/northwoods-table-tennis-club-2/2025-09-01/
LOCATION:Presque Isle Community Center\, 8306 School Loop Rd\, Presque Isle\, WI\, 54557\, United States
END:VEVENT
BEGIN:VEVENT
DTSTART;TZID=America/Chicago:20250903T080000
DTEND;TZID=America/Chicago:20250906T210000
DTSTAMP:20260420T020032
CREATED:20240928T170712Z
LAST-MODIFIED:20240928T171037Z
UID:10000760-1756886400-1757192400@presqueisle.com
SUMMARY:Lynx Lake Resort Musky Tournament
DESCRIPTION:Come out to Lynx Lake Resort on Lynx Lake in Presque Isle and put your skills to the test!  Catch Musky and other species…nightly drawings!  Call to reserve a spot.
URL:https://presqueisle.com/event/lynx-lake-resort-musky-tournament/
LOCATION:Lynx Lake Resort & Bar\, 10683 County Hwy B\, Presque Isle\, WI\, 54557\, United States
END:VEVENT
BEGIN:VEVENT
DTSTART;TZID=America/Chicago:20250903T140000
DTEND;TZID=America/Chicago:20250903T160000
DTSTAMP:20260420T020032
CREATED:20250821T143621Z
LAST-MODIFIED:20250821T143621Z
UID:10002751-1756908000-1756915200@presqueisle.com
SUMMARY:Technology & Nature/ PI Library
DESCRIPTION:
URL:https://presqueisle.com/event/technology-nature-pi-library/
LOCATION:Presque Isle Library\, 8306 School Loop Rd\, Presque Isle\, WI\, 54557\, United States
END:VEVENT
BEGIN:VEVENT
DTSTART;TZID=America/Chicago:20250903T170000
DTEND;TZID=America/Chicago:20250903T190000
DTSTAMP:20260420T020032
CREATED:20250418T143832Z
LAST-MODIFIED:20250418T144324Z
UID:10002048-1756918800-1756926000@presqueisle.com
SUMMARY:Martha Kelly Catering/ American Legion Post 480
DESCRIPTION:Join us\, with Martha Kelly Catering\, at Winegars American Legion Post 480\, in Presque Isle\, every Thursday beginning mid June through Oct
URL:https://presqueisle.com/event/martha-kelly-catering-american-legion-post-480-17/2025-09-03/
LOCATION:American Legion Post 480\, Hwy W\, Presque Isle\, WI\, 54557-\, United States
END:VEVENT
BEGIN:VEVENT
DTSTART;TZID=America/Chicago:20250904T083000
DTEND;TZID=America/Chicago:20250904T110000
DTSTAMP:20260420T020032
CREATED:20250429T164459Z
LAST-MODIFIED:20250429T164459Z
UID:10002229-1756974600-1756983600@presqueisle.com
SUMMARY:Northwoods Table Tennis Club
DESCRIPTION:The Northwoods Table Tennis Club has 3 tables and open play (primary doubles) on Monday & Thursday mornings from 8:30am until 11:00am at the Presque Isle Community Center on 8306 School Loop Rd. In 2025 we will begin playing on Saturday mornings.  Please consult the Town & Chamber event calendars.  Paddles and balls are provided and all skill set levels are invited.
URL:https://presqueisle.com/event/northwoods-table-tennis-club/2025-09-04/
LOCATION:Presque Isle Community Center\, 8306 School Loop Rd\, Presque Isle\, WI\, 54557\, United States
END:VEVENT
BEGIN:VEVENT
DTSTART;TZID=America/Chicago:20250904T170000
DTEND;TZID=America/Chicago:20250904T190000
DTSTAMP:20260420T020032
CREATED:20250418T144028Z
LAST-MODIFIED:20250418T144159Z
UID:10002116-1757005200-1757012400@presqueisle.com
SUMMARY:Martha Kelly Catering/ American Legion Post 480
DESCRIPTION:Join us\, with Martha Kelly Catering\, at Winegars American Legion Post 480\, in Presque Isle\, every Thursday beginning mid June through Oct
URL:https://presqueisle.com/event/martha-kelly-catering-american-legion-post-480-18/2025-09-04/
LOCATION:American Legion Post 480\, Hwy W\, Presque Isle\, WI\, 54557-\, United States
END:VEVENT
BEGIN:VEVENT
DTSTART;TZID=America/Chicago:20250905T080000
DTEND;TZID=America/Chicago:20250905T140000
DTSTAMP:20260420T020032
CREATED:20250522T155800Z
LAST-MODIFIED:20250522T155917Z
UID:10002034-1757059200-1757080800@presqueisle.com
SUMMARY:Farm Fresh Friday Market
DESCRIPTION:Featuring farm fresh produce\, bakery\, honey\, cheese\, grass-fed\nmeats / poultry\, smoked fish\, local eggs\, and other finds\, including hometown vendors with\nhandcrafted\, locally made items\, from the Northwoods.
URL:https://presqueisle.com/event/farm-fresh-friday-market-2/2025-09-05/
LOCATION:Presque Isle Main St\, MAIN STREET\, Presque Isle\, WI\, 54557-\, United States
ORGANIZER;CN="Presque Isle Chamber of Commerce":MAILTO:chamber@presqueisle.com
END:VEVENT
BEGIN:VEVENT
DTSTART;TZID=America/Chicago:20250908T083000
DTEND;TZID=America/Chicago:20250908T110000
DTSTAMP:20260420T020032
CREATED:20250429T164621Z
LAST-MODIFIED:20250429T164854Z
UID:10002490-1757320200-1757329200@presqueisle.com
SUMMARY:Northwoods Table Tennis Club
DESCRIPTION:The Northwoods Table Tennis Club has 3 tables and open play (primary doubles) on Monday & Thursday mornings from 8:30am until 11:00am at the Presque Isle Community Center on 8306 School Loop Rd. In 2025 we will begin playing on Saturday mornings.  Please consult the Town & Chamber event calendars.  Paddles and balls are provided and all skill set levels are invited.
URL:https://presqueisle.com/event/northwoods-table-tennis-club-2/2025-09-08/
LOCATION:Presque Isle Community Center\, 8306 School Loop Rd\, Presque Isle\, WI\, 54557\, United States
END:VEVENT
BEGIN:VEVENT
DTSTART;TZID=America/Chicago:20250909T130000
DTEND;TZID=America/Chicago:20250909T173000
DTSTAMP:20260420T020032
CREATED:20250121T184759Z
LAST-MODIFIED:20250121T184759Z
UID:10001982-1757422800-1757439000@presqueisle.com
SUMMARY:Blood Drive / Presque Isle Lions Club
DESCRIPTION:It takes a village.  Do your part in helping save lives\, donate blood!  Come to the Presque Isle Community Center to do just that….we look forward to seeing you all there!
URL:https://presqueisle.com/event/blood-drive-presque-isle-lions-club/
LOCATION:Presque Isle Community Center\, 8306 School Loop Rd\, Presque Isle\, WI\, 54557\, United States
ORGANIZER;CN="Presque Isle Lions Club":MAILTO:chamber@presqueisle.com
END:VEVENT
BEGIN:VEVENT
DTSTART;TZID=America/Chicago:20250910T153000
DTEND;TZID=America/Chicago:20250910T180000
DTSTAMP:20260420T020032
CREATED:20250821T143353Z
LAST-MODIFIED:20250821T143353Z
UID:10002750-1757518200-1757527200@presqueisle.com
SUMMARY:Denim & Dessert Auditions
DESCRIPTION:
URL:https://presqueisle.com/event/denim-dessert-auditions/
LOCATION:Presque Isle Community Center\, 8306 School Loop Rd\, Presque Isle\, WI\, 54557\, United States
END:VEVENT
BEGIN:VEVENT
DTSTART;TZID=America/Chicago:20250910T170000
DTEND;TZID=America/Chicago:20250910T190000
DTSTAMP:20260420T020032
CREATED:20250418T143832Z
LAST-MODIFIED:20250418T144324Z
UID:10002049-1757523600-1757530800@presqueisle.com
SUMMARY:Martha Kelly Catering/ American Legion Post 480
DESCRIPTION:Join us\, with Martha Kelly Catering\, at Winegars American Legion Post 480\, in Presque Isle\, every Thursday beginning mid June through Oct
URL:https://presqueisle.com/event/martha-kelly-catering-american-legion-post-480-17/2025-09-10/
LOCATION:American Legion Post 480\, Hwy W\, Presque Isle\, WI\, 54557-\, United States
END:VEVENT
BEGIN:VEVENT
DTSTART;TZID=America/Chicago:20250911T083000
DTEND;TZID=America/Chicago:20250911T110000
DTSTAMP:20260420T020032
CREATED:20250429T164459Z
LAST-MODIFIED:20250429T164459Z
UID:10002230-1757579400-1757588400@presqueisle.com
SUMMARY:Northwoods Table Tennis Club
DESCRIPTION:The Northwoods Table Tennis Club has 3 tables and open play (primary doubles) on Monday & Thursday mornings from 8:30am until 11:00am at the Presque Isle Community Center on 8306 School Loop Rd. In 2025 we will begin playing on Saturday mornings.  Please consult the Town & Chamber event calendars.  Paddles and balls are provided and all skill set levels are invited.
URL:https://presqueisle.com/event/northwoods-table-tennis-club/2025-09-11/
LOCATION:Presque Isle Community Center\, 8306 School Loop Rd\, Presque Isle\, WI\, 54557\, United States
END:VEVENT
BEGIN:VEVENT
DTSTART;TZID=America/Chicago:20250911T170000
DTEND;TZID=America/Chicago:20250911T190000
DTSTAMP:20260420T020032
CREATED:20250418T144028Z
LAST-MODIFIED:20250418T144159Z
UID:10002117-1757610000-1757617200@presqueisle.com
SUMMARY:Martha Kelly Catering/ American Legion Post 480
DESCRIPTION:Join us\, with Martha Kelly Catering\, at Winegars American Legion Post 480\, in Presque Isle\, every Thursday beginning mid June through Oct
URL:https://presqueisle.com/event/martha-kelly-catering-american-legion-post-480-18/2025-09-11/
LOCATION:American Legion Post 480\, Hwy W\, Presque Isle\, WI\, 54557-\, United States
END:VEVENT
BEGIN:VEVENT
DTSTART;TZID=America/Chicago:20250915T083000
DTEND;TZID=America/Chicago:20250915T110000
DTSTAMP:20260420T020032
CREATED:20250429T164621Z
LAST-MODIFIED:20250429T164854Z
UID:10002491-1757925000-1757934000@presqueisle.com
SUMMARY:Northwoods Table Tennis Club
DESCRIPTION:The Northwoods Table Tennis Club has 3 tables and open play (primary doubles) on Monday & Thursday mornings from 8:30am until 11:00am at the Presque Isle Community Center on 8306 School Loop Rd. In 2025 we will begin playing on Saturday mornings.  Please consult the Town & Chamber event calendars.  Paddles and balls are provided and all skill set levels are invited.
URL:https://presqueisle.com/event/northwoods-table-tennis-club-2/2025-09-15/
LOCATION:Presque Isle Community Center\, 8306 School Loop Rd\, Presque Isle\, WI\, 54557\, United States
END:VEVENT
BEGIN:VEVENT
DTSTART;TZID=America/Chicago:20250917T150000
DTEND;TZID=America/Chicago:20250917T170000
DTSTAMP:20260420T020032
CREATED:20250821T143930Z
LAST-MODIFIED:20250821T144110Z
UID:10002752-1758121200-1758128400@presqueisle.com
SUMMARY:Presque Isle Railroad History/ Heritage Society
DESCRIPTION:
URL:https://presqueisle.com/event/presque-isle-railroad-history-heritage-society/
LOCATION:Presque Isle Library\, 8306 School Loop Rd\, Presque Isle\, WI\, 54557\, United States
ORGANIZER;CN="Presque Isle Heritage Society":MAILTO:presqueisleheritage@gmail.com
END:VEVENT
BEGIN:VEVENT
DTSTART;TZID=America/Chicago:20250917T170000
DTEND;TZID=America/Chicago:20250917T190000
DTSTAMP:20260420T020032
CREATED:20250418T143832Z
LAST-MODIFIED:20250418T144324Z
UID:10002050-1758128400-1758135600@presqueisle.com
SUMMARY:Martha Kelly Catering/ American Legion Post 480
DESCRIPTION:Join us\, with Martha Kelly Catering\, at Winegars American Legion Post 480\, in Presque Isle\, every Thursday beginning mid June through Oct
URL:https://presqueisle.com/event/martha-kelly-catering-american-legion-post-480-17/2025-09-17/
LOCATION:American Legion Post 480\, Hwy W\, Presque Isle\, WI\, 54557-\, United States
END:VEVENT
BEGIN:VEVENT
DTSTART;TZID=America/Chicago:20250918T083000
DTEND;TZID=America/Chicago:20250918T110000
DTSTAMP:20260420T020032
CREATED:20250429T164459Z
LAST-MODIFIED:20250429T164459Z
UID:10002231-1758184200-1758193200@presqueisle.com
SUMMARY:Northwoods Table Tennis Club
DESCRIPTION:The Northwoods Table Tennis Club has 3 tables and open play (primary doubles) on Monday & Thursday mornings from 8:30am until 11:00am at the Presque Isle Community Center on 8306 School Loop Rd. In 2025 we will begin playing on Saturday mornings.  Please consult the Town & Chamber event calendars.  Paddles and balls are provided and all skill set levels are invited.
URL:https://presqueisle.com/event/northwoods-table-tennis-club/2025-09-18/
LOCATION:Presque Isle Community Center\, 8306 School Loop Rd\, Presque Isle\, WI\, 54557\, United States
END:VEVENT
BEGIN:VEVENT
DTSTART;TZID=America/Chicago:20250918T170000
DTEND;TZID=America/Chicago:20250918T190000
DTSTAMP:20260420T020032
CREATED:20250418T144028Z
LAST-MODIFIED:20250418T144159Z
UID:10002118-1758214800-1758222000@presqueisle.com
SUMMARY:Martha Kelly Catering/ American Legion Post 480
DESCRIPTION:Join us\, with Martha Kelly Catering\, at Winegars American Legion Post 480\, in Presque Isle\, every Thursday beginning mid June through Oct
URL:https://presqueisle.com/event/martha-kelly-catering-american-legion-post-480-18/2025-09-18/
LOCATION:American Legion Post 480\, Hwy W\, Presque Isle\, WI\, 54557-\, United States
END:VEVENT
BEGIN:VEVENT
DTSTART;TZID=America/Chicago:20250922T083000
DTEND;TZID=America/Chicago:20250922T110000
DTSTAMP:20260420T020032
CREATED:20250429T164621Z
LAST-MODIFIED:20250429T164854Z
UID:10002492-1758529800-1758538800@presqueisle.com
SUMMARY:Northwoods Table Tennis Club
DESCRIPTION:The Northwoods Table Tennis Club has 3 tables and open play (primary doubles) on Monday & Thursday mornings from 8:30am until 11:00am at the Presque Isle Community Center on 8306 School Loop Rd. In 2025 we will begin playing on Saturday mornings.  Please consult the Town & Chamber event calendars.  Paddles and balls are provided and all skill set levels are invited.
URL:https://presqueisle.com/event/northwoods-table-tennis-club-2/2025-09-22/
LOCATION:Presque Isle Community Center\, 8306 School Loop Rd\, Presque Isle\, WI\, 54557\, United States
END:VEVENT
BEGIN:VEVENT
DTSTART;TZID=America/Chicago:20250924T170000
DTEND;TZID=America/Chicago:20250924T190000
DTSTAMP:20260420T020032
CREATED:20250418T143832Z
LAST-MODIFIED:20250418T144324Z
UID:10002051-1758733200-1758740400@presqueisle.com
SUMMARY:Martha Kelly Catering/ American Legion Post 480
DESCRIPTION:Join us\, with Martha Kelly Catering\, at Winegars American Legion Post 480\, in Presque Isle\, every Thursday beginning mid June through Oct
URL:https://presqueisle.com/event/martha-kelly-catering-american-legion-post-480-17/2025-09-24/
LOCATION:American Legion Post 480\, Hwy W\, Presque Isle\, WI\, 54557-\, United States
END:VEVENT
BEGIN:VEVENT
DTSTART;TZID=America/Chicago:20250925T083000
DTEND;TZID=America/Chicago:20250925T110000
DTSTAMP:20260420T020032
CREATED:20250429T164459Z
LAST-MODIFIED:20250429T164459Z
UID:10002232-1758789000-1758798000@presqueisle.com
SUMMARY:Northwoods Table Tennis Club
DESCRIPTION:The Northwoods Table Tennis Club has 3 tables and open play (primary doubles) on Monday & Thursday mornings from 8:30am until 11:00am at the Presque Isle Community Center on 8306 School Loop Rd. In 2025 we will begin playing on Saturday mornings.  Please consult the Town & Chamber event calendars.  Paddles and balls are provided and all skill set levels are invited.
URL:https://presqueisle.com/event/northwoods-table-tennis-club/2025-09-25/
LOCATION:Presque Isle Community Center\, 8306 School Loop Rd\, Presque Isle\, WI\, 54557\, United States
END:VEVENT
BEGIN:VEVENT
DTSTART;TZID=America/Chicago:20250925T170000
DTEND;TZID=America/Chicago:20250925T190000
DTSTAMP:20260420T020032
CREATED:20250418T144028Z
LAST-MODIFIED:20250418T144159Z
UID:10002119-1758819600-1758826800@presqueisle.com
SUMMARY:Martha Kelly Catering/ American Legion Post 480
DESCRIPTION:Join us\, with Martha Kelly Catering\, at Winegars American Legion Post 480\, in Presque Isle\, every Thursday beginning mid June through Oct
URL:https://presqueisle.com/event/martha-kelly-catering-american-legion-post-480-18/2025-09-25/
LOCATION:American Legion Post 480\, Hwy W\, Presque Isle\, WI\, 54557-\, United States
END:VEVENT
BEGIN:VEVENT
DTSTART;TZID=America/Chicago:20250929T083000
DTEND;TZID=America/Chicago:20250929T110000
DTSTAMP:20260420T020032
CREATED:20250429T164621Z
LAST-MODIFIED:20250429T164854Z
UID:10002493-1759134600-1759143600@presqueisle.com
SUMMARY:Northwoods Table Tennis Club
DESCRIPTION:The Northwoods Table Tennis Club has 3 tables and open play (primary doubles) on Monday & Thursday mornings from 8:30am until 11:00am at the Presque Isle Community Center on 8306 School Loop Rd. In 2025 we will begin playing on Saturday mornings.  Please consult the Town & Chamber event calendars.  Paddles and balls are provided and all skill set levels are invited.
URL:https://presqueisle.com/event/northwoods-table-tennis-club-2/2025-09-29/
LOCATION:Presque Isle Community Center\, 8306 School Loop Rd\, Presque Isle\, WI\, 54557\, United States
END:VEVENT
BEGIN:VEVENT
DTSTART;TZID=America/Chicago:20251001T170000
DTEND;TZID=America/Chicago:20251001T190000
DTSTAMP:20260420T020032
CREATED:20250418T143832Z
LAST-MODIFIED:20250418T144324Z
UID:10002052-1759338000-1759345200@presqueisle.com
SUMMARY:Martha Kelly Catering/ American Legion Post 480
DESCRIPTION:Join us\, with Martha Kelly Catering\, at Winegars American Legion Post 480\, in Presque Isle\, every Thursday beginning mid June through Oct
URL:https://presqueisle.com/event/martha-kelly-catering-american-legion-post-480-17/2025-10-01/
LOCATION:American Legion Post 480\, Hwy W\, Presque Isle\, WI\, 54557-\, United States
END:VEVENT
END:VCALENDAR