BEGIN:VCALENDAR
VERSION:2.0
PRODID:-//Presque Isle Wisconsin - ECPv6.15.20//NONSGML v1.0//EN
CALSCALE:GREGORIAN
METHOD:PUBLISH
X-ORIGINAL-URL:https://presqueisle.com
X-WR-CALDESC:Events for Presque Isle Wisconsin
REFRESH-INTERVAL;VALUE=DURATION:PT1H
X-Robots-Tag:noindex
X-PUBLISHED-TTL:PT1H
BEGIN:VTIMEZONE
TZID:America/Chicago
BEGIN:DAYLIGHT
TZOFFSETFROM:-0600
TZOFFSETTO:-0500
TZNAME:CDT
DTSTART:20240310T080000
END:DAYLIGHT
BEGIN:STANDARD
TZOFFSETFROM:-0500
TZOFFSETTO:-0600
TZNAME:CST
DTSTART:20241103T070000
END:STANDARD
BEGIN:DAYLIGHT
TZOFFSETFROM:-0600
TZOFFSETTO:-0500
TZNAME:CDT
DTSTART:20250309T080000
END:DAYLIGHT
BEGIN:STANDARD
TZOFFSETFROM:-0500
TZOFFSETTO:-0600
TZNAME:CST
DTSTART:20251102T070000
END:STANDARD
BEGIN:DAYLIGHT
TZOFFSETFROM:-0600
TZOFFSETTO:-0500
TZNAME:CDT
DTSTART:20260308T080000
END:DAYLIGHT
BEGIN:STANDARD
TZOFFSETFROM:-0500
TZOFFSETTO:-0600
TZNAME:CST
DTSTART:20261101T070000
END:STANDARD
END:VTIMEZONE
BEGIN:VEVENT
DTSTART;TZID=America/Chicago:20250208T110000
DTEND;TZID=America/Chicago:20250208T170000
DTSTAMP:20260419T203958
CREATED:20240928T165419Z
LAST-MODIFIED:20240928T165442Z
UID:10000758-1739012400-1739034000@presqueisle.com
SUMMARY:Wisconsin RIDE IN / Lynx Lake Resort
DESCRIPTION:Join us for the Wisconsin RIDE IN to benefit the Pink Ribbon Riders!!!  Kick off winter snowmobile season giving to and supporting a great cause.  Come out and enjoy a day of fun with a tire golf competition\, top fundraiser prize\, bonfire\, marshmallows\, drawings\, giveaways & great company!
URL:https://presqueisle.com/event/wisconsin-ride-in-lynx-lake-resort/
LOCATION:Lynx Lake Resort & Bar\, 10683 County Hwy B\, Presque Isle\, WI\, 54557\, United States
END:VEVENT
BEGIN:VEVENT
DTSTART;TZID=America/Chicago:20250215T170000
DTEND;TZID=America/Chicago:20250215T183000
DTSTAMP:20260419T203958
CREATED:20250130T165649Z
LAST-MODIFIED:20250130T165649Z
UID:10002036-1739638800-1739644200@presqueisle.com
SUMMARY:Candlelit Snowshoe Soiree / North Lakeland Dis. Center
DESCRIPTION:Enjoy an evening snowshoe hike on the Discovery Center’s one-mile snowshoe trail with beautifully lit luminaries paving the way! \nBonfire / Hot Chocolate /   S’mores \nRegister by 2/14/25 \n$7 per person ($5 for members) \nBring your own snowshoes or borrow ours for $5 per pair (limited quantity) \nAll ability levels welcome!
URL:https://presqueisle.com/event/candlelit-snowshoe-soiree-north-lakeland-dis-center/
LOCATION:North Lakeland Discovery Center\, 14006 Discovery Ln\, Manitowish Waters\, WI\, 54545\, United States
END:VEVENT
BEGIN:VEVENT
DTSTART;TZID=America/Chicago:20250222T110000
DTEND;TZID=America/Chicago:20250222T180000
DTSTAMP:20260419T203958
CREATED:20240928T170012Z
LAST-MODIFIED:20240928T170143Z
UID:10000759-1740222000-1740247200@presqueisle.com
SUMMARY:Winterfest 2025
DESCRIPTION:Join us at Lynx Lake Resort for a great day in the snow.  There will be an ice fishing contest\, winter games\, ice sculpting contest\, live music\, food & drinks.  There is something for the whole family\, so come out and enjoy!!!
URL:https://presqueisle.com/event/winterfest-2025/
LOCATION:Lynx Lake Resort & Bar\, 10683 County Hwy B\, Presque Isle\, WI\, 54557\, United States
ORGANIZER;CN="Presque Isle Chamber of Commerce":MAILTO:chamber@presqueisle.com
END:VEVENT
END:VCALENDAR