BEGIN:VCALENDAR
VERSION:2.0
PRODID:-//Presque Isle Wisconsin - ECPv6.15.20//NONSGML v1.0//EN
CALSCALE:GREGORIAN
METHOD:PUBLISH
X-WR-CALNAME:Presque Isle Wisconsin
X-ORIGINAL-URL:https://presqueisle.com
X-WR-CALDESC:Events for Presque Isle Wisconsin
REFRESH-INTERVAL;VALUE=DURATION:PT1H
X-Robots-Tag:noindex
X-PUBLISHED-TTL:PT1H
BEGIN:VTIMEZONE
TZID:America/Chicago
BEGIN:DAYLIGHT
TZOFFSETFROM:-0600
TZOFFSETTO:-0500
TZNAME:CDT
DTSTART:20240310T080000
END:DAYLIGHT
BEGIN:STANDARD
TZOFFSETFROM:-0500
TZOFFSETTO:-0600
TZNAME:CST
DTSTART:20241103T070000
END:STANDARD
BEGIN:DAYLIGHT
TZOFFSETFROM:-0600
TZOFFSETTO:-0500
TZNAME:CDT
DTSTART:20250309T080000
END:DAYLIGHT
BEGIN:STANDARD
TZOFFSETFROM:-0500
TZOFFSETTO:-0600
TZNAME:CST
DTSTART:20251102T070000
END:STANDARD
BEGIN:DAYLIGHT
TZOFFSETFROM:-0600
TZOFFSETTO:-0500
TZNAME:CDT
DTSTART:20260308T080000
END:DAYLIGHT
BEGIN:STANDARD
TZOFFSETFROM:-0500
TZOFFSETTO:-0600
TZNAME:CST
DTSTART:20261101T070000
END:STANDARD
END:VTIMEZONE
BEGIN:VEVENT
DTSTART;TZID=America/Chicago:20251004T190000
DTEND;TZID=America/Chicago:20251004T210000
DTSTAMP:20260424T105923
CREATED:20250813T181722Z
LAST-MODIFIED:20250926T174324Z
UID:10002753-1759604400-1759611600@presqueisle.com
SUMMARY:Denim & Dessert Performance "The House on Haunted Hill"
DESCRIPTION:Denim &amp; Dessert Readers Theatre presents Tommy Jamerson’s treat for Halloween\, “The House on Haunted Hill”\, October 3 &amp; 4\, Friday and Saturday night at 7 PM at the Presque Isle Community Center. You as the audience are cordially invited to a party to die for. Adapted from the Vincent Price classic\, the clever script tells the twisted tale of millionaire Frederick Lauren\, his fourth wife\, and five money-hungry guests who will each receive fifty thousand dollars if they stay in a supposedly haunted house until sunrise. Filled with double crosses\, jilted lovers\, a wicked sense of humor\, and a restless spirt or two\, Haunted Hill proves to be a night to remember.\nA true community collaboration\, the performance showcases Presque Isle’s Rich Schmalzer\, Richard Phillips\, Pam Eschenbauch\, Mary Watkins and Dave Vogt. From Boulder Junction is Cyndi Radant. From Winchester Kath Wilson\, Darrell Smith\, Dick Smith and Penny Zobel\, first time director. From Mani Waters\, Nancy Hajt\, with technical assistance from Sarah Krembs and Tom Erickson. Fan favorite Babs Bolduc hails from Lake Gogebic\, and newcomer Dan Lee is from Springstead.\nAdmission is FREE\, donations gratefully accepted. No reservations are necessary\, first come best seats. Doors open at 6:15 PM with a cash beverage bar\, and after the show\, complimentary coffee\, desserts and savories are served.\nThe Community Center is at 8306 School Loop Rd up the hill from County B in downtown Presque Isle (Behind Fire Statioin). Call 715 904 9063 for info.
URL:https://presqueisle.com/event/denim-dessert-readers-theatre-the-house-on-haunted-hill/2025-10-04/
LOCATION:Presque Isle Community Center\, 8306 School Loop Rd\, Presque Isle\, WI\, 54557\, United States
END:VEVENT
BEGIN:VEVENT
DTSTART;TZID=America/Chicago:20251003T190000
DTEND;TZID=America/Chicago:20251003T210000
DTSTAMP:20260424T105923
CREATED:20250813T181722Z
LAST-MODIFIED:20250926T174324Z
UID:10002747-1759518000-1759525200@presqueisle.com
SUMMARY:Denim & Dessert Performance "The House on Haunted Hill"
DESCRIPTION:Denim &amp; Dessert Readers Theatre presents Tommy Jamerson’s treat for Halloween\, “The House on Haunted Hill”\, October 3 &amp; 4\, Friday and Saturday night at 7 PM at the Presque Isle Community Center. You as the audience are cordially invited to a party to die for. Adapted from the Vincent Price classic\, the clever script tells the twisted tale of millionaire Frederick Lauren\, his fourth wife\, and five money-hungry guests who will each receive fifty thousand dollars if they stay in a supposedly haunted house until sunrise. Filled with double crosses\, jilted lovers\, a wicked sense of humor\, and a restless spirt or two\, Haunted Hill proves to be a night to remember.\nA true community collaboration\, the performance showcases Presque Isle’s Rich Schmalzer\, Richard Phillips\, Pam Eschenbauch\, Mary Watkins and Dave Vogt. From Boulder Junction is Cyndi Radant. From Winchester Kath Wilson\, Darrell Smith\, Dick Smith and Penny Zobel\, first time director. From Mani Waters\, Nancy Hajt\, with technical assistance from Sarah Krembs and Tom Erickson. Fan favorite Babs Bolduc hails from Lake Gogebic\, and newcomer Dan Lee is from Springstead.\nAdmission is FREE\, donations gratefully accepted. No reservations are necessary\, first come best seats. Doors open at 6:15 PM with a cash beverage bar\, and after the show\, complimentary coffee\, desserts and savories are served.\nThe Community Center is at 8306 School Loop Rd up the hill from County B in downtown Presque Isle (Behind Fire Statioin). Call 715 904 9063 for info.
URL:https://presqueisle.com/event/denim-dessert-readers-theatre-the-house-on-haunted-hill/2025-10-03/
LOCATION:Presque Isle Community Center\, 8306 School Loop Rd\, Presque Isle\, WI\, 54557\, United States
END:VEVENT
END:VCALENDAR