BEGIN:VCALENDAR
VERSION:2.0
PRODID:-//Presque Isle Wisconsin - ECPv6.15.20//NONSGML v1.0//EN
CALSCALE:GREGORIAN
METHOD:PUBLISH
X-WR-CALNAME:Presque Isle Wisconsin
X-ORIGINAL-URL:https://presqueisle.com
X-WR-CALDESC:Events for Presque Isle Wisconsin
REFRESH-INTERVAL;VALUE=DURATION:PT1H
X-Robots-Tag:noindex
X-PUBLISHED-TTL:PT1H
BEGIN:VTIMEZONE
TZID:America/Chicago
BEGIN:DAYLIGHT
TZOFFSETFROM:-0600
TZOFFSETTO:-0500
TZNAME:CDT
DTSTART:20240310T080000
END:DAYLIGHT
BEGIN:STANDARD
TZOFFSETFROM:-0500
TZOFFSETTO:-0600
TZNAME:CST
DTSTART:20241103T070000
END:STANDARD
BEGIN:DAYLIGHT
TZOFFSETFROM:-0600
TZOFFSETTO:-0500
TZNAME:CDT
DTSTART:20250309T080000
END:DAYLIGHT
BEGIN:STANDARD
TZOFFSETFROM:-0500
TZOFFSETTO:-0600
TZNAME:CST
DTSTART:20251102T070000
END:STANDARD
BEGIN:DAYLIGHT
TZOFFSETFROM:-0600
TZOFFSETTO:-0500
TZNAME:CDT
DTSTART:20260308T080000
END:DAYLIGHT
BEGIN:STANDARD
TZOFFSETFROM:-0500
TZOFFSETTO:-0600
TZNAME:CST
DTSTART:20261101T070000
END:STANDARD
END:VTIMEZONE
BEGIN:VEVENT
DTSTART;TZID=America/Chicago:20250807T100000
DTEND;TZID=America/Chicago:20250807T120000
DTSTAMP:20260421T032232
CREATED:20250610T171053Z
LAST-MODIFIED:20250610T172432Z
UID:10002742-1754560800-1754568000@presqueisle.com
SUMMARY:Birchbark Crafts / NLDC
DESCRIPTION:Using sustainably harvested birch bark\, we will make magnets and frames out of this beautiful material.
URL:https://presqueisle.com/event/birchbark-crafts-nldc/
LOCATION:Presque Isle Library Log Pavilion\, 8306 School Loop Rd\, Presque Isle\, WI\, 54557\, United States
END:VEVENT
BEGIN:VEVENT
DTSTART;TZID=America/Chicago:20250731T100000
DTEND;TZID=America/Chicago:20250731T120000
DTSTAMP:20260421T032232
CREATED:20250610T170654Z
LAST-MODIFIED:20250610T170654Z
UID:10002741-1753956000-1753963200@presqueisle.com
SUMMARY:Web Wonders / NLDC
DESCRIPTION:Come along for an exciting journey into the fascinating world of spiders! Uncover the distinctive traits of these creatures through engaging activities\, exploration\, and more.  We might even welcome a few spider pals to join us! Plus\, we’ll create a craft inspired by our eight-legged friends.
URL:https://presqueisle.com/event/web-wonders-nldc/
LOCATION:Presque Isle Library Log Pavilion\, 8306 School Loop Rd\, Presque Isle\, WI\, 54557\, United States
END:VEVENT
BEGIN:VEVENT
DTSTART;TZID=America/Chicago:20250724T100000
DTEND;TZID=America/Chicago:20250724T120000
DTSTAMP:20260421T032232
CREATED:20250610T163134Z
LAST-MODIFIED:20250610T163249Z
UID:10002740-1753351200-1753358400@presqueisle.com
SUMMARY:Life of a Waterdrop / NLDC
DESCRIPTION:  \n \nLearn about the water cycle during this fun and and interactive activity. As you travel through the water cycle yourself you will see that every drop has a different story to tell. \n 
URL:https://presqueisle.com/event/life-of-a-waterdrop-nldc/
LOCATION:Presque Isle Library Log Pavilion\, 8306 School Loop Rd\, Presque Isle\, WI\, 54557\, United States
END:VEVENT
BEGIN:VEVENT
DTSTART;TZID=America/Chicago:20250717T100000
DTEND;TZID=America/Chicago:20250717T120000
DTSTAMP:20260421T032232
CREATED:20250610T160227Z
LAST-MODIFIED:20250610T160439Z
UID:10002739-1752746400-1752753600@presqueisle.com
SUMMARY:Macro-Invertebrates / NLDC
DESCRIPTION:Did you know that essential creatures inhabit the muck and leaves along lake shores? Come join us to explore these “macro-invertebrates” and sift through shoreline samples in search of these fascinating organisms. We’ll discover how to identify them and understand their role in assessing lake water quality!
URL:https://presqueisle.com/event/macro-invertebrates-nldc/
LOCATION:Presque Isle Library Log Pavilion\, 8306 School Loop Rd\, Presque Isle\, WI\, 54557\, United States
END:VEVENT
BEGIN:VEVENT
DTSTART;TZID=America/Chicago:20250710T100000
DTEND;TZID=America/Chicago:20250710T120000
DTSTAMP:20260421T032232
CREATED:20250610T152044Z
LAST-MODIFIED:20250610T155151Z
UID:10002738-1752141600-1752148800@presqueisle.com
SUMMARY:Exploring Colors in Nature / NLDC
DESCRIPTION:Why do some animals have brown coloration while others are vibrant yellow? Who utilizes camouflage to blend in\, and who aims to stand out? Every color in nature serves a specific purpose! We’ll explore the fascinating concept of camouflage\, along with other unique colors found in the natural world.  You’ll also get to create your own artwork using naturally colored paints to take home!
URL:https://presqueisle.com/event/exploring-colors-in-nature-nldc/
LOCATION:Presque Isle Library Log Pavilion\, 8306 School Loop Rd\, Presque Isle\, WI\, 54557\, United States
END:VEVENT
BEGIN:VEVENT
DTSTART;TZID=America/Chicago:20250703T100000
DTEND;TZID=America/Chicago:20250703T120000
DTSTAMP:20260421T032232
CREATED:20250610T150912Z
LAST-MODIFIED:20250610T151017Z
UID:10002737-1751536800-1751544000@presqueisle.com
SUMMARY:Eager Beavers Presented by NLDC
DESCRIPTION:The architects of the landscape…beavers are incredible animals!  Learn about their adaptations as we dress someone up in a costume\, explore beaver skulls and even smell what castor smells like- THEN we’ll create beaver habitats in small buckets and learn what a beaver needs to survive.
URL:https://presqueisle.com/event/eager-beavers-presented-by-nldc/
LOCATION:Presque Isle Library Log Pavilion\, 8306 School Loop Rd\, Presque Isle\, WI\, 54557\, United States
END:VEVENT
END:VCALENDAR