BEGIN:VCALENDAR
VERSION:2.0
PRODID:-//Presque Isle Wisconsin - ECPv6.15.20//NONSGML v1.0//EN
CALSCALE:GREGORIAN
METHOD:PUBLISH
X-ORIGINAL-URL:https://presqueisle.com
X-WR-CALDESC:Events for Presque Isle Wisconsin
REFRESH-INTERVAL;VALUE=DURATION:PT1H
X-Robots-Tag:noindex
X-PUBLISHED-TTL:PT1H
BEGIN:VTIMEZONE
TZID:America/Chicago
BEGIN:DAYLIGHT
TZOFFSETFROM:-0600
TZOFFSETTO:-0500
TZNAME:CDT
DTSTART:20240310T080000
END:DAYLIGHT
BEGIN:STANDARD
TZOFFSETFROM:-0500
TZOFFSETTO:-0600
TZNAME:CST
DTSTART:20241103T070000
END:STANDARD
BEGIN:DAYLIGHT
TZOFFSETFROM:-0600
TZOFFSETTO:-0500
TZNAME:CDT
DTSTART:20250309T080000
END:DAYLIGHT
BEGIN:STANDARD
TZOFFSETFROM:-0500
TZOFFSETTO:-0600
TZNAME:CST
DTSTART:20251102T070000
END:STANDARD
BEGIN:DAYLIGHT
TZOFFSETFROM:-0600
TZOFFSETTO:-0500
TZNAME:CDT
DTSTART:20260308T080000
END:DAYLIGHT
BEGIN:STANDARD
TZOFFSETFROM:-0500
TZOFFSETTO:-0600
TZNAME:CST
DTSTART:20261101T070000
END:STANDARD
END:VTIMEZONE
BEGIN:VEVENT
DTSTART;TZID=America/Chicago:20250905T080000
DTEND;TZID=America/Chicago:20250905T140000
DTSTAMP:20260422T064540
CREATED:20250522T155800Z
LAST-MODIFIED:20250522T155917Z
UID:10002034-1757059200-1757080800@presqueisle.com
SUMMARY:Farm Fresh Friday Market
DESCRIPTION:Featuring farm fresh produce\, bakery\, honey\, cheese\, grass-fed\nmeats / poultry\, smoked fish\, local eggs\, and other finds\, including hometown vendors with\nhandcrafted\, locally made items\, from the Northwoods.
URL:https://presqueisle.com/event/farm-fresh-friday-market-2/2025-09-05/
LOCATION:Presque Isle Main St\, MAIN STREET\, Presque Isle\, WI\, 54557-\, United States
ORGANIZER;CN="Presque Isle Chamber of Commerce":MAILTO:chamber@presqueisle.com
END:VEVENT
BEGIN:VEVENT
DTSTART;TZID=America/Chicago:20250829T080000
DTEND;TZID=America/Chicago:20250829T140000
DTSTAMP:20260422T064540
CREATED:20250522T155800Z
LAST-MODIFIED:20250522T155917Z
UID:10002033-1756454400-1756476000@presqueisle.com
SUMMARY:Farm Fresh Friday Market
DESCRIPTION:Featuring farm fresh produce\, bakery\, honey\, cheese\, grass-fed\nmeats / poultry\, smoked fish\, local eggs\, and other finds\, including hometown vendors with\nhandcrafted\, locally made items\, from the Northwoods.
URL:https://presqueisle.com/event/farm-fresh-friday-market-2/2025-08-29/
LOCATION:Presque Isle Main St\, MAIN STREET\, Presque Isle\, WI\, 54557-\, United States
ORGANIZER;CN="Presque Isle Chamber of Commerce":MAILTO:chamber@presqueisle.com
END:VEVENT
BEGIN:VEVENT
DTSTART;TZID=America/Chicago:20250822T080000
DTEND;TZID=America/Chicago:20250822T140000
DTSTAMP:20260422T064540
CREATED:20250522T155800Z
LAST-MODIFIED:20250522T155917Z
UID:10002032-1755849600-1755871200@presqueisle.com
SUMMARY:Farm Fresh Friday Market
DESCRIPTION:Featuring farm fresh produce\, bakery\, honey\, cheese\, grass-fed\nmeats / poultry\, smoked fish\, local eggs\, and other finds\, including hometown vendors with\nhandcrafted\, locally made items\, from the Northwoods.
URL:https://presqueisle.com/event/farm-fresh-friday-market-2/2025-08-22/
LOCATION:Presque Isle Main St\, MAIN STREET\, Presque Isle\, WI\, 54557-\, United States
ORGANIZER;CN="Presque Isle Chamber of Commerce":MAILTO:chamber@presqueisle.com
END:VEVENT
BEGIN:VEVENT
DTSTART;TZID=America/Chicago:20250815T080000
DTEND;TZID=America/Chicago:20250815T140000
DTSTAMP:20260422T064540
CREATED:20250522T155800Z
LAST-MODIFIED:20250522T155917Z
UID:10002031-1755244800-1755266400@presqueisle.com
SUMMARY:Farm Fresh Friday Market
DESCRIPTION:Featuring farm fresh produce\, bakery\, honey\, cheese\, grass-fed\nmeats / poultry\, smoked fish\, local eggs\, and other finds\, including hometown vendors with\nhandcrafted\, locally made items\, from the Northwoods.
URL:https://presqueisle.com/event/farm-fresh-friday-market-2/2025-08-15/
LOCATION:Presque Isle Main St\, MAIN STREET\, Presque Isle\, WI\, 54557-\, United States
ORGANIZER;CN="Presque Isle Chamber of Commerce":MAILTO:chamber@presqueisle.com
END:VEVENT
BEGIN:VEVENT
DTSTART;TZID=America/Chicago:20250808T080000
DTEND;TZID=America/Chicago:20250808T140000
DTSTAMP:20260422T064540
CREATED:20250522T155800Z
LAST-MODIFIED:20250522T155917Z
UID:10002030-1754640000-1754661600@presqueisle.com
SUMMARY:Farm Fresh Friday Market
DESCRIPTION:Featuring farm fresh produce\, bakery\, honey\, cheese\, grass-fed\nmeats / poultry\, smoked fish\, local eggs\, and other finds\, including hometown vendors with\nhandcrafted\, locally made items\, from the Northwoods.
URL:https://presqueisle.com/event/farm-fresh-friday-market-2/2025-08-08/
LOCATION:Presque Isle Main St\, MAIN STREET\, Presque Isle\, WI\, 54557-\, United States
ORGANIZER;CN="Presque Isle Chamber of Commerce":MAILTO:chamber@presqueisle.com
END:VEVENT
BEGIN:VEVENT
DTSTART;TZID=America/Chicago:20250801T080000
DTEND;TZID=America/Chicago:20250801T140000
DTSTAMP:20260422T064540
CREATED:20250522T155800Z
LAST-MODIFIED:20250522T155917Z
UID:10002029-1754035200-1754056800@presqueisle.com
SUMMARY:Farm Fresh Friday Market
DESCRIPTION:Featuring farm fresh produce\, bakery\, honey\, cheese\, grass-fed\nmeats / poultry\, smoked fish\, local eggs\, and other finds\, including hometown vendors with\nhandcrafted\, locally made items\, from the Northwoods.
URL:https://presqueisle.com/event/farm-fresh-friday-market-2/2025-08-01/
LOCATION:Presque Isle Main St\, MAIN STREET\, Presque Isle\, WI\, 54557-\, United States
ORGANIZER;CN="Presque Isle Chamber of Commerce":MAILTO:chamber@presqueisle.com
END:VEVENT
BEGIN:VEVENT
DTSTART;TZID=America/Chicago:20250725T080000
DTEND;TZID=America/Chicago:20250725T140000
DTSTAMP:20260422T064540
CREATED:20250522T155800Z
LAST-MODIFIED:20250522T155917Z
UID:10002028-1753430400-1753452000@presqueisle.com
SUMMARY:Farm Fresh Friday Market
DESCRIPTION:Featuring farm fresh produce\, bakery\, honey\, cheese\, grass-fed\nmeats / poultry\, smoked fish\, local eggs\, and other finds\, including hometown vendors with\nhandcrafted\, locally made items\, from the Northwoods.
URL:https://presqueisle.com/event/farm-fresh-friday-market-2/2025-07-25/
LOCATION:Presque Isle Main St\, MAIN STREET\, Presque Isle\, WI\, 54557-\, United States
ORGANIZER;CN="Presque Isle Chamber of Commerce":MAILTO:chamber@presqueisle.com
END:VEVENT
BEGIN:VEVENT
DTSTART;TZID=America/Chicago:20250718T080000
DTEND;TZID=America/Chicago:20250718T140000
DTSTAMP:20260422T064540
CREATED:20250522T155800Z
LAST-MODIFIED:20250522T155917Z
UID:10002027-1752825600-1752847200@presqueisle.com
SUMMARY:Farm Fresh Friday Market
DESCRIPTION:Featuring farm fresh produce\, bakery\, honey\, cheese\, grass-fed\nmeats / poultry\, smoked fish\, local eggs\, and other finds\, including hometown vendors with\nhandcrafted\, locally made items\, from the Northwoods.
URL:https://presqueisle.com/event/farm-fresh-friday-market-2/2025-07-18/
LOCATION:Presque Isle Main St\, MAIN STREET\, Presque Isle\, WI\, 54557-\, United States
ORGANIZER;CN="Presque Isle Chamber of Commerce":MAILTO:chamber@presqueisle.com
END:VEVENT
BEGIN:VEVENT
DTSTART;TZID=America/Chicago:20250711T080000
DTEND;TZID=America/Chicago:20250711T140000
DTSTAMP:20260422T064540
CREATED:20250522T155800Z
LAST-MODIFIED:20250522T155917Z
UID:10002026-1752220800-1752242400@presqueisle.com
SUMMARY:Farm Fresh Friday Market
DESCRIPTION:Featuring farm fresh produce\, bakery\, honey\, cheese\, grass-fed\nmeats / poultry\, smoked fish\, local eggs\, and other finds\, including hometown vendors with\nhandcrafted\, locally made items\, from the Northwoods.
URL:https://presqueisle.com/event/farm-fresh-friday-market-2/2025-07-11/
LOCATION:Presque Isle Main St\, MAIN STREET\, Presque Isle\, WI\, 54557-\, United States
ORGANIZER;CN="Presque Isle Chamber of Commerce":MAILTO:chamber@presqueisle.com
END:VEVENT
BEGIN:VEVENT
DTSTART;TZID=America/Chicago:20250704T080000
DTEND;TZID=America/Chicago:20250704T140000
DTSTAMP:20260422T064540
CREATED:20250522T155800Z
LAST-MODIFIED:20250522T155917Z
UID:10002025-1751616000-1751637600@presqueisle.com
SUMMARY:Farm Fresh Friday Market
DESCRIPTION:Featuring farm fresh produce\, bakery\, honey\, cheese\, grass-fed\nmeats / poultry\, smoked fish\, local eggs\, and other finds\, including hometown vendors with\nhandcrafted\, locally made items\, from the Northwoods.
URL:https://presqueisle.com/event/farm-fresh-friday-market-2/2025-07-04/
LOCATION:Presque Isle Main St\, MAIN STREET\, Presque Isle\, WI\, 54557-\, United States
ORGANIZER;CN="Presque Isle Chamber of Commerce":MAILTO:chamber@presqueisle.com
END:VEVENT
BEGIN:VEVENT
DTSTART;TZID=America/Chicago:20250629T100000
DTEND;TZID=America/Chicago:20250629T160000
DTSTAMP:20260422T064540
CREATED:20250121T173003Z
LAST-MODIFIED:20250610T141325Z
UID:10001919-1751191200-1751212800@presqueisle.com
SUMMARY:Presque Isle Days
DESCRIPTION:Free entry to PI’s signature event.  Located on Main St\, this event will have a variety of craft and food/beverage vendors.  There will be kids games\, and live music by Comstock Load under the tent.  Also\, The Timberworks Lumberjack shows are back.  You can see them at 11am and 2pm \n 
URL:https://presqueisle.com/event/presque-isle-days-2/
LOCATION:Presque Isle Main St\, MAIN STREET\, Presque Isle\, WI\, 54557-\, United States
ORGANIZER;CN="Presque Isle Chamber of Commerce":MAILTO:chamber@presqueisle.com
END:VEVENT
BEGIN:VEVENT
DTSTART;TZID=America/Chicago:20250627T080000
DTEND;TZID=America/Chicago:20250627T140000
DTSTAMP:20260422T064540
CREATED:20250522T155800Z
LAST-MODIFIED:20250522T155917Z
UID:10002024-1751011200-1751032800@presqueisle.com
SUMMARY:Farm Fresh Friday Market
DESCRIPTION:Featuring farm fresh produce\, bakery\, honey\, cheese\, grass-fed\nmeats / poultry\, smoked fish\, local eggs\, and other finds\, including hometown vendors with\nhandcrafted\, locally made items\, from the Northwoods.
URL:https://presqueisle.com/event/farm-fresh-friday-market-2/2025-06-27/
LOCATION:Presque Isle Main St\, MAIN STREET\, Presque Isle\, WI\, 54557-\, United States
ORGANIZER;CN="Presque Isle Chamber of Commerce":MAILTO:chamber@presqueisle.com
END:VEVENT
BEGIN:VEVENT
DTSTART;TZID=America/Chicago:20250620T080000
DTEND;TZID=America/Chicago:20250620T140000
DTSTAMP:20260422T064540
CREATED:20250522T155800Z
LAST-MODIFIED:20250522T155917Z
UID:10002734-1750406400-1750428000@presqueisle.com
SUMMARY:Farm Fresh Friday Market
DESCRIPTION:Featuring farm fresh produce\, bakery\, honey\, cheese\, grass-fed\nmeats / poultry\, smoked fish\, local eggs\, and other finds\, including hometown vendors with\nhandcrafted\, locally made items\, from the Northwoods.
URL:https://presqueisle.com/event/farm-fresh-friday-market-2/2025-06-20/
LOCATION:Presque Isle Main St\, MAIN STREET\, Presque Isle\, WI\, 54557-\, United States
ORGANIZER;CN="Presque Isle Chamber of Commerce":MAILTO:chamber@presqueisle.com
END:VEVENT
BEGIN:VEVENT
DTSTART;TZID=America/Chicago:20250613T080000
DTEND;TZID=America/Chicago:20250613T140000
DTSTAMP:20260422T064540
CREATED:20250522T155800Z
LAST-MODIFIED:20250522T155917Z
UID:10002023-1749801600-1749823200@presqueisle.com
SUMMARY:Farm Fresh Friday Market
DESCRIPTION:Featuring farm fresh produce\, bakery\, honey\, cheese\, grass-fed\nmeats / poultry\, smoked fish\, local eggs\, and other finds\, including hometown vendors with\nhandcrafted\, locally made items\, from the Northwoods.
URL:https://presqueisle.com/event/farm-fresh-friday-market-2/2025-06-13/
LOCATION:Presque Isle Main St\, MAIN STREET\, Presque Isle\, WI\, 54557-\, United States
ORGANIZER;CN="Presque Isle Chamber of Commerce":MAILTO:chamber@presqueisle.com
END:VEVENT
BEGIN:VEVENT
DTSTART;TZID=America/Chicago:20250517T170000
DTEND;TZID=America/Chicago:20250517T170000
DTSTAMP:20260422T064540
CREATED:20250121T190644Z
LAST-MODIFIED:20250121T190644Z
UID:10001984-1747501200-1747501200@presqueisle.com
SUMMARY:Healing Patriots Parade/ Winegar American Legion Post 480
DESCRIPTION:Help us honor a special group of First Responders\, Military\, Firemen\, and more who have sacrificed and served in lifesaving\, life-changing\, and meaningful ways.  The Healing Patriots program brings up honorees to the Northwoods to enjoy a weekend fishing on Presque Isle waters.  Dinner and Ceremony following the parade at Winegar American Legion Post 480.
URL:https://presqueisle.com/event/healing-patriots-parade-winegar-american-legion-post-480/
LOCATION:Presque Isle Main St\, MAIN STREET\, Presque Isle\, WI\, 54557-\, United States
END:VEVENT
END:VCALENDAR