BEGIN:VCALENDAR
VERSION:2.0
PRODID:-//Presque Isle Wisconsin - ECPv6.15.20//NONSGML v1.0//EN
CALSCALE:GREGORIAN
METHOD:PUBLISH
X-ORIGINAL-URL:https://presqueisle.com
X-WR-CALDESC:Events for Presque Isle Wisconsin
REFRESH-INTERVAL;VALUE=DURATION:PT1H
X-Robots-Tag:noindex
X-PUBLISHED-TTL:PT1H
BEGIN:VTIMEZONE
TZID:America/Chicago
BEGIN:DAYLIGHT
TZOFFSETFROM:-0600
TZOFFSETTO:-0500
TZNAME:CDT
DTSTART:20240310T080000
END:DAYLIGHT
BEGIN:STANDARD
TZOFFSETFROM:-0500
TZOFFSETTO:-0600
TZNAME:CST
DTSTART:20241103T070000
END:STANDARD
BEGIN:DAYLIGHT
TZOFFSETFROM:-0600
TZOFFSETTO:-0500
TZNAME:CDT
DTSTART:20250309T080000
END:DAYLIGHT
BEGIN:STANDARD
TZOFFSETFROM:-0500
TZOFFSETTO:-0600
TZNAME:CST
DTSTART:20251102T070000
END:STANDARD
BEGIN:DAYLIGHT
TZOFFSETFROM:-0600
TZOFFSETTO:-0500
TZNAME:CDT
DTSTART:20260308T080000
END:DAYLIGHT
BEGIN:STANDARD
TZOFFSETFROM:-0500
TZOFFSETTO:-0600
TZNAME:CST
DTSTART:20261101T070000
END:STANDARD
END:VTIMEZONE
BEGIN:VEVENT
DTSTART;TZID=America/Chicago:20250620T080000
DTEND;TZID=America/Chicago:20250620T140000
DTSTAMP:20260422T081902
CREATED:20250522T155800Z
LAST-MODIFIED:20250522T155917Z
UID:10002734-1750406400-1750428000@presqueisle.com
SUMMARY:Farm Fresh Friday Market
DESCRIPTION:Featuring farm fresh produce\, bakery\, honey\, cheese\, grass-fed\nmeats / poultry\, smoked fish\, local eggs\, and other finds\, including hometown vendors with\nhandcrafted\, locally made items\, from the Northwoods.
URL:https://presqueisle.com/event/farm-fresh-friday-market-2/2025-06-20/
LOCATION:Presque Isle Main St\, MAIN STREET\, Presque Isle\, WI\, 54557-\, United States
ORGANIZER;CN="Presque Isle Chamber of Commerce":MAILTO:chamber@presqueisle.com
END:VEVENT
BEGIN:VEVENT
DTSTART;TZID=America/Chicago:20250613T080000
DTEND;TZID=America/Chicago:20250613T140000
DTSTAMP:20260422T081902
CREATED:20250522T155800Z
LAST-MODIFIED:20250522T155917Z
UID:10002023-1749801600-1749823200@presqueisle.com
SUMMARY:Farm Fresh Friday Market
DESCRIPTION:Featuring farm fresh produce\, bakery\, honey\, cheese\, grass-fed\nmeats / poultry\, smoked fish\, local eggs\, and other finds\, including hometown vendors with\nhandcrafted\, locally made items\, from the Northwoods.
URL:https://presqueisle.com/event/farm-fresh-friday-market-2/2025-06-13/
LOCATION:Presque Isle Main St\, MAIN STREET\, Presque Isle\, WI\, 54557-\, United States
ORGANIZER;CN="Presque Isle Chamber of Commerce":MAILTO:chamber@presqueisle.com
END:VEVENT
BEGIN:VEVENT
DTSTART;TZID=America/Chicago:20250517T170000
DTEND;TZID=America/Chicago:20250517T170000
DTSTAMP:20260422T081902
CREATED:20250121T190644Z
LAST-MODIFIED:20250121T190644Z
UID:10001984-1747501200-1747501200@presqueisle.com
SUMMARY:Healing Patriots Parade/ Winegar American Legion Post 480
DESCRIPTION:Help us honor a special group of First Responders\, Military\, Firemen\, and more who have sacrificed and served in lifesaving\, life-changing\, and meaningful ways.  The Healing Patriots program brings up honorees to the Northwoods to enjoy a weekend fishing on Presque Isle waters.  Dinner and Ceremony following the parade at Winegar American Legion Post 480.
URL:https://presqueisle.com/event/healing-patriots-parade-winegar-american-legion-post-480/
LOCATION:Presque Isle Main St\, MAIN STREET\, Presque Isle\, WI\, 54557-\, United States
END:VEVENT
END:VCALENDAR