BEGIN:VCALENDAR
VERSION:2.0
PRODID:-//Presque Isle Wisconsin - ECPv6.15.20//NONSGML v1.0//EN
CALSCALE:GREGORIAN
METHOD:PUBLISH
X-WR-CALNAME:Presque Isle Wisconsin
X-ORIGINAL-URL:https://presqueisle.com
X-WR-CALDESC:Events for Presque Isle Wisconsin
REFRESH-INTERVAL;VALUE=DURATION:PT1H
X-Robots-Tag:noindex
X-PUBLISHED-TTL:PT1H
BEGIN:VTIMEZONE
TZID:America/Chicago
BEGIN:DAYLIGHT
TZOFFSETFROM:-0600
TZOFFSETTO:-0500
TZNAME:CDT
DTSTART:20240310T080000
END:DAYLIGHT
BEGIN:STANDARD
TZOFFSETFROM:-0500
TZOFFSETTO:-0600
TZNAME:CST
DTSTART:20241103T070000
END:STANDARD
BEGIN:DAYLIGHT
TZOFFSETFROM:-0600
TZOFFSETTO:-0500
TZNAME:CDT
DTSTART:20250309T080000
END:DAYLIGHT
BEGIN:STANDARD
TZOFFSETFROM:-0500
TZOFFSETTO:-0600
TZNAME:CST
DTSTART:20251102T070000
END:STANDARD
BEGIN:DAYLIGHT
TZOFFSETFROM:-0600
TZOFFSETTO:-0500
TZNAME:CDT
DTSTART:20260308T080000
END:DAYLIGHT
BEGIN:STANDARD
TZOFFSETFROM:-0500
TZOFFSETTO:-0600
TZNAME:CST
DTSTART:20261101T070000
END:STANDARD
END:VTIMEZONE
BEGIN:VEVENT
DTSTART;TZID=America/Chicago:20251229T170000
DTEND;TZID=America/Chicago:20251229T200000
DTSTAMP:20260421T054853
CREATED:20251216T164722Z
LAST-MODIFIED:20251216T164722Z
UID:10003280-1767027600-1767038400@presqueisle.com
SUMMARY:WinMan Trails Snowshoe Social
DESCRIPTION:Join us at WinMan for an evening of fun! Casual snowshoe adventures depart every 30 minutes\, or you can relax in the Chalet with a drink from the WinMan Bar with all bar proceeds supporting winter trail maintenance. Free snowshoes are available to borrow\, so there’s no excuse not to join us for an evening of camaraderie and fun! This is a free event from 5-8pm. \nContact: WinMan Trails\, (646) 543-8784 or info@winmantrails.com.
URL:https://presqueisle.com/event/winman-trails-snowshoe-social/
LOCATION:Winman Trails\, 6870 County Hwy W\, Winchester\, WI\, 54557\, United States
END:VEVENT
END:VCALENDAR